BEGIN:VCALENDAR
VERSION:2.0
PRODID:-//Beon - ECPv6.15.17.1//NONSGML v1.0//EN
CALSCALE:GREGORIAN
METHOD:PUBLISH
X-WR-CALNAME:Beon
X-ORIGINAL-URL:https://beon.red
X-WR-CALDESC:Eventos para Beon
REFRESH-INTERVAL;VALUE=DURATION:PT1H
X-Robots-Tag:noindex
X-PUBLISHED-TTL:PT1H
BEGIN:VTIMEZONE
TZID:Europe/Madrid
BEGIN:DAYLIGHT
TZOFFSETFROM:+0100
TZOFFSETTO:+0200
TZNAME:CEST
DTSTART:20220327T010000
END:DAYLIGHT
BEGIN:STANDARD
TZOFFSETFROM:+0200
TZOFFSETTO:+0100
TZNAME:CET
DTSTART:20221030T010000
END:STANDARD
BEGIN:DAYLIGHT
TZOFFSETFROM:+0100
TZOFFSETTO:+0200
TZNAME:CEST
DTSTART:20230326T010000
END:DAYLIGHT
BEGIN:STANDARD
TZOFFSETFROM:+0200
TZOFFSETTO:+0100
TZNAME:CET
DTSTART:20231029T010000
END:STANDARD
BEGIN:DAYLIGHT
TZOFFSETFROM:+0100
TZOFFSETTO:+0200
TZNAME:CEST
DTSTART:20240331T010000
END:DAYLIGHT
BEGIN:STANDARD
TZOFFSETFROM:+0200
TZOFFSETTO:+0100
TZNAME:CET
DTSTART:20241027T010000
END:STANDARD
END:VTIMEZONE
BEGIN:VEVENT
DTSTART;TZID=Europe/Madrid:20230123T120000
DTEND;TZID=Europe/Madrid:20230123T130000
DTSTAMP:20260421T102958
CREATED:20260202T162044Z
LAST-MODIFIED:20260209T143613Z
UID:2202-1674475200-1674478800@beon.red
SUMMARY:Formación en Competencias Saludables: Reto de 50 días de Estilo de Vida Activo y Saludable
DESCRIPTION:100% Online: Microsoft Teams. Gratuito para socios/as BeOn*.\n \n¿Eres un profesional de la PRL que está buscando incorporar nuevos hábitos saludables o aprender a inspirar a las personas de tu organización a hacerlo?  \nDesde BeOn* y Saludando desarrollamos este programa formativo práctico\, vestido de reto de 50 días\, en el que estimularemos la creación de hábitos de actividad física\,  alimentación\, sueño y liderazgo saludable.   \nDel 23 de enero al 12 de marzo\, siete semanas para jugar al deporte de cuidarse y que puede ser seguido 100% a través de tu teléfono móvil u ordenador. Una metodología en la que los profesionales de Saludando os ayudarán a un grupo de personas y compañeros de profesión\, a mantener el foco y solventar cada una de las dificultades que te encuentres en este proceso de introducción de nuevos hábitos. \nNo es necesario ningún nivel físico. Si tienes el ok del médico para poder realizar actividad física\, puedes desarrollar las propuestas físicas que te pondremos y que no te llevarán más de 1-2 horas a la semana en función de tu nivel. Tras los 50 días sentirás un cuerpo mucho más fuerte y más flexible. Simplemente necesitas una colchoneta. \n \n¿Cómo es la operativa del Reto de 50 días?\n \n Tres reuniones online de 60 min relacionadas con la creación de hábitos y el contexto actual. Contextualizaremos el entorno actual\, el propósito de la formación y cómo sacarle partido a la misma. \n\n\n\n\n\nPresentación abierta: Viernes 20 Enero. 12.00 a 13.00 h.\nReunión de seguimiento: Jueves 16 Febrero. 12.00 a 13.00 h.\nFormación final: Viernes 10 Marzo. 12.00 a 13.00 horas.\n\n\n\n\n\n Te integramos en un grupo de Telegram privado en el que las 30 personas compartiremos nuestras dificultades y soluciones para integrar en el día a día hábitos saludables. \n Cada semana pondremos foco en un reto: comer más fruta y verdura\, andar unos pasos más de lo habitual\, sacar un par de veces a la semana 25 minutos para cuidarnos a través de la fuerza y la movilidad\, organizar nuestras comidas a través del plato de Harvard\, hacer compras en el supermercado más conscientes… \n Se requiere una conexión de unos 15 minutos al día\, a la hora que quieras\, para compartir tus experiencias en el grupo de Telegram. \n Se requiere comprometerse con al menos 2 entrenamientos a la semana\, que se proponen a lo largo de la misma. \n\n\n\nDiferentes niveles\, para que escojas el que mejor se adapte a ti.\nVideo-entrenamientos de 20 minutos.\nGrabados para que puedas adaptarlos a tu conciliación personal. ¡Sin horarios!\n\n\n\n\n\n ¿Quieres saber más? \n\nMáximo 2 personas por organización.\nAforo limitado: 30 plazas.\nGratuito para miembros de BeOn*.\n\n\nRegistro en Webinar de Presentación (20 enero).\nRegistro en Reto de 50 días (23 enero a 12 marzo).\n		\n			\n						iCs\n					\n		\n¿Quieres asistir a algún evento o saber más sobre la asociación? ¡Contáctanos sin compromiso! prlinnovacion@beon.red / 917 692 410\n\n\nAquí puede descargar el .ics básico para importarlo a su calendario personal y reservar la fecha y hora. En eventos online\, en el email de confirmación de plaza se adjuntará un nuevo .ics con la url de acceso.\n			Cargando…
URL:https://beon.red/evento/formacion-en-competencias-saludables-reto-de-50-dias-de-estilo-de-vida-activo-y-saludable/
CATEGORIES:Formación
ATTACH;FMTTYPE=image/webp:https://beon.red/wp-content/uploads/2026/02/RETO-50-Saludando-Prl-Formato-Horizontal-scaled.webp
END:VEVENT
END:VCALENDAR