BEGIN:VCALENDAR
VERSION:2.0
PRODID:-//Beon - ECPv6.15.17.1//NONSGML v1.0//EN
CALSCALE:GREGORIAN
METHOD:PUBLISH
X-WR-CALNAME:Beon
X-ORIGINAL-URL:https://beon.red
X-WR-CALDESC:Eventos para Beon
REFRESH-INTERVAL;VALUE=DURATION:PT1H
X-Robots-Tag:noindex
X-PUBLISHED-TTL:PT1H
BEGIN:VTIMEZONE
TZID:Europe/Madrid
BEGIN:DAYLIGHT
TZOFFSETFROM:+0100
TZOFFSETTO:+0200
TZNAME:CEST
DTSTART:20220327T010000
END:DAYLIGHT
BEGIN:STANDARD
TZOFFSETFROM:+0200
TZOFFSETTO:+0100
TZNAME:CET
DTSTART:20221030T010000
END:STANDARD
BEGIN:DAYLIGHT
TZOFFSETFROM:+0100
TZOFFSETTO:+0200
TZNAME:CEST
DTSTART:20230326T010000
END:DAYLIGHT
BEGIN:STANDARD
TZOFFSETFROM:+0200
TZOFFSETTO:+0100
TZNAME:CET
DTSTART:20231029T010000
END:STANDARD
BEGIN:DAYLIGHT
TZOFFSETFROM:+0100
TZOFFSETTO:+0200
TZNAME:CEST
DTSTART:20240331T010000
END:DAYLIGHT
BEGIN:STANDARD
TZOFFSETFROM:+0200
TZOFFSETTO:+0100
TZNAME:CET
DTSTART:20241027T010000
END:STANDARD
END:VTIMEZONE
BEGIN:VEVENT
DTSTART;TZID=Europe/Madrid:20230626T093000
DTEND;TZID=Europe/Madrid:20230627T173000
DTSTAMP:20260421T071321
CREATED:20260202T162101Z
LAST-MODIFIED:20260209T143613Z
UID:2213-1687771800-1687887000@beon.red
SUMMARY:Curso 'Gestión de Conflictos y Acoso Laboral'. IV Edición
DESCRIPTION:🧩 Programa interactivo ⬇️ \n			\n						Próxima edición: 18 y 19 septiembre\n					 \nTarifas \nNo asociados a BeOn*: 499€ + IVA / plaza \nAsociados a BeOn*: 299€ + IVA / plaza \nObjetivos \nUn taller de 12 horas presenciales -bonificables- para profesionales de la prevención\, desarrollado en colaboración con AfforHealth y en el que aprender con expertos docentes a: \n\nIdentificar el acoso laboral y distinguirlo del mero conflicto y de otras figuras afines\, adquiriendo los conocimientos necesarios para la implantación y aplicación de mecanismos de respuesta para la prevención y tratamiento del acoso laboral y para la gestión de los conflictos.\nConocer las medidas preventivas que pueden implantarse en la empresa para evitar que se produzcan este tipo de conductas y darles a cada una de ellas un adecuado tratamiento\, una vez que las mismas se han producido.\nAdquirir los conocimientos necesarios para la correcta aplicación de los protocolos de acoso y de gestión de conflictos en la empresa.\n\nLunes 26 Junio \n\nMODULO 1 VIOLENCIA LABORAL Y ACOSO LABORAL: DEFINICIÓN\, DIFERENCIAS CON OTRAS FIGURAS Y TIPOS\n\nViolencia laboral: definición y tipos\nAcoso laboral: definición\, tipos y diferencias con otras figuras.\nFases del acoso y consecuencias del acoso.\nCasos prácticos.\n\n\nMODULO 2. BUENAS PRÁCTICAS EMPRESARIALES. PROTOCOLOS\n\nBuenas prácticas empresariales: El Protocolo de acoso: características del procedimiento interno.\nEl protocolo conjunto de gestión de conflictos y Violencia laboral: principales ventajas\n\n\nCasos prácticos: vías de reclamación por acoso. Debate.\n\nMartes 27 Junio \n\nMODULO 3. GESTIÓN DE CONFLICTOS EN EL ÁMBITO DE LAS RELACIONES LABORALES: La mediación como principal herramienta.\n\nIntroducción a la mediación: El conflicto (definición y tipos). La mediación (definición y principios básicos).\nEl Protocolo de resolución de conflictos.\nFases del proceso de mediación y rol del mediador.\nLos documentos del proceso de mediación: acta constitutiva\, acta de sesión y acta final.\nEl acuerdo de mediación.\n\n\nMODULO 4. LA FIGURA DEL MEDIADOR. TÉCNICAS Y HABILIDADES\n\nCaracterísticas de la figura del mediador.\nTécnicas y habilidades de negociación\, comunicación y mediación.\nEstrategias para la mediación.\n\n\nMODULO 5. TÉCNICAS DE INVESTIGACIÓN E INTERVENCIÓN EN EL PROCEDIMIENTO INTERNO.\n\nPunto de partida: Apertura de procedimiento.\nFuentes de información.\nLa entrevista.\nPrincipio de confidencialidad.\nEl informe de conclusiones\n\n\nCasos prácticos procedimiento interno acoso. Como realizar un buen informe de conclusiones. Debate
URL:https://beon.red/evento/curso-gestion-de-conflictos-y-acoso-laboral-iv-edicion/
CATEGORIES:Formación
ATTACH;FMTTYPE=image/webp:https://beon.red/wp-content/uploads/2026/02/acoso-2023.webp
END:VEVENT
END:VCALENDAR