BEGIN:VCALENDAR
VERSION:2.0
PRODID:-//Beon - ECPv6.15.17.1//NONSGML v1.0//EN
CALSCALE:GREGORIAN
METHOD:PUBLISH
X-ORIGINAL-URL:https://beon.red
X-WR-CALDESC:Eventos para Beon
REFRESH-INTERVAL;VALUE=DURATION:PT1H
X-Robots-Tag:noindex
X-PUBLISHED-TTL:PT1H
BEGIN:VTIMEZONE
TZID:Europe/Madrid
BEGIN:DAYLIGHT
TZOFFSETFROM:+0100
TZOFFSETTO:+0200
TZNAME:CEST
DTSTART:20220327T010000
END:DAYLIGHT
BEGIN:STANDARD
TZOFFSETFROM:+0200
TZOFFSETTO:+0100
TZNAME:CET
DTSTART:20221030T010000
END:STANDARD
BEGIN:DAYLIGHT
TZOFFSETFROM:+0100
TZOFFSETTO:+0200
TZNAME:CEST
DTSTART:20230326T010000
END:DAYLIGHT
BEGIN:STANDARD
TZOFFSETFROM:+0200
TZOFFSETTO:+0100
TZNAME:CET
DTSTART:20231029T010000
END:STANDARD
BEGIN:DAYLIGHT
TZOFFSETFROM:+0100
TZOFFSETTO:+0200
TZNAME:CEST
DTSTART:20240331T010000
END:DAYLIGHT
BEGIN:STANDARD
TZOFFSETFROM:+0200
TZOFFSETTO:+0100
TZNAME:CET
DTSTART:20241027T010000
END:STANDARD
END:VTIMEZONE
BEGIN:VEVENT
DTSTART;TZID=Europe/Madrid:20230918T093000
DTEND;TZID=Europe/Madrid:20230919T173000
DTSTAMP:20260423T211032
CREATED:20260202T162101Z
LAST-MODIFIED:20260209T143613Z
UID:2216-1695029400-1695144600@beon.red
SUMMARY:Curso 'Gestión de Conflictos y Acoso Laboral'. V Edición
DESCRIPTION:🧩 Programa interactivo ⬇️ \n			\n						Solicitar plaza\n					 \nTarifas \nNo asociados a BeOn*: 499€ + IVA / plaza \nAsociados a BeOn*: 299€ + IVA / plaza \nObjetivos \nUn taller de 12 horas presenciales -bonificables- para profesionales de la prevención\, desarrollado en colaboración con AfforHealth y en el que aprender con expertos docentes a: \n\nIdentificar el acoso laboral y distinguirlo del mero conflicto y de otras figuras afines\, adquiriendo los conocimientos necesarios para la implantación y aplicación de mecanismos de respuesta para la prevención y tratamiento del acoso laboral y para la gestión de los conflictos.\nConocer las medidas preventivas que pueden implantarse en la empresa para evitar que se produzcan este tipo de conductas y darles a cada una de ellas un adecuado tratamiento\, una vez que las mismas se han producido.\nAdquirir los conocimientos necesarios para la correcta aplicación de los protocolos de acoso y de gestión de conflictos en la empresa.\n\nLunes 18 Septiembre \n\nMODULO 1 VIOLENCIA LABORAL Y ACOSO LABORAL: DEFINICIÓN\, DIFERENCIAS CON OTRAS FIGURAS Y TIPOS\n\nViolencia laboral: definición y tipos\nAcoso laboral: definición\, tipos y diferencias con otras figuras.\nFases del acoso y consecuencias del acoso.\nCasos prácticos.\n\n\nMODULO 2. BUENAS PRÁCTICAS EMPRESARIALES. PROTOCOLOS\n\nBuenas prácticas empresariales: El Protocolo de acoso: características del procedimiento interno.\nEl protocolo conjunto de gestión de conflictos y Violencia laboral: principales ventajas\n\n\nCasos prácticos: vías de reclamación por acoso. Debate.\n\nMartes 19 Septiembre \n\nMODULO 3. GESTIÓN DE CONFLICTOS EN EL ÁMBITO DE LAS RELACIONES LABORALES: La mediación como principal herramienta.\n\nIntroducción a la mediación: El conflicto (definición y tipos). La mediación (definición y principios básicos).\nEl Protocolo de resolución de conflictos.\nFases del proceso de mediación y rol del mediador.\nLos documentos del proceso de mediación: acta constitutiva\, acta de sesión y acta final.\nEl acuerdo de mediación.\n\n\nMODULO 4. LA FIGURA DEL MEDIADOR. TÉCNICAS Y HABILIDADES\n\nCaracterísticas de la figura del mediador.\nTécnicas y habilidades de negociación\, comunicación y mediación.\nEstrategias para la mediación.\n\n\nMODULO 5. TÉCNICAS DE INVESTIGACIÓN E INTERVENCIÓN EN EL PROCEDIMIENTO INTERNO.\n\nPunto de partida: Apertura de procedimiento.\nFuentes de información.\nLa entrevista.\nPrincipio de confidencialidad.\nEl informe de conclusiones\n\n\nCasos prácticos procedimiento interno acoso. Como realizar un buen informe de conclusiones. Debate
URL:https://beon.red/evento/curso-gestion-de-conflictos-y-acoso-laboral-v-edicion/
CATEGORIES:Formación
ATTACH;FMTTYPE=image/webp:https://beon.red/wp-content/uploads/2026/02/curso-affor-acoso-v-septiembre-2023.webp
END:VEVENT
BEGIN:VEVENT
DTSTART;TZID=Europe/Madrid:20230925T093000
DTEND;TZID=Europe/Madrid:20230926T180000
DTSTAMP:20260423T211032
CREATED:20260202T162108Z
LAST-MODIFIED:20260209T143613Z
UID:2220-1695634200-1695751200@beon.red
SUMMARY:Curso Gestión Jurídica del Accidente de Trabajo. III Edición
DESCRIPTION:🧩 Programa interactivo ⬇️ \nObjetivos \nUn taller de 14 horas presenciales -bonificables- para profesionales de la prevención\, desarrollado en colaboración con AJP y en el que expertos del ámbito judicial te ayudarán a: \n\nConocer las consecuencias legales que se derivan del accidente y las medidas que deben adoptarse desde las primeras fases para garantizar la cobertura legal de la empresa\, de sus directivos y mandos intermedios.\nIdentificar las actuaciones inmediatas y las técnicas adecuadas para abordarlas.\n\n\nAnalizar las técnicas y pautas adecuadas para la toma de datos\, recopilación documental y elaboración de informes.\n\n Tarifas \n\nNo asociados a BeOn*: 499€ + IVA / plaza\nAsociados a BeOn*: 299€ + IVA / plaza\n\n			\n						Solicitar plaza\n					 \nLunes 25 septiembre 2023 \n\n09:03 – 11:30 H El sistema de exigencias de responsabilidades legales.\n12:00 – 14:00 H Actuaciones posteriores. Toma de datos\, visita e investigación del accidente.\n15:00 – 16:30 H Criterios de actuación de los técnicos de los institutos regionales de Seguridad y Salud.\n16:30 – 18:00 H Actuaciones posteriores. Toma de datos\, visita e investigación del accidente.\n\nMartes 26 septiembre 2023 \n\n09:30 – 11:30 H Criterios de actuación de la ITSS.\n12:00 – 14:00 H Actuación del Juzgado de Instrucción y Fiscalía Siniestralidad Laboral.\n15:00 – 18:00 H Planes de contingencia y protocolos.
URL:https://beon.red/evento/curso-gestion-juridica-del-accidente-de-trabajo-iii-edicion/
CATEGORIES:Formación
ATTACH;FMTTYPE=image/webp:https://beon.red/wp-content/uploads/2026/02/curso-gestion-juridica-accidente-trabajo-sept.webp
END:VEVENT
END:VCALENDAR