BEGIN:VCALENDAR
VERSION:2.0
PRODID:-//Beon - ECPv6.15.17.1//NONSGML v1.0//EN
CALSCALE:GREGORIAN
METHOD:PUBLISH
X-ORIGINAL-URL:https://beon.red
X-WR-CALDESC:Eventos para Beon
REFRESH-INTERVAL;VALUE=DURATION:PT1H
X-Robots-Tag:noindex
X-PUBLISHED-TTL:PT1H
BEGIN:VTIMEZONE
TZID:Europe/Madrid
BEGIN:DAYLIGHT
TZOFFSETFROM:+0100
TZOFFSETTO:+0200
TZNAME:CEST
DTSTART:20220327T010000
END:DAYLIGHT
BEGIN:STANDARD
TZOFFSETFROM:+0200
TZOFFSETTO:+0100
TZNAME:CET
DTSTART:20221030T010000
END:STANDARD
BEGIN:DAYLIGHT
TZOFFSETFROM:+0100
TZOFFSETTO:+0200
TZNAME:CEST
DTSTART:20230326T010000
END:DAYLIGHT
BEGIN:STANDARD
TZOFFSETFROM:+0200
TZOFFSETTO:+0100
TZNAME:CET
DTSTART:20231029T010000
END:STANDARD
BEGIN:DAYLIGHT
TZOFFSETFROM:+0100
TZOFFSETTO:+0200
TZNAME:CEST
DTSTART:20240331T010000
END:DAYLIGHT
BEGIN:STANDARD
TZOFFSETFROM:+0200
TZOFFSETTO:+0100
TZNAME:CET
DTSTART:20241027T010000
END:STANDARD
END:VTIMEZONE
BEGIN:VEVENT
DTSTART;TZID=Europe/Madrid:20231120T093000
DTEND;TZID=Europe/Madrid:20231121T180000
DTSTAMP:20260423T181356
CREATED:20260202T162125Z
LAST-MODIFIED:20260209T143612Z
UID:2230-1700472600-1700589600@beon.red
SUMMARY:Curso Gestión Jurídica del Accidente de Trabajo. IV Edición
DESCRIPTION:🧩 Programa interactivo ⬇️ \nObjetivos \nUn taller de 14 horas presenciales -bonificables- para profesionales de la prevención\, desarrollado en colaboración con AJP y en el que expertos del ámbito judicial te ayudarán a: \n\nConocer las consecuencias legales que se derivan del accidente y las medidas que deben adoptarse desde las primeras fases para garantizar la cobertura legal de la empresa\, de sus directivos y mandos intermedios.\nIdentificar las actuaciones inmediatas y las técnicas adecuadas para abordarlas.\n\n\nAnalizar las técnicas y pautas adecuadas para la toma de datos\, recopilación documental y elaboración de informes.\n\n Tarifas \n\nNo asociados a BeOn*: 499€ + IVA / plaza\nAsociados a BeOn*: 299€ + IVA / plaza\n\n			\n						Solicitar plaza\n					 \nLunes 20 noviembre 2023 \n\n09:03 – 11:30 H El sistema de exigencias de responsabilidades legales.\n12:00 – 14:00 H Actuaciones posteriores. Toma de datos\, visita e investigación del accidente.\n15:00 – 16:30 H Criterios de actuación de los técnicos de los institutos regionales de Seguridad y Salud.\n16:30 – 18:00 H Actuaciones posteriores. Toma de datos\, visita e investigación del accidente.\n\nMartes 21 noviembre 2023 \n\n09:30 – 11:30 H Criterios de actuación de la ITSS.\n12:00 – 14:00 H Actuación del Juzgado de Instrucción y Fiscalía Siniestralidad Laboral.\n15:00 – 18:00 H Planes de contingencia y protocolos.
URL:https://beon.red/evento/curso-gestion-juridica-del-accidente-de-trabajo-iv-edicion/
CATEGORIES:Formación
ATTACH;FMTTYPE=image/webp:https://beon.red/wp-content/uploads/2026/02/curso-accidentes-ajp-iv-edicion-noviembre-2023-1.webp
END:VEVENT
END:VCALENDAR