BEGIN:VCALENDAR
VERSION:2.0
PRODID:-//Beon - ECPv6.15.17.1//NONSGML v1.0//EN
CALSCALE:GREGORIAN
METHOD:PUBLISH
X-ORIGINAL-URL:https://beon.red
X-WR-CALDESC:Eventos para Beon
REFRESH-INTERVAL;VALUE=DURATION:PT1H
X-Robots-Tag:noindex
X-PUBLISHED-TTL:PT1H
BEGIN:VTIMEZONE
TZID:Europe/Madrid
BEGIN:DAYLIGHT
TZOFFSETFROM:+0100
TZOFFSETTO:+0200
TZNAME:CEST
DTSTART:20230326T010000
END:DAYLIGHT
BEGIN:STANDARD
TZOFFSETFROM:+0200
TZOFFSETTO:+0100
TZNAME:CET
DTSTART:20231029T010000
END:STANDARD
BEGIN:DAYLIGHT
TZOFFSETFROM:+0100
TZOFFSETTO:+0200
TZNAME:CEST
DTSTART:20240331T010000
END:DAYLIGHT
BEGIN:STANDARD
TZOFFSETFROM:+0200
TZOFFSETTO:+0100
TZNAME:CET
DTSTART:20241027T010000
END:STANDARD
BEGIN:DAYLIGHT
TZOFFSETFROM:+0100
TZOFFSETTO:+0200
TZNAME:CEST
DTSTART:20250330T010000
END:DAYLIGHT
BEGIN:STANDARD
TZOFFSETFROM:+0200
TZOFFSETTO:+0100
TZNAME:CET
DTSTART:20251026T010000
END:STANDARD
END:VTIMEZONE
BEGIN:VEVENT
DTSTART;TZID=Europe/Madrid:20240402T153000
DTEND;TZID=Europe/Madrid:20240402T170000
DTSTAMP:20260423T110017
CREATED:20260202T162159Z
LAST-MODIFIED:20260209T143612Z
UID:2250-1712071800-1712077200@beon.red
SUMMARY:Curso 'Organiza tu equipo con OKRs. Una gestión práctica y efectiva adaptada a SSB'
DESCRIPTION:Testimonios de Alumnos \nWebinar ‘OKR para el Bienestar Integral’ \nWebinar OKR I PRL Innovation _ Marzo 24 (1)_compressed_compressed\n🧩 Programa interactivo ⬇️ \n			Your browser does not support the video tag.		 \n¡Transforma la gestión de tu equipo y alcanza grandes resultados con el curso intensivo en colaboración con Master Me Up sobre la metodología OKR adaptados a la seguridad\, salud y bienestar! En tan solo 4 semanas\, aprenderás a implementar y aprovechar al máximo esta poderosa herramienta de gestión. ¡Prepárate para lanzar una prueba piloto en el próximo trimestre y experimentar un cambio significativo en la ejecución y los resultados! \n			\n						SOLICITAR PLAZA\n					 \nTarifas \nNo asociados a BeOn*: 549€ + IVA / plaza \nAsociados a BeOn*: 339€ + IVA / plaza \nDurante las 4 semanas\, te sumergirás en los fundamentos y las mejores prácticas de la metodología OKR. Algunos de los temas que cubriremos incluyen: \n\nIntroducción a los OKRs y su importancia.\nDefinición de objetivos y resultados clave efectivos.\nImplementación práctica en equipos y organizaciones adaptadas a la seguridad\, salud y bienestar\nResolución de desafíos comunes en la aplicación de OKRs.\n\n¡Aprende y empieza a usar OKR´para llevar tu desempeño al siguiente nivel y si gestionas equipos prepárate para transformar la manera en que lideras y gestionas tu equipo con el curso de BeOn* en colaboración con Master Me Up sobre OKRs! Inscríbete ahora y comienza tu viaje hacia una gestión más efectiva y resultados extraordinarios. ¡No te pierdas esta oportunidad de impulsar el éxito de tu equipo \nTodos los Martes y Jueves de Abril. Del Martes 2 al Jueves 25. De 15:30 a 17:00 horas \nSemana 1 – Martes 2 y Jueves 4 de Abril \nIntroducción y preparación para el bootcamp \n\nSesión de Kick Off en comunidad \nAprende el ABC de la metodología \nCompleta tu checklist en nuestra plataforma \nProyecto: OKR’s Personales\n\nSemana 2 – Martes 9 y Jueves 11 de Abril \nPilares Estratégicos y Redacción de OKR’s corporativos \n\nFundamentos y principios del método\nRedacta potentes OKR’s con impacto\nConecta Ejes estratégicos con OKR’s anuales\nProyecto: Definición de OKR’s corporativos\n\nSemana 3 – Martes 16 y Jueves 18 de Abril \nEjecutando con OKR’s a nivel equipo \n\nEstructura de OKR’s y definición trimestral\nEstrategia de alineación vs. cascadeo\nKR’s de logro vs KR’s de actividad\nProyecto: OKRs nivel equipo\n\nSemana 4 – Martes 23 y Jueves 25 de Abril \nEscala tu equipo con OKRs \n\nDefinición OKRs colaborativos\nCiclo de revisión\, seguimiento y planeamiento\nNiveles de confianza\, herramientas y rituales\nProyecto: OKRs colaborativos y herramientas
URL:https://beon.red/evento/curso-organiza-tu-equipo-con-okrs-una-gestion-practica-y-efectiva-adaptada-a-ssb/
CATEGORIES:Formación
ATTACH;FMTTYPE=image/webp:https://beon.red/wp-content/uploads/2026/02/curso-formacion-okr-gestion-equipo-ssb.webp
END:VEVENT
END:VCALENDAR