BEGIN:VCALENDAR
VERSION:2.0
PRODID:-//Beon - ECPv6.15.17.1//NONSGML v1.0//EN
CALSCALE:GREGORIAN
METHOD:PUBLISH
X-WR-CALNAME:Beon
X-ORIGINAL-URL:https://beon.red
X-WR-CALDESC:Eventos para Beon
REFRESH-INTERVAL;VALUE=DURATION:PT1H
X-Robots-Tag:noindex
X-PUBLISHED-TTL:PT1H
BEGIN:VTIMEZONE
TZID:Europe/Madrid
BEGIN:DAYLIGHT
TZOFFSETFROM:+0100
TZOFFSETTO:+0200
TZNAME:CEST
DTSTART:20230326T010000
END:DAYLIGHT
BEGIN:STANDARD
TZOFFSETFROM:+0200
TZOFFSETTO:+0100
TZNAME:CET
DTSTART:20231029T010000
END:STANDARD
BEGIN:DAYLIGHT
TZOFFSETFROM:+0100
TZOFFSETTO:+0200
TZNAME:CEST
DTSTART:20240331T010000
END:DAYLIGHT
BEGIN:STANDARD
TZOFFSETFROM:+0200
TZOFFSETTO:+0100
TZNAME:CET
DTSTART:20241027T010000
END:STANDARD
BEGIN:DAYLIGHT
TZOFFSETFROM:+0100
TZOFFSETTO:+0200
TZNAME:CEST
DTSTART:20250330T010000
END:DAYLIGHT
BEGIN:STANDARD
TZOFFSETFROM:+0200
TZOFFSETTO:+0100
TZNAME:CET
DTSTART:20251026T010000
END:STANDARD
END:VTIMEZONE
BEGIN:VEVENT
DTSTART;TZID=Europe/Madrid:20240611T093000
DTEND;TZID=Europe/Madrid:20240611T133000
DTSTAMP:20260423T132306
CREATED:20260202T162216Z
LAST-MODIFIED:20260323T111703Z
UID:2263-1718098200-1718112600@beon.red
SUMMARY:Los Planes de Igualdad y la Diversidad Generacional desde la perspectiva SSB
DESCRIPTION:11 de junio de 2024\, de 09:30 a 13:30 horas.  Universidad Europea. Av. de Fernando Alonso\, 8\, Alcobendas\, Madrid. *Grabación y recursos posteriores sólo disponibles para asociados/as de BeOn*. +información 917692410 prlinnovacion@prlinnovación.com   09:45 h Situación de los Planes de Igualdad en las empresas\, barreras para su implementación\, Perspectiva de género y su aplicabilidad en PRL.Fernando Minaya. TSPRL\, Experto en Perspectiva de Género. Consultor de Igualdad. AJP. 10:20 h Visión y actuación de la inspección de trabajo en la implantación de Planes de Igualdad.Laura Gil Mazcuñan. Inspectora de Trabajo. Valencia. 10:50 Café Networking 11:20 Casos de éxito en la implantación de Planes de Igualdad en la empresa.Exposición de caso de éxito en la empresa Knauf.Daniel Orta. Dir. de personas. People Director & Compliance Officer.Exposición de barreras en consultoría en Igualdad.Francisco Gutiérrez. Consultor de RRHH (socio de ESPE S.L.).Acciones en igualdad tras la implantación del Plan de Igualdad.Susana Toril Velasco . Directora personas y Diversidad de ENAGASDiversidad\, Igualdad y Equidad en EY.Silvia Hernández\, Responsable del SPM y Plan de Igualdad en EY 12:45 Envejecimiento de la población activa y los programas de empresa saludable.Amanda Orrego Mariño. Proyect Manager. quironprevención 13:15 h Ruegos y preguntas  13:30 h Fin de la jornada 		\n			\n									SOLICITUD DE PLAZA
URL:https://beon.red/evento/los-planes-de-igualdad-y-la-diversidad-generacional-desde-la-perspectiva-ssb/
CATEGORIES:Jornadas
ATTACH;FMTTYPE=image/webp:https://beon.red/wp-content/uploads/2026/02/diversidad-igualdad-edad-ssb.webp
END:VEVENT
BEGIN:VEVENT
DTSTART;TZID=Europe/Madrid:20240613T100000
DTEND;TZID=Europe/Madrid:20240613T130000
DTSTAMP:20260423T132306
CREATED:20260202T162216Z
LAST-MODIFIED:20260323T111654Z
UID:2262-1718272800-1718283600@beon.red
SUMMARY:Palma | Estrategias para la reducción de la accidentabilidad y EEPP ligadas a los TMEs
DESCRIPTION:RESERVAR PLAZA PRESENCIAL\n					\n			\n									INSCRIBIRSE PARA EGUIRLO ONLINE
URL:https://beon.red/evento/palma-estrategias-para-la-reduccion-de-la-accidentabilidad-y-eepp-ligadas-a-los-tmes/
CATEGORIES:Jornadas
ATTACH;FMTTYPE=image/webp:https://beon.red/wp-content/uploads/2026/02/20240613-caeb-ergonomia-palma.webp
END:VEVENT
BEGIN:VEVENT
DTSTART;TZID=Europe/Madrid:20240619T093000
DTEND;TZID=Europe/Madrid:20240619T133000
DTSTAMP:20260423T132306
CREATED:20260202T162211Z
LAST-MODIFIED:20260323T111650Z
UID:2257-1718789400-1718803800@beon.red
SUMMARY:Herramientas de Innovación e Inteligencia Artificial aplicadas a la SSB
DESCRIPTION:19 de junio de 2024\, de 09:30 a 13:30 horas.  EY wavespace™. C/Raimundo Fernández Villaverde\, 65\, Tetuán\, 28003 Madrid *Grabación y recursos posteriores sólo disponibles para asociados/as de BeOn*. +información prlinnovacion@beon.red 917692410  		\n			\n									SOLICITUD DE PLAZA\n					\n		 09:30 Registro y Networking 10:00 Apertura y BienvenidaHernán Bastiani\, Innovation & Open Innovation Manager\, EY wavespace 10:15 Evolución de IA hacia Gen AI\, el camino de EY.Diego García Puado\, Partner – AI Leader de EY. 11:00 Pausa Café  11.30 Inteligencia Artificial aplicada a la SSB.Joaquim Ruiz\, Director Ejecutivo\, PrevenControl. 12:00 La IA aplicada a la mejora en ergonomía.Mercedes Sanchís\, Head of Innovation – Occupational Safety and Health Promotion. IBV 12.30 No-code. Mejorando la operativa interna sin depender de programadores.Alex Vaughtton. Fundador de NoCodehackers 13:00 Tendencias en el uso de la IA en la salud.Iñaki Markinez\, Co-founder\, Fisity. 13:30 Cierre
URL:https://beon.red/evento/herramientas-de-innovacion-e-inteligencia-artificial-aplicadas-a-la-ssb/
CATEGORIES:Jornadas
ATTACH;FMTTYPE=image/webp:https://beon.red/wp-content/uploads/2026/02/innovacion-inteligencia-artificial-seguridad-salud.webp
END:VEVENT
END:VCALENDAR