BEGIN:VCALENDAR
VERSION:2.0
PRODID:-//Beon - ECPv6.15.17.1//NONSGML v1.0//EN
CALSCALE:GREGORIAN
METHOD:PUBLISH
X-ORIGINAL-URL:https://beon.red
X-WR-CALDESC:Eventos para Beon
REFRESH-INTERVAL;VALUE=DURATION:PT1H
X-Robots-Tag:noindex
X-PUBLISHED-TTL:PT1H
BEGIN:VTIMEZONE
TZID:Europe/Madrid
BEGIN:DAYLIGHT
TZOFFSETFROM:+0100
TZOFFSETTO:+0200
TZNAME:CEST
DTSTART:20230326T010000
END:DAYLIGHT
BEGIN:STANDARD
TZOFFSETFROM:+0200
TZOFFSETTO:+0100
TZNAME:CET
DTSTART:20231029T010000
END:STANDARD
BEGIN:DAYLIGHT
TZOFFSETFROM:+0100
TZOFFSETTO:+0200
TZNAME:CEST
DTSTART:20240331T010000
END:DAYLIGHT
BEGIN:STANDARD
TZOFFSETFROM:+0200
TZOFFSETTO:+0100
TZNAME:CET
DTSTART:20241027T010000
END:STANDARD
BEGIN:DAYLIGHT
TZOFFSETFROM:+0100
TZOFFSETTO:+0200
TZNAME:CEST
DTSTART:20250330T010000
END:DAYLIGHT
BEGIN:STANDARD
TZOFFSETFROM:+0200
TZOFFSETTO:+0100
TZNAME:CET
DTSTART:20251026T010000
END:STANDARD
END:VTIMEZONE
BEGIN:VEVENT
DTSTART;TZID=Europe/Madrid:20240917T100000
DTEND;TZID=Europe/Madrid:20240917T140000
DTSTAMP:20260423T084248
CREATED:20260202T162226Z
LAST-MODIFIED:20260323T111645Z
UID:2269-1726567200-1726581600@beon.red
SUMMARY:(Barcelona) Los Planes de Igualdad y la Diversidad Generacional desde la perspectiva SSB
DESCRIPTION:La gestión de la diversidad implica un conjunto de medidas destinadas a garantizar la inclusión y la igualdad de oportunidades de las personas en las empresas. Se trata de un proceso complejo tanto en el plano legal como en su aplicación dado su alcance (diversidad funcional\, de género\, sexual\, cultural\, étnica\, religiosa\, generacional…). En esta jornada\, nos vamos a centrar en el abordaje de la diversidad de género (planes de igualdad) y la diversidad generacional desde la perspectiva de la seguridad y salud y el bienestar. ¿Cuál es la situación actual de los planes de igualdad? ¿Qué barreras podemos encontrar en su implementación? ¿Cómo pueden las empresas afrontar el envejecimiento de sus trabajadores? ¿Cómo implementar un programa de empresa saludable? 10:00 h Presentación.Sr. César Sánchez. Director Oficina Prevención Riesgos Laborales. Fomento del Trabajo.Sra. Sara Maroto. Directora de Comunicación. BeOn*.10:10 h Situación de los Planes de Igualdad en las empresas\, barreras para su implementación\, perspectiva de género y su aplicabilidad en PRL.Sr. Fernando Minaya. Técnico superior en PRL\, experto en Perspectiva de Género y Consultor deIgualdad. Asesoría jurídica y prevención (AJP).10:45 h Visión y actuación de la Inspección de Trabajo en la implantación de Planes de Igualdad.Sra. Laura Montserrat. Inspectora de Trabajo en Barcelona.11:15 h Señalización inclusiva en seguridad y salud laboral.Sra. Maribel Valenzuela. Experta en políticas públicas de igualdad de género del Institut Català de Seguretat i Salut Laboral.11:25 h Pausa /café.11:45 h Mesa redonda. Casos de éxito en la implantación de Planes de Igualdad en la empresa.Modera: Sr. Fernando Minaya. Técnico superior en PRL\, experto en Perspectiva de Género y Consultor de Igualdad. Asesoría jurídica y prevención (AJP).Exposición de caso de éxito en la empresa Knauf. Sr. Daniel Orta. People Director & Compliance Officer. Knauf Ibérica.Exposición de barreras en consultoría en Igualdad. Sr. Francisco Gutiérrez. Consultor de RRHH\, socio de ESPE SL.Diversidad\, Igualdad y Equidad en EY.Sra. Silvia Hernández. Assistant Director en el departamento de Talent. EY.Debate.12:45 h Gestión preventiva con perspectiva de género: el reto de la violencia y el acoso.Sra. Patricia Elgoibar. Profesora agregada. Departamento de Empresa. Universidad de Barcelona.13:10 h Envejecimiento de la población activa y los programas de empresa saludable.Sr. Javier Díaz. Responsable de empresa saludable. Quironprevención.13:35 h Preguntas de los asistentes.13:50 h Clausura.		\n			\n									DESCARGAR PROGRAMA\n					\n			\n									REGISTRO
URL:https://beon.red/evento/barcelona-los-planes-de-igualdad-y-la-diversidad-generacional-desde-la-perspectiva-ssb/
CATEGORIES:Jornadas
ATTACH;FMTTYPE=image/webp:https://beon.red/wp-content/uploads/2026/02/diversidad-igualdad-edad-seguridad-salud.webp
END:VEVENT
END:VCALENDAR