BEGIN:VCALENDAR
VERSION:2.0
PRODID:-//Beon - ECPv6.15.17.1//NONSGML v1.0//EN
CALSCALE:GREGORIAN
METHOD:PUBLISH
X-WR-CALNAME:Beon
X-ORIGINAL-URL:https://beon.red
X-WR-CALDESC:Eventos para Beon
REFRESH-INTERVAL;VALUE=DURATION:PT1H
X-Robots-Tag:noindex
X-PUBLISHED-TTL:PT1H
BEGIN:VTIMEZONE
TZID:Europe/Madrid
BEGIN:DAYLIGHT
TZOFFSETFROM:+0100
TZOFFSETTO:+0200
TZNAME:CEST
DTSTART:20230326T010000
END:DAYLIGHT
BEGIN:STANDARD
TZOFFSETFROM:+0200
TZOFFSETTO:+0100
TZNAME:CET
DTSTART:20231029T010000
END:STANDARD
BEGIN:DAYLIGHT
TZOFFSETFROM:+0100
TZOFFSETTO:+0200
TZNAME:CEST
DTSTART:20240331T010000
END:DAYLIGHT
BEGIN:STANDARD
TZOFFSETFROM:+0200
TZOFFSETTO:+0100
TZNAME:CET
DTSTART:20241027T010000
END:STANDARD
BEGIN:DAYLIGHT
TZOFFSETFROM:+0100
TZOFFSETTO:+0200
TZNAME:CEST
DTSTART:20250330T010000
END:DAYLIGHT
BEGIN:STANDARD
TZOFFSETFROM:+0200
TZOFFSETTO:+0100
TZNAME:CET
DTSTART:20251026T010000
END:STANDARD
END:VTIMEZONE
BEGIN:VEVENT
DTSTART;TZID=Europe/Madrid:20241001T100000
DTEND;TZID=Europe/Madrid:20241001T133000
DTSTAMP:20260423T071653
CREATED:20260202T162226Z
LAST-MODIFIED:20260323T111641Z
UID:2270-1727776800-1727789400@beon.red
SUMMARY:Planes de Movilidad y Seguridad Vial en las empresas: tendencias y soluciones
DESCRIPTION:01 de octubre de 2024\, de 10:00 a 13:30 horas.  Universidad Europea. Av. de Fernando Alonso\, 8\, Alcobendas\, Madrid. *Grabación y recursos posteriores sólo disponibles para asociados/as de BeOn*. +información 917692410 prlinnovacion@prlinnovación.com   09:30 h Registro y Acceso.  10:00 h Situación actual de los Planes de Movilidad y Seguridad Vial: contexto y normativa.Fernando Minaya\, Experto en Movilidad y Seguridad Vial\, Accesibilidad\, AJP 10:30 h Implantación de Planes de Movilidad y Seguridad Vial: fases y claves del proceso.Ricardo Gutiérrez\, responsable de Relaciones Institucionales & Empresas\, Fundación CNAE 11:00 h Integración y adaptación de los Planes en la empresa para una Movilidad Segura y Sostenible. Rafael Fernández. Consultor Área Seguridad y Sistemas de Gestión PRL. Quirónprevención. 11:30 h Café Networking 12:00 h Mesa Redonda. Manuel Castro. Director Gerente y Secretario General de AMDA.Ángel Maeso. Director PRL en Sice.Ricardo Gutiérrez\, responsable de Relaciones Institucionales & Empresas\, Fundación CNAERafael Fernández. Consultor Área Seguridad y Sistemas de Gestión PRL. Quirónprevención.Fernando Minaya\, Experto en Movilidad y Seguridad Vial\, Accesibilidad\, AJP 13:25 h Clausura y conclusiones.Orestes Serrano. Director de Relaciones Institucionales de Fesvial. 13:30 h Fin  		\n			\n									SOLICITUD DE PLAZA
URL:https://beon.red/evento/planes-de-movilidad-y-seguridad-vial-en-las-empresas-tendencias-y-soluciones/
CATEGORIES:Jornadas
ATTACH;FMTTYPE=image/webp:https://beon.red/wp-content/uploads/2026/02/movilidad-seguridad-vial-1.webp
END:VEVENT
BEGIN:VEVENT
DTSTART;TZID=Europe/Madrid:20241028T090000
DTEND;TZID=Europe/Madrid:20241028T140000
DTSTAMP:20260423T071653
CREATED:20260202T162233Z
LAST-MODIFIED:20260323T123618Z
UID:2278-1730106000-1730124000@beon.red
SUMMARY:Jornada IRSST | I+D+i en Prevención de Riesgos Laborales
DESCRIPTION:📅 Fecha: 28 de octubre de 2024\n⏰ Horario: de 09:00 a 14:00 horas\n📍 Lugar: LaCabina. Distrito Telefónica.\n\n\n\n\n\nPROGRAMA \n⏰ 09:00 REGISTRO DE ASISTENTES. \n⏰ 09:30 BIENVENIDA INSTITUCIONAL. \n\n\n\nDaniel Rodríguez. Viceconsejero de Economía y Empleo de la Comunidad de Madrid.\nGuillermo Bataller. Responsable de Transformación e Innovación en el Corporate Innovation Center de Telefónica.\n\n\n\n⏰ 09:50 SOLUCIONES PARA GRANDES\, MEDIANAS Y PEQUEÑAS EMPRESAS. \n\n\n\nAmazon: a la vanguardia de la seguridad laboral.\n\nAugusto Inés. Jefe del Servicio de Prevención propio de Amazon.\n\n\nLa realidad de la PYME.\n\n Mercedes Garrido. Jefa de la Unidad Técnica de Construcción del IRSST.\n\n\nI+D+i para una transformación digital inteligente de la seguridad y salud laboral.\n\nMaribel Sánchez y Fuensanta Medina. Directoras de la Cátedra UC3M – IRSST.\nMario Maroto. Premiado de la Cátedra UC3M – IRRST\n\n\n\n\n\n⏰ 10:40 STARTUPS Y CREACIÓN + PATENTES. \n\n\n\nLa generación de conocimiento desde la universidad y su vínculo con la empresa.\n\nIván Manzanares. Director de la Oficina de Transferencia de los Resultados de Investigación OTRI UAM.\n\n\nLa innovación y su impacto en la propiedad intelectual y patentes.\n\nAlejandro Puerto Mendoza. Registrador Territorial de la Propiedad Intelectual de Madrid.\n\n\n\n\n\n⏰ 11:30 PASEO POR LACABINA + CAFÉ Y NETWORKING. \n⏰ 12:15 Espacio Startups. Con miembros de los equipos de Wayra y Telefónica. \n⏰ 12:40 EXPERIENCIAS INNOVADORAS EN EMPRESA \n\n\n\nLa apuesta global de Elecnor: Big data\, realidad virtual\, sensores.\n\nEnrique Rodero. Director de PRL en Elecnor.\n\n\nLa innovación con EPIS en el trabajo de Iturri.\n\nJavier Muñoz. Managing Director en Iturri.\n\n\nQuironprevención: La visión computerizada suma en seguridad. \n\nAlejandro Ramos. Responsable de Producto en Quirónprevención.\n\n\nFisioterapia digital con IA con Fisify.\n\nIñaki Markinez. CEO de Fisify.\n\n\n\n\n\n⏰ 14:00 CLAUSURA Y CONCLUSIONES \n\n\n\nMarina Parra. Directora General de Trabajo y Gerente del IRSST.\n\n\n\n 
URL:https://beon.red/evento/jornada-irsst-idi-en-prevencion-de-riesgos-laborales/
LOCATION:Madrid\, Madrid\, Spain
CATEGORIES:Jornadas
ATTACH;FMTTYPE=image/webp:https://beon.red/wp-content/uploads/2026/02/Imagen-jornada.webp
END:VEVENT
BEGIN:VEVENT
DTSTART;TZID=Europe/Madrid:20241029T095000
DTEND;TZID=Europe/Madrid:20241029T133000
DTSTAMP:20260423T071653
CREATED:20260202T162233Z
LAST-MODIFIED:20260323T112127Z
UID:2281-1730195400-1730208600@beon.red
SUMMARY:(Barcelona) La Huella de Salud: métricas y explotación de la información en Salud y Bienestar laboral
DESCRIPTION:Gestionar recursos de manera eficaz\, eficiente y aportando resultados de valor es el objetivo que cualquier área empresarial aspira a conseguir. El 29 de octubre\, Foment del Treball celebra esta jornada centrada en la idea “lo que no se mide no existe”\, para abordar el concepto de la Huella de Salud y la importancia de disponer y utilizar los datos y métricas a nuestro alcance\, saber cómo explotar esa información y poder desarrollar una estrategia de salud y bienestar laboral. \nAbordaremos cómo transformar la salud desde el dato con la participación de Quironprevención y nuestras Líneas de Trabajo de ODS y Salud Integral para abordar tendencias innovadoras\, promoción de hábitos saludables y medición de la evolución de la estrategia. Además\, contaremos con un taller práctico de la mano de Full Audit sobre el mapa de valor de la SSB para la construcción del valor. \nJornada 100% Presencial. Plazas limitadas. ¡No te quedes sin la tuya! \nDESCARGAR PROGRAMAREGISTRO \nPrograma Huella de Salud BCN 29102024
URL:https://beon.red/evento/barcelona-la-huella-de-salud-metricas-y-explotacion-de-la-informacion-en-salud-y-bienestar-laboral/
LOCATION:Barcelona\, Barcelona\, Spain
CATEGORIES:Jornadas
ATTACH;FMTTYPE=image/webp:https://beon.red/wp-content/uploads/2026/02/huella-salud-metricas-bienestar.webp
END:VEVENT
END:VCALENDAR