BEGIN:VCALENDAR
VERSION:2.0
PRODID:-//Beon - ECPv6.15.17.1//NONSGML v1.0//EN
CALSCALE:GREGORIAN
METHOD:PUBLISH
X-ORIGINAL-URL:https://beon.red
X-WR-CALDESC:Eventos para Beon
REFRESH-INTERVAL;VALUE=DURATION:PT1H
X-Robots-Tag:noindex
X-PUBLISHED-TTL:PT1H
BEGIN:VTIMEZONE
TZID:Europe/Madrid
BEGIN:DAYLIGHT
TZOFFSETFROM:+0100
TZOFFSETTO:+0200
TZNAME:CEST
DTSTART:20240331T010000
END:DAYLIGHT
BEGIN:STANDARD
TZOFFSETFROM:+0200
TZOFFSETTO:+0100
TZNAME:CET
DTSTART:20241027T010000
END:STANDARD
BEGIN:DAYLIGHT
TZOFFSETFROM:+0100
TZOFFSETTO:+0200
TZNAME:CEST
DTSTART:20250330T010000
END:DAYLIGHT
BEGIN:STANDARD
TZOFFSETFROM:+0200
TZOFFSETTO:+0100
TZNAME:CET
DTSTART:20251026T010000
END:STANDARD
BEGIN:DAYLIGHT
TZOFFSETFROM:+0100
TZOFFSETTO:+0200
TZNAME:CEST
DTSTART:20260329T010000
END:DAYLIGHT
BEGIN:STANDARD
TZOFFSETFROM:+0200
TZOFFSETTO:+0100
TZNAME:CET
DTSTART:20261025T010000
END:STANDARD
END:VTIMEZONE
BEGIN:VEVENT
DTSTART;TZID=Europe/Madrid:20250128T090000
DTEND;TZID=Europe/Madrid:20250128T140000
DTSTAMP:20260423T030549
CREATED:20260202T162240Z
LAST-MODIFIED:20260323T102440Z
UID:2284-1738054800-1738072800@beon.red
SUMMARY:[PRIVADO] Wake Up Coaching | Taller Práctico de Liderazgo y Desarrollo Profesional
DESCRIPTION:El desarrollo de habilidades interpersonales es un factor esencial en un contexto global y de desafíos constantes. El equilibrio personal y profesional resulta cada vez más fundamental para la sostenibilidad de las organizaciones. Un proceso en el que el coaching resulta una herramienta de desarrollo de competencias cada vez más solicitada por profesionales de todos los sectores de actividad. \nLa International Coaching Univesity desarrolla el programa de inicio de Entrenamiento\, proporcionando a las empresas y profesionales una solución avanzada para el desarrollo del desempeño y la capacidad de liderazgo en la vida y los negocios. \nEl 28/01/2025\, organizamos una sesión privada y exclusiva para nuestra Línea de Trabajo ‘Desarrollo Profesional\, dinamizada por el propio Presidente de la ICU\, Enrique Jimenez Soler. Una prestigiosa sesión con un alto valor en el mercado\, que ponemos a disposición para aprovechar todo el potencial a nivel personal\, y descubrir sinergias profesionales. \nEl «WakeUp Coaching» incluye dinámicas de alto impacto\, donde desarrollar competencias de liderazgo\, acelerar procesos de cambio y explotar eficientemente las habilidades y recursos personales. El taller trabaja aspectos conductuales con el objetivo de alcanzar nuevas metas y mejorar resultados incorporando enfoques\, metodologías y herramientas en la actividad profesional y personal\, con un exclusivo criterio de comportamiento DISC y todo lo necesario para crear un plan de acción enfocado en la obtención de metas y objetivos. \n 
URL:https://beon.red/evento/privado-wake-up-coaching-taller-practico-de-liderazgo-y-desarrollo-profesional/
LOCATION:Madrid\, Madrid\, Spain
CATEGORIES:Jornadas
END:VEVENT
END:VCALENDAR