BEGIN:VCALENDAR
VERSION:2.0
PRODID:-//Beon - ECPv6.15.17.1//NONSGML v1.0//EN
CALSCALE:GREGORIAN
METHOD:PUBLISH
X-ORIGINAL-URL:https://beon.red
X-WR-CALDESC:Eventos para Beon
REFRESH-INTERVAL;VALUE=DURATION:PT1H
X-Robots-Tag:noindex
X-PUBLISHED-TTL:PT1H
BEGIN:VTIMEZONE
TZID:Europe/Madrid
BEGIN:DAYLIGHT
TZOFFSETFROM:+0100
TZOFFSETTO:+0200
TZNAME:CEST
DTSTART:20240331T010000
END:DAYLIGHT
BEGIN:STANDARD
TZOFFSETFROM:+0200
TZOFFSETTO:+0100
TZNAME:CET
DTSTART:20241027T010000
END:STANDARD
BEGIN:DAYLIGHT
TZOFFSETFROM:+0100
TZOFFSETTO:+0200
TZNAME:CEST
DTSTART:20250330T010000
END:DAYLIGHT
BEGIN:STANDARD
TZOFFSETFROM:+0200
TZOFFSETTO:+0100
TZNAME:CET
DTSTART:20251026T010000
END:STANDARD
BEGIN:DAYLIGHT
TZOFFSETFROM:+0100
TZOFFSETTO:+0200
TZNAME:CEST
DTSTART:20260329T010000
END:DAYLIGHT
BEGIN:STANDARD
TZOFFSETFROM:+0200
TZOFFSETTO:+0100
TZNAME:CET
DTSTART:20261025T010000
END:STANDARD
END:VTIMEZONE
BEGIN:VEVENT
DTSTART;TZID=Europe/Madrid:20250227T100000
DTEND;TZID=Europe/Madrid:20250227T133000
DTSTAMP:20260423T012432
CREATED:20260202T162243Z
LAST-MODIFIED:20260323T102328Z
UID:2287-1740650400-1740663000@beon.red
SUMMARY:Absentismo | Cómo integrar las tendencias y normativas en la gestión práctica de las empresas
DESCRIPTION: 27 de febrero de 2025\, de 10:00 a 13:30 horas. \n📍 Auditorio. Fundación MAPFRE. Pº Recoletos\, 23\, 28004 Madrid. \n*Grabación y recursos posteriores sólo disponibles para asociados/as de BeOn*. +información 917692410 prlinnovacion@prlinnovación.com  \nAFORO COMPLETO – ABIERTA LISTA DE ESPERA \nREGISTRO PARA LISTA DE ESPERA \n\n 10:00 H Apertura y bienvenida.\n\nAntonio Guzmán\, Director del área de Promoción de la salud en Fundación Mapfre.\nAntonio Vega. Gerente de Seguridad\, Salud y Bienestar en Alsea\, Miembro de la Junta Directiva de BeOn*.\n\n\n10:05 H Mesa Redonda | Nuevos y próximos cambios legislativos\, y el papel de las mutuas de trabajo.\n\nModerada por Antonio Vega. Gerente de Seguridad\, Salud y Bienestar en Alsea\, Miembro de la Junta Directiva de BeOn*.\nAntonio Cirujano\, Representante de Asociación de Mutuas de Accidentes de Trabajo AMAT.\nAdrián Vallejo\, Departamento de Economía de la Asociación de Mutuas de Accidentes de Trabajo AMAT.\n\n\n10:35 H Estrategias empresariales para combatir el absentismo.\n\nLuis Iglesias. Director Área Gestión Absentismo de Quironprevención.\n\n\n11:00 H Pausa.\n\nCafé Networking\n\n\n11:30 H Impacto del absentismo en la salud mental: evolución y claves para reducirlo.\n\nOlga Merino\, Directora General de Salud Mental en Avanta.\n\n\n12:00 H La importancia del ROI en la gestión del absentismo.\n\nAgatha de Pablo\, Responsable de Proyectos de Investigación en AfforHealth.\n\n\n12:30 H Mesa redonda | Planes preventivos para la reducción del absentismo: experiencias prácticas de empresas.\n\nModerada por Antonio Guzmán\, Director del área de Promoción de la salud en Fundación Mapfre.\nGuillermo Murciano\, HS Director en DHL y Presidente de BeOn*.\nAna Ávila\, Directora de Prevención\, Salud y Bienestar en Mahou San Miguel.\nAntonio Vega. Gerente de Seguridad\, Salud y Bienestar en Alsea\, Miembro de la Junta Directiva de BeOn*.\n\n\n13:20 H Conclusiones y Clausura.\n13:30 H Fin de jornada.
URL:https://beon.red/evento/absentismo-como-integrar-las-tendencias-y-normativas-en-la-gestion-practica-de-las-empresas/
LOCATION:Madrid\, Madrid\, Spain
CATEGORIES:Jornadas
ATTACH;FMTTYPE=image/webp:https://beon.red/wp-content/uploads/2026/02/absentismo-2-1.webp
END:VEVENT
END:VCALENDAR