BEGIN:VCALENDAR
VERSION:2.0
PRODID:-//Beon - ECPv6.15.17.1//NONSGML v1.0//EN
CALSCALE:GREGORIAN
METHOD:PUBLISH
X-WR-CALNAME:Beon
X-ORIGINAL-URL:https://beon.red
X-WR-CALDESC:Eventos para Beon
REFRESH-INTERVAL;VALUE=DURATION:PT1H
X-Robots-Tag:noindex
X-PUBLISHED-TTL:PT1H
BEGIN:VTIMEZONE
TZID:Europe/Madrid
BEGIN:DAYLIGHT
TZOFFSETFROM:+0100
TZOFFSETTO:+0200
TZNAME:CEST
DTSTART:20240331T010000
END:DAYLIGHT
BEGIN:STANDARD
TZOFFSETFROM:+0200
TZOFFSETTO:+0100
TZNAME:CET
DTSTART:20241027T010000
END:STANDARD
BEGIN:DAYLIGHT
TZOFFSETFROM:+0100
TZOFFSETTO:+0200
TZNAME:CEST
DTSTART:20250330T010000
END:DAYLIGHT
BEGIN:STANDARD
TZOFFSETFROM:+0200
TZOFFSETTO:+0100
TZNAME:CET
DTSTART:20251026T010000
END:STANDARD
BEGIN:DAYLIGHT
TZOFFSETFROM:+0100
TZOFFSETTO:+0200
TZNAME:CEST
DTSTART:20260329T010000
END:DAYLIGHT
BEGIN:STANDARD
TZOFFSETFROM:+0200
TZOFFSETTO:+0100
TZNAME:CET
DTSTART:20261025T010000
END:STANDARD
END:VTIMEZONE
BEGIN:VEVENT
DTSTART;TZID=Europe/Madrid:20250917T081500
DTEND;TZID=Europe/Madrid:20250918T173000
DTSTAMP:20260422T135003
CREATED:20260202T162307Z
LAST-MODIFIED:20260320T113059Z
UID:2316-1758096900-1758216600@beon.red
SUMMARY:VII CONGRESO
DESCRIPTION:¡El 90% del aforo ya está cubierto! \n					\n									🎟️ CONSIGUE YA TU ENTRADA\n					 \n descubre el programa completo con el horario de todas las sesiones para ambos días \n conoce a los ponentes\, sus perfiles y trayectorias profesionales\, las empresas participantes… \n toda la información sobre partners\, colaboradores\, talleres y workshops prácticos… \n					\n									✅ Accede a la web\n					 \n\n            \n                 \n\nVII Congreso BeOn* | Afectación en salud mental: claves y herramientas para su detección\n\n                        Leer más\n    \n\n            \n                 \n\nVII Congreso BeOn* | La (r)evolución de la Seguridad y Salud en la cultura organizacional\n\n                        Leer más\n    \n\n            \n                 \n\nVII Congreso BeOn* | Consecuencias jurídicas de un accidente de trabajo: una ponencia “experiencial”\n\n                        Leer más\n    \n\n            \n                 \n\nVII Congreso BeOn* | 3 enfoques disruptivos en la gestión de Seguridad y Salud (y sí\, hay IA)\n\n                        Leer más\n    \n\n            \n                 \n\nVII Congreso BeOn* | El ponente James Hewitt desvela en un video exclusivo las claves de su intervención\n\n                        Leer más\n    \n\n            \n                 \n\nVII Congreso BeOn* | Seguridad 360º: una conversación con Schindler sobre cómo transformar la seguridad desde el aprendizaje\n\n                        Leer más\n    \n					\n						Linkedin\n											\n					\n						Newspaper\n											\n					\n						Vimeo
URL:https://beon.red/evento/vii-congreso/
CATEGORIES:Jornadas
ATTACH;FMTTYPE=image/webp:https://beon.red/wp-content/uploads/2026/02/lanzamiento-congreso.webp
END:VEVENT
END:VCALENDAR