BEGIN:VCALENDAR
VERSION:2.0
PRODID:-//Beon - ECPv6.15.17.1//NONSGML v1.0//EN
CALSCALE:GREGORIAN
METHOD:PUBLISH
X-WR-CALNAME:Beon
X-ORIGINAL-URL:https://beon.red
X-WR-CALDESC:Eventos para Beon
REFRESH-INTERVAL;VALUE=DURATION:PT1H
X-Robots-Tag:noindex
X-PUBLISHED-TTL:PT1H
BEGIN:VTIMEZONE
TZID:Europe/Madrid
BEGIN:DAYLIGHT
TZOFFSETFROM:+0100
TZOFFSETTO:+0200
TZNAME:CEST
DTSTART:20220327T010000
END:DAYLIGHT
BEGIN:STANDARD
TZOFFSETFROM:+0200
TZOFFSETTO:+0100
TZNAME:CET
DTSTART:20221030T010000
END:STANDARD
BEGIN:DAYLIGHT
TZOFFSETFROM:+0100
TZOFFSETTO:+0200
TZNAME:CEST
DTSTART:20230326T010000
END:DAYLIGHT
BEGIN:STANDARD
TZOFFSETFROM:+0200
TZOFFSETTO:+0100
TZNAME:CET
DTSTART:20231029T010000
END:STANDARD
BEGIN:DAYLIGHT
TZOFFSETFROM:+0100
TZOFFSETTO:+0200
TZNAME:CEST
DTSTART:20240331T010000
END:DAYLIGHT
BEGIN:STANDARD
TZOFFSETFROM:+0200
TZOFFSETTO:+0100
TZNAME:CET
DTSTART:20241027T010000
END:STANDARD
END:VTIMEZONE
BEGIN:VEVENT
DTSTART;TZID=Europe/Madrid:20231020T120000
DTEND;TZID=Europe/Madrid:20231020T130000
DTSTAMP:20260424T045142
CREATED:20260202T162125Z
LAST-MODIFIED:20260209T143612Z
UID:2227-1697803200-1697806800@beon.red
SUMMARY:Webinar | Equipos descansados\, equipos motivados: cómo vivir mejor y prevenir bajas laborales
DESCRIPTION:⏰ De 12:00 a 13:00 h \n100% Online.  Retransmisión online vía Microsoft Teams \n_______________________\n \nDormir mejor es posible\, si analizamos el panorama actual y cómo mejorarlo: «Bien dormidos tomamos mejores decisiones y gozamos de más salud«.  \nCon esta premisa\, el viernes 20 de octubre Carmen Domínguez\, socióloga\, Máster en medicina y fisiología del sueño\, y Fundadora de DomirBienZzzz\, nos hablará sobre cómo entender la importancia del Sueño y el Descanso tanto para el buen desempeño en la empresa como para la vida diaria. \nPodremos llevarnos tips imprescindibles para dormir mejor favoreciendo el rendimiento personal\, el clima laboral y el bienestar físico/emocional\, abordando contenidos como la relación sueño/empresa/vida\, por qué falla el sueño\, y cómo lo preservo. \n 		\nAquí puedes descargar el .ics básico para importarlo a su calendario personal y prereservar la fecha y hora. En eventos online\, en el email de confirmación de plaza se adjuntará un nuevo .ics con la url de acceso. ESTE ARCHIVO NO CONFIRMA LA ASISTENCIA.\n\n¿Quieres asistir a algún evento o saber más sobre la asociación? ¡Contáctanos sin compromiso! prlinnovacion@beon.red / 917 692 410\n\n		\n			\n						iCs\n					\n		Formulario para solicitud de plaza. 		\n			Cargando…
URL:https://beon.red/evento/webinar-equipos-descansados-equipos-motivados-como-vivir-mejor-y-prevenir-bajas-laborales/
CATEGORIES:Webinars
ATTACH;FMTTYPE=image/webp:https://beon.red/wp-content/uploads/2026/02/webinar-sueno-descanso-bienestar-trabajo.webp
END:VEVENT
END:VCALENDAR