BEGIN:VCALENDAR
VERSION:2.0
PRODID:-//Beon - ECPv6.15.17.1//NONSGML v1.0//EN
CALSCALE:GREGORIAN
METHOD:PUBLISH
X-ORIGINAL-URL:https://beon.red
X-WR-CALDESC:Eventos para Beon
REFRESH-INTERVAL;VALUE=DURATION:PT1H
X-Robots-Tag:noindex
X-PUBLISHED-TTL:PT1H
BEGIN:VTIMEZONE
TZID:Europe/Madrid
BEGIN:DAYLIGHT
TZOFFSETFROM:+0100
TZOFFSETTO:+0200
TZNAME:CEST
DTSTART:20230326T010000
END:DAYLIGHT
BEGIN:STANDARD
TZOFFSETFROM:+0200
TZOFFSETTO:+0100
TZNAME:CET
DTSTART:20231029T010000
END:STANDARD
BEGIN:DAYLIGHT
TZOFFSETFROM:+0100
TZOFFSETTO:+0200
TZNAME:CEST
DTSTART:20240331T010000
END:DAYLIGHT
BEGIN:STANDARD
TZOFFSETFROM:+0200
TZOFFSETTO:+0100
TZNAME:CET
DTSTART:20241027T010000
END:STANDARD
BEGIN:DAYLIGHT
TZOFFSETFROM:+0100
TZOFFSETTO:+0200
TZNAME:CEST
DTSTART:20250330T010000
END:DAYLIGHT
BEGIN:STANDARD
TZOFFSETFROM:+0200
TZOFFSETTO:+0100
TZNAME:CET
DTSTART:20251026T010000
END:STANDARD
END:VTIMEZONE
BEGIN:VEVENT
DTSTART;TZID=Europe/Madrid:20240110T120000
DTEND;TZID=Europe/Madrid:20240110T130000
DTSTAMP:20260424T003059
CREATED:20260202T162142Z
LAST-MODIFIED:20260209T143612Z
UID:2239-1704888000-1704891600@beon.red
SUMMARY:Sesión informativa sobre la campaña "Operación Kilo Solidario"
DESCRIPTION:¿Quién no tiene como propósito de año nuevo llevar una vida más saludable? ¿Y si además con nuestros logros pudiéramos también ser solidarios? BeOn* y el equipo de Salud Laboral de Orange\, con la colaboración del partner técnico Saludando\, organizan la «Operación Kilo Solidario» para que empresas y trabajadores aúnen salud y contribución social en esta nueva campaña solidaria. \nEsta campaña tiene como meta animar a las personas que integran las empresas participantes a adoptar unos mejores hábitos de vida saludables en relación con la actividad física\, nutrición y relaciones sociales. \n¿Quieres saber más? El 10 de enero\, a las 12:00 horas\, celebramos una sesión informativa online con el equipo de Salud Laboral de Orange y Saludando para explicar estas cuestiones\, ampliar información\, y aclarar todas las dudas que puedan surgirte. Únete a la campaña y ¡lidera la «salud solidaria»! \n			\n						Bases de la campaña\n					\n			\n						Adhesión a la campaña\n					\n																\n															\n			\n						Sesión informativa 10 enero
URL:https://beon.red/evento/sesion-informativa-sobre-la-campana-operacion-kilo-solidario/
CATEGORIES:Webinars
ATTACH;FMTTYPE=image/webp:https://beon.red/wp-content/uploads/2026/02/Teaser-operacion-kilo-solidario.webp
END:VEVENT
BEGIN:VEVENT
DTSTART;TZID=Europe/Madrid:20240129T120000
DTEND;TZID=Europe/Madrid:20240129T130000
DTSTAMP:20260424T003059
CREATED:20260202T162152Z
LAST-MODIFIED:20260209T143612Z
UID:2244-1706529600-1706533200@beon.red
SUMMARY:Webinar | Operación Kilo Solidario. La Nutrición en el Control del Peso Saludable
DESCRIPTION:¿Alguna vez has caído en la trampa de dietas milagrosas y soluciones exprés para perder peso? Es natural buscar atajos\, todos y todas lo hemos hecho alguna vez. Sin embargo\, este tipo de estrategias que prometen resultados inmediatos\, no solo carecen de eficacia a largo plazo\, sino que pueden tener un impacto negativo en nuestra salud. \n¿Y si escogemos un camino más efectivo y duradero para mejorar nuestro estado de salud? El webinar “La nutrición en el control del peso saludable” tendrá lugar el próximo lunes 29 de enero a las 12:00 h. Juan Luis Adame\, experto en nutrición\, compartirá conocimientos clave y estrategias prácticas para incorporar cambios sostenibles en nuestros hábitos alimenticios que sin duda te ayudarán a controlar y/o mantener un peso saludable y contribuirán en tu bienestar. \n¿Estás listo/a para transformar tus hábitos de alimentación de forma duradera? \n			\n						Registro webinar\n					\n																\n															 \nEste webinar abierto forma parte de la campaña “Operación Kilo Solidario” organizada por BeOn* y el equipo de Salud Laboral de Orange\, con la colaboración del partner técnico Saludando.  \nPara acceder a materiales exclusivos\, únete a la campaña y ¡lidera la “salud solidaria”! \n			\n						Bases de la campaña\n					\n			\n						Adhesión a la campaña
URL:https://beon.red/evento/webinar-operacion-kilo-solidario-la-nutricion-en-el-control-del-peso-saludable/
CATEGORIES:Webinars
ATTACH;FMTTYPE=image/webp:https://beon.red/wp-content/uploads/2026/02/webinar-operacion-kilo-solidario-nutricion-control-peso-saludable.webp
END:VEVENT
END:VCALENDAR