BEGIN:VCALENDAR
VERSION:2.0
PRODID:-//Beon - ECPv6.15.17.1//NONSGML v1.0//EN
CALSCALE:GREGORIAN
METHOD:PUBLISH
X-ORIGINAL-URL:https://beon.red
X-WR-CALDESC:Eventos para Beon
REFRESH-INTERVAL;VALUE=DURATION:PT1H
X-Robots-Tag:noindex
X-PUBLISHED-TTL:PT1H
BEGIN:VTIMEZONE
TZID:Europe/Madrid
BEGIN:DAYLIGHT
TZOFFSETFROM:+0100
TZOFFSETTO:+0200
TZNAME:CEST
DTSTART:20230326T010000
END:DAYLIGHT
BEGIN:STANDARD
TZOFFSETFROM:+0200
TZOFFSETTO:+0100
TZNAME:CET
DTSTART:20231029T010000
END:STANDARD
BEGIN:DAYLIGHT
TZOFFSETFROM:+0100
TZOFFSETTO:+0200
TZNAME:CEST
DTSTART:20240331T010000
END:DAYLIGHT
BEGIN:STANDARD
TZOFFSETFROM:+0200
TZOFFSETTO:+0100
TZNAME:CET
DTSTART:20241027T010000
END:STANDARD
BEGIN:DAYLIGHT
TZOFFSETFROM:+0100
TZOFFSETTO:+0200
TZNAME:CEST
DTSTART:20250330T010000
END:DAYLIGHT
BEGIN:STANDARD
TZOFFSETFROM:+0200
TZOFFSETTO:+0100
TZNAME:CET
DTSTART:20251026T010000
END:STANDARD
END:VTIMEZONE
BEGIN:VEVENT
DTSTART;TZID=Europe/Madrid:20240206T120000
DTEND;TZID=Europe/Madrid:20240206T130000
DTSTAMP:20260423T190120
CREATED:20260202T162152Z
LAST-MODIFIED:20260209T143612Z
UID:2245-1707220800-1707224400@beon.red
SUMMARY:Webinar | Informe Risk Outlook: las 5 tendencias de riesgo para 2024
DESCRIPTION:Nuestro partner International SOS\, líder mundial de asistencia médica y de seguridad expondrá en este webinar su informe anual Risk Outlook 24\, donde se comentarán las 5 tendencias para este año y su impacto en la prevención. Además se comentarán recomendaciones para gestionar adecuadamente los riesgos de las crisis futuras. \nPonentes: \n\nSantiago Álvarez de Toledo. Country Manager\, Spain and Portugal en International SOS.\nJavier Mollá\, Regional Security Manager en International SOS.\n\n			\n						Registro webinar
URL:https://beon.red/evento/webinar-informe-risk-outlook-las-5-tendencias-de-riesgo-para-2024/
CATEGORIES:Webinars
ATTACH;FMTTYPE=image/webp:https://beon.red/wp-content/uploads/2026/02/webinar-international-sos-risk-2024.webp
END:VEVENT
BEGIN:VEVENT
DTSTART;TZID=Europe/Madrid:20240223T120000
DTEND;TZID=Europe/Madrid:20240223T130000
DTSTAMP:20260423T190120
CREATED:20260202T162159Z
LAST-MODIFIED:20260209T143612Z
UID:2251-1708689600-1708693200@beon.red
SUMMARY:Webinar | Operación Kilo Solidario. Las emociones en el control del peso saludable
DESCRIPTION:¿Has sentido alivio alguna vez al comer dulce cuando estás triste? ¿Picoteas si te sientes ansioso/a? ¿Pierdes el apetito por los nervios de un acontecimiento? Si te resultan familiares algunas de estas situaciones este webinar es para ti. \nLa manera en que hemos aprendido a relacionarnos con la comida nos lleva con frecuencia a enmascarar estados emocionales con nuestros hábitos alimentarios. Esto es lo que llamamos “hambre emocional”\, que\, por lo general\, está asociada con alimentos ultraprocesados\, que ofrecen recompensa inmediata al cerebro\, pero que resultan poco beneficiosos para nuestra salud. \nLa alimentación consciente nos ayuda a desarrollar habilidades para analizar por qué\, cuándo y cómo tenemos hambre\, a detectar patrones alimenticios condicionados por nuestras emociones\, y a tomar el control de nuestros hábitos saludables. \nEn el webinar “Las emociones en el control del peso saludable” que tendrá lugar el próximo 23 de febrero a las 12:00\, Diana García\, educadora y coach\, experta en alimentación emocional y mindfulness\, nos proporcionará útiles herramientas para hacer frente al hambre emocional y establecer una mejor relación con la comida. \nEsta formación es\, sin lugar a dudas\, una pieza clave dentro de la Operación Kilo Solidario\, pues entender cómo influyen las emociones en el proceso de mejora de los hábitos nos permite actuar de manera responsable y consciente. \n			\n						Registro webinar\n					\n														\n															 \nEste webinar abierto forma parte de la campaña “Operación Kilo Solidario” organizada por BeOn* y el equipo de Salud Laboral de Orange\, con la colaboración del partner técnico Saludando.  \nPara acceder a materiales exclusivos\, únete a la campaña y ¡lidera la “salud solidaria”! \n			\n						Bases de la campaña\n					\n			\n						Adhesión a la campaña
URL:https://beon.red/evento/webinar-operacion-kilo-solidario-las-emociones-en-el-control-del-peso-saludable/
CATEGORIES:Webinars
ATTACH;FMTTYPE=image/webp:https://beon.red/wp-content/uploads/2026/02/webinar-operacion-kilo-solidario-emociones-control-peso-saludable-1.webp
END:VEVENT
END:VCALENDAR