BEGIN:VCALENDAR
VERSION:2.0
PRODID:-//Beon - ECPv6.15.17.1//NONSGML v1.0//EN
CALSCALE:GREGORIAN
METHOD:PUBLISH
X-WR-CALNAME:Beon
X-ORIGINAL-URL:https://beon.red
X-WR-CALDESC:Eventos para Beon
REFRESH-INTERVAL;VALUE=DURATION:PT1H
X-Robots-Tag:noindex
X-PUBLISHED-TTL:PT1H
BEGIN:VTIMEZONE
TZID:Europe/Madrid
BEGIN:DAYLIGHT
TZOFFSETFROM:+0100
TZOFFSETTO:+0200
TZNAME:CEST
DTSTART:20230326T010000
END:DAYLIGHT
BEGIN:STANDARD
TZOFFSETFROM:+0200
TZOFFSETTO:+0100
TZNAME:CET
DTSTART:20231029T010000
END:STANDARD
BEGIN:DAYLIGHT
TZOFFSETFROM:+0100
TZOFFSETTO:+0200
TZNAME:CEST
DTSTART:20240331T010000
END:DAYLIGHT
BEGIN:STANDARD
TZOFFSETFROM:+0200
TZOFFSETTO:+0100
TZNAME:CET
DTSTART:20241027T010000
END:STANDARD
BEGIN:DAYLIGHT
TZOFFSETFROM:+0100
TZOFFSETTO:+0200
TZNAME:CEST
DTSTART:20250330T010000
END:DAYLIGHT
BEGIN:STANDARD
TZOFFSETFROM:+0200
TZOFFSETTO:+0100
TZNAME:CET
DTSTART:20251026T010000
END:STANDARD
END:VTIMEZONE
BEGIN:VEVENT
DTSTART;TZID=Europe/Madrid:20241003T130000
DTEND;TZID=Europe/Madrid:20241003T140000
DTSTAMP:20260423T071928
CREATED:20260202T162228Z
LAST-MODIFIED:20260323T102802Z
UID:2275-1727960400-1727964000@beon.red
SUMMARY:Webinar | Construye un Cuadro de Mando "NoCode" con Airtable
DESCRIPTION:Un Cuadro de Mando en Seguridad y Salud nos permite transformar los datos operacionales en información de valor para tomar decisiones\, ayudar a la mejora de la Seguridad y Salud\, y fomentar la Cultura Preventiva. Pero\, ¿nos siguen resultando útiles los formatos clásicos?\, ¿cómo podemos gestionar nuestros KPIs u OKRs de forma fácil y efectiva? El 3 de octubre\, descubriremos cómo hacer un Cuadro de Mando con la herramienta Airtable gracias al movimiento No Code\, «una filosofía de democratización del acceso a la creación de productos digitales»\, sin necesidad de tener conocimientos de programación\, que nos permite poder gestionar informaciones complejas mediante interfaces sencillas y visuales. Alex Vaughtton\, Fundador de NoCodehackers\, nos mostrará en directo cómo podemos utilizar la herramienta Airtable para crear un Cuadro de Mando sencillo y efectivo\, con el que podamos hacer un seguimiento efectivo\, automatizar nuestros procesos y gestionar nuestra operativa interna en SSB.  Contenido:Qué es el No-CodePara qué sirve AirtableCómo adaptamos un CMConstruimos en vivo el CMPreguntas y dudas en directo 		\n			\n									SOLICITA YA TU PLAZA
URL:https://beon.red/evento/webinar-construye-un-cuadro-de-mando-nocode-con-airtable/
CATEGORIES:Webinars
ATTACH;FMTTYPE=image/webp:https://beon.red/wp-content/uploads/2026/02/cuadro-de-mando-nocode-airtable-seguridad-salud.webp
END:VEVENT
BEGIN:VEVENT
DTSTART;TZID=Europe/Madrid:20241011T120000
DTEND;TZID=Europe/Madrid:20241011T130000
DTSTAMP:20260423T071928
CREATED:20260202T162228Z
LAST-MODIFIED:20260323T124323Z
UID:2274-1728648000-1728651600@beon.red
SUMMARY:Webinar Doble | Retos de Género ante el Bienestar Psicológico y la Salud Mental\, y ante el Retorno al Trabajo
DESCRIPTION:Incorporar la perspectiva de género en la gestión de los riesgos y condiciones de trabajo permite crear puestos seguros y saludables para todas las personas. Un imprescindible para las organizaciones que quieran ir más allá de la normativa y las evaluaciones\, y utilizar todos los recursos disponibles para trabajar en la mejora continua de su entorno. \nCon este objetivo nace DIGEN\, una sencilla herramienta de autodiagnóstico con la que cada organización puede identificar diferencias de género en los riesgos laborales para valorar el estado de integración de la perspectiva de género en su gestión preventiva. Un recurso que puede ayudarnos internamente a decidir dónde intervenir para que podamos priorizar acciones de mejora. \nEl proyecto\, financiado por el Instituto Andaluz de Prevención de Riesgos Laborales (IAPRL) de la Junta de Andalucía\, y desarrollado por el equipo de investigación del Laboratorio-Observatorio de Salud Laboral desde la Perspectiva de Género (LAOGEN) de la Universidad de Sevilla\, tiene hasta 9 escalas de diagnóstico diferentes\, divididos por distintas temáticas. \nDentro del programa de sensibilización de la perspectiva de género llevado a cabo con la colaboración del IAPRL\, LAOGEN y BeOn*\, el 11 de octubre celebraremos una sesión doble para abordar dos de los temas y escalas de DIGEN: \n\nde 12:00 a 12:30 h\, Francisco J. Medina y el Dr. Ignacio Ramos-Vidal tratarán la escala de Bienestar Psicológico y la Salud Mental\,\nde 12:30 a 13:00 h\, la Dra. Sara Corlett tratará la escala sobre Retorno al Trabajo.\n\nSOLICITUD DE PLAZA \n 
URL:https://beon.red/evento/webinar-doble-retos-de-genero-ante-el-bienestar-psicologico-y-la-salud-mental-y-ante-el-retorno-al-trabajo/
CATEGORIES:Webinars
ATTACH;FMTTYPE=image/webp:https://beon.red/wp-content/uploads/2026/02/webinar-reto-genero-salud-mental-retorno-1.webp
END:VEVENT
BEGIN:VEVENT
DTSTART;TZID=Europe/Madrid:20241025T120000
DTEND;TZID=Europe/Madrid:20241025T130000
DTSTAMP:20260423T071928
CREATED:20260202T162233Z
LAST-MODIFIED:20260323T124248Z
UID:2279-1729857600-1729861200@beon.red
SUMMARY:Formación final | Reto de 28 Días para un Estilo de Vida Activo y Saludable
DESCRIPTION:25/10/2024 ¿Eres un profesional de Seguridad\, Salud y Bienestar y buscas incorporar nuevos hábitos saludables o aprender a inspirar a las personas de tu organización? \nDesde BeOn* y Saludando\, desarrollamos este programa formativo práctico\, vestido de reto de 28 días\, en el que estimularemos la creación de nuevos hábitos con propuestas relacionadas con la actividad física\, la alimentación y el liderazgo saludable. \nCuatro semanas para jugar al deporte de cuidarse y que puede ser seguido completamente a través de tu teléfono móvil/pc. Una metodología en la que tanto los profesionales de Saludando\, como un grupo de personas y compañeros del sector como tú\, te ayudarán a mantener el foco y solventar cada una de las dificultades que te encuentres en este proceso de introducción de nuevos hábitos. \nREGISTRO – WEBINAR FINAL (25 oct) \n¿Qué retos me he encontrado durante los 28 días? \n\nReto 1: Crear una estrategia en la despensa\, el frigorífico y las compras para facilitar decisiones saludables.\nReto 2: Organizar la distribución de las comidas para mejorar la energía y la vitalidad.\nReto 3: Enriquecer nutricionalmente las comidas principales.\n\n\nReto 4: Crear dos micro hábitos activos de menos de 10 minutos en el día a día.\nReto 5: Utilizar la pausas activas en la jornada de trabajo.\nReto 6: Desarrollar un plan de acción para la incorporación paulatina de hábitos en la rutina.\n\nCon estos retos encontramos las bases sobre las que sustentar un estilo de vida saludable\, de una manera muy accesible. \nSin dietas milagro\, sin esfuerzos como ayunos prolongados ni entrenamientos extenuantes. \nEste es un reto para construir un estilo de vida más saludable\, basado en el cambio progresivo. \n¿Necesito un alto nivel físico previo? \nNo es necesario ningún nivel físico. Si tienes el ok del médico para poder realizar actividad física\, puedes desarrollar las propuestas físicas que te pondremos. \n¿A qué me da acceso el Reto 28 Días? \nReto semanal y Canal de Comunicación \nCada Lunes\, a través del canal privado de WhatsApp\, los profesionales de Saludando te propondrán un reto relacionado con el estilo de vida (km andados\, consumo de fruta y verdura\, higiene del sueño…). \nSólo requiere 15 min. al día\, en el horario que mejor te venga\, para reflexionar sobre los hábitos diarios y la tarea de la semana. \nPlataforma Formativa \nTendrás acceso exclusivo a plataforma online de Saludando\, donde cada semana encontrarás las nuevas píldoras formativas. \nVídeos de 10 min. con ejercicios físicos\, recetas\, y muchos más recursos sobre alimentación saludable\, actividad física y liderazgo de hábitos\, que te ayudarán en este viaje hacia tu versión más saludable y vital. \nEntrenamientos Extras \nPuedes extender los retos incluyendo entrenamientos. Dependiendo de tu nivel físico\, puedes realizar entre 2 y 4 entrenamientos a la semana\, 20 minutos cada uno. \nVideoentrenamientos grabados que puedes realizar en cualquier momento\, a través de ejercicios de yoga\, pilates\, estiramiento y fuerza con el peso corporal. Sólo necesitas una colchoneta y elementos como sillas etc.. \n1 formación inicial \nEn este primer encuentro\, contextualizaremos el entorno actual\, el propósito de la formación y cómo sacarle partido a la misma. \nViernes 27 Septiembre. 12.00 a 13.00 horas. \n1 reunión de seguimiento \nResolveremos dudas relacionadas con los entrenamientos\, analizaremos los avances hasta la fecha\, y objetivos para las siguientes semanas. \nMiércoles 9 Octubre. 12.00 a 13.00 horas. \n1 formación final \nSesión de cierre y análisis con las últimas claves\, repaso de todo lo aprendido y conseguido\, y visión de futuro para una mantenimiento sostenible y saludable. \nViernes 25 Octubre. Horario 12.00 a 13.00 horas. \n¿Quieres saber más? \nEl reto se desarrolla del viernes 27 de septiembre al viernes 25 de octubre. \nEs gratuito para miembros de PRL Innovación. Máximo 2 personas por organización asociada a BeOn*. 30 plazas. \nÚnete al webinar de clausura del Viernes 25 de Octubre (de 12.00 a 13.00 hs) y \n¡cuida tu cuerpo de forma activa y saludable! \nREGISTRO – RETO 28 DÍAS \nREGISTRO – WEBINAR FINAL (25 oct) \n 
URL:https://beon.red/evento/formacion-final-reto-de-28-dias-para-un-estilo-de-vida-activo-y-saludable/
CATEGORIES:Webinars
ATTACH;FMTTYPE=image/webp:https://beon.red/wp-content/uploads/2026/02/Reto-28-dias-estilo-de-vida-activo-saludable.webp
END:VEVENT
END:VCALENDAR