BEGIN:VCALENDAR
VERSION:2.0
PRODID:-//Beon - ECPv6.15.17.1//NONSGML v1.0//EN
CALSCALE:GREGORIAN
METHOD:PUBLISH
X-ORIGINAL-URL:https://beon.red
X-WR-CALDESC:Eventos para Beon
REFRESH-INTERVAL;VALUE=DURATION:PT1H
X-Robots-Tag:noindex
X-PUBLISHED-TTL:PT1H
BEGIN:VTIMEZONE
TZID:Europe/Madrid
BEGIN:DAYLIGHT
TZOFFSETFROM:+0100
TZOFFSETTO:+0200
TZNAME:CEST
DTSTART:20230326T010000
END:DAYLIGHT
BEGIN:STANDARD
TZOFFSETFROM:+0200
TZOFFSETTO:+0100
TZNAME:CET
DTSTART:20231029T010000
END:STANDARD
BEGIN:DAYLIGHT
TZOFFSETFROM:+0100
TZOFFSETTO:+0200
TZNAME:CEST
DTSTART:20240331T010000
END:DAYLIGHT
BEGIN:STANDARD
TZOFFSETFROM:+0200
TZOFFSETTO:+0100
TZNAME:CET
DTSTART:20241027T010000
END:STANDARD
BEGIN:DAYLIGHT
TZOFFSETFROM:+0100
TZOFFSETTO:+0200
TZNAME:CEST
DTSTART:20250330T010000
END:DAYLIGHT
BEGIN:STANDARD
TZOFFSETFROM:+0200
TZOFFSETTO:+0100
TZNAME:CET
DTSTART:20251026T010000
END:STANDARD
END:VTIMEZONE
BEGIN:VEVENT
DTSTART;TZID=Europe/Madrid:20241108T120000
DTEND;TZID=Europe/Madrid:20241108T130000
DTSTAMP:20260423T053943
CREATED:20260202T162240Z
LAST-MODIFIED:20260323T111947Z
UID:2283-1731067200-1731070800@beon.red
SUMMARY:Webinar Doble | Retos de Género ante la Violencia y Acoso en el lugar de trabajo\, y ante la Conciliación Trabajo-Vida Personal
DESCRIPTION:Incorporar la perspectiva de género en la gestión de los riesgos y condiciones de trabajo permite crear puestos seguros y saludables para todas las personas. Un imprescindible para las organizaciones que quieran ir más allá de la normativa y las evaluaciones\, y utilizar todos los recursos disponibles para trabajar en la mejora continua de su entorno. \nCon este objetivo nace DIGEN\, una sencilla herramienta de autodiagnóstico con la que cada organización puede identificar diferencias de género en los riesgos laborales para valorar el estado de integración de la perspectiva de género en su gestión preventiva. Un recurso que puede ayudarnos internamente a decidir dónde intervenir para que podamos priorizar acciones de mejora. \nEl proyecto\, financiado por el Instituto Andaluz de Prevención de Riesgos Laborales (IAPRL) de la Junta de Andalucía\, y desarrollado por el equipo de investigación del Laboratorio-Observatorio de Salud Laboral desde la Perspectiva de Género (LAOGEN) de la Universidad de Sevilla\, tiene hasta 9 guías de diagnóstico diferentes\, divididos por distintas temáticas. \nDentro del programa de sensibilización de la perspectiva de género llevado a cabo con la colaboración del IAPRL\, LAOGEN y BeOn*\, el 8 de noviembre celebraremos una sesión doble para abordar dos de los temas y guías de DIGEN: \n\nde 12:00 a 12:30 h\, la Dra. Patricia Elgoibar abordará los Retos de Género ante la Violencia y Acoso en el lugar de trabajo;\nde12:30 a 13:00 h\, Ines Mártinez-Corts\, tratará los Retos de Género ante la Conciliación del Trabajo y la Vida Personal.\n\nSOLICITUD DE PLAZA \n 
URL:https://beon.red/evento/webinar-doble-retos-de-genero-ante-la-violencia-y-acoso-en-el-lugar-de-trabajo-y-ante-la-conciliacion-trabajo-vida-personal/
CATEGORIES:Webinars
ATTACH;FMTTYPE=image/webp:https://beon.red/wp-content/uploads/2026/02/digen-laogen-trabajo-violencia-acoso-conciliacion.webp
END:VEVENT
END:VCALENDAR