BEGIN:VCALENDAR
VERSION:2.0
PRODID:-//Beon - ECPv6.15.17.1//NONSGML v1.0//EN
CALSCALE:GREGORIAN
METHOD:PUBLISH
X-WR-CALNAME:Beon
X-ORIGINAL-URL:https://beon.red
X-WR-CALDESC:Eventos para Beon
REFRESH-INTERVAL;VALUE=DURATION:PT1H
X-Robots-Tag:noindex
X-PUBLISHED-TTL:PT1H
BEGIN:VTIMEZONE
TZID:Europe/Madrid
BEGIN:DAYLIGHT
TZOFFSETFROM:+0100
TZOFFSETTO:+0200
TZNAME:CEST
DTSTART:20230326T010000
END:DAYLIGHT
BEGIN:STANDARD
TZOFFSETFROM:+0200
TZOFFSETTO:+0100
TZNAME:CET
DTSTART:20231029T010000
END:STANDARD
BEGIN:DAYLIGHT
TZOFFSETFROM:+0100
TZOFFSETTO:+0200
TZNAME:CEST
DTSTART:20240331T010000
END:DAYLIGHT
BEGIN:STANDARD
TZOFFSETFROM:+0200
TZOFFSETTO:+0100
TZNAME:CET
DTSTART:20241027T010000
END:STANDARD
BEGIN:DAYLIGHT
TZOFFSETFROM:+0100
TZOFFSETTO:+0200
TZNAME:CEST
DTSTART:20250330T010000
END:DAYLIGHT
BEGIN:STANDARD
TZOFFSETFROM:+0200
TZOFFSETTO:+0100
TZNAME:CET
DTSTART:20251026T010000
END:STANDARD
END:VTIMEZONE
BEGIN:VEVENT
DTSTART;TZID=Europe/Madrid:20240927T120000
DTEND;TZID=Europe/Madrid:20240927T130000
DTSTAMP:20260421T171940
CREATED:20260202T162228Z
LAST-MODIFIED:20260323T111644Z
UID:2276-1727438400-1727442000@beon.red
SUMMARY:Reto de 28 Días para un Estilo de Vida Activo y Saludable
DESCRIPTION:¿Eres un profesional de Seguridad\, Salud y Bienestar y buscas incorporar nuevos hábitos saludables o aprender a inspirar a las personas de tu organización? Desde BeOn* y Saludando\, desarrollamos este programa formativo práctico\, vestido de reto de 28 días\, en el que estimularemos la creación de nuevos hábitos con propuestas relacionadas con la actividad física\, la alimentación y el liderazgo saludable. Cuatro semanas para jugar al deporte de cuidarse y que puede ser seguido completamente a través de tu teléfono móvil/pc. Una metodología en la que tanto los profesionales de Saludando\, como un grupo de personas y compañeros del sector como tú\, te ayudarán a mantener el foco y solventar cada una de las dificultades que te encuentres en este proceso de introducción de nuevos hábitos. 		\n			\n									REGISTRO – WEBINAR INFORMATIVO (27 SEPT)\n					\n		¿Qué retos me voy a encontrar durante los 28 días? \nReto 1: Crear una estrategia en la despensa\, el frigorífico y las compras para facilitar decisiones saludables.\nReto 2: Organizar la distribución de las comidas para mejorar la energía y la vitalidad.\nReto 3: Enriquecer nutricionalmente las comidas principales.\n\nReto 4: Crear dos micro hábitos activos de menos de 10 minutos en el día a día.\nReto 5: Utilizar la pausas activas en la jornada de trabajo.\nReto 6: Desarrollar un plan de acción para la incorporación paulatina de hábitos en la rutina.\nCon estos retos encontrarás las bases sobre las que sustentar un estilo de vida saludable\, de una manera muy accesible. Sin dietas milagro\, sin esfuerzos como ayunos prolongados ni entrenamientos extenuantes. Este es un reto para construir un estilo de vida más saludable\, basado en el cambio progresivo. ¿Necesito un alto nivel físico previo? No es necesario ningún nivel físico. Si tienes el ok del médico para poder realizar actividad física\, puedes desarrollar las propuestas físicas que te pondremos. ¿A qué me da acceso el Reto 28 Días? Reto semanal y Canal de Comunicación Cada Lunes\, a través del canal privado de WhatsApp\, los profesionales de Saludando te propondrán un reto relacionado con el estilo de vida (km andados\, consumo de fruta y verdura\, higiene del sueño…). Sólo requiere 15 min. al día\, en el horario que mejor te venga\, para reflexionar sobre los hábitos diarios y la tarea de la semana. Plataforma Formativa \nTendrás acceso exclusivo a plataforma online de Saludando\, donde cada semana encontrarás las nuevas píldoras formativas. \nVídeos de 10 min. con ejercicios físicos\, recetas\, y muchos más recursos sobre alimentación saludable\, actividad física y liderazgo de hábitos\, que te ayudarán en este viaje hacia tu versión más saludable y vital. Entrenamientos Extras Puedes extender los retos incluyendo entrenamientos. Dependiendo de tu nivel físico\, puedes realizar entre 2 y 4 entrenamientos a la semana\, 20 minutos cada uno. Videoentrenamientos grabados que puedes realizar en cualquier momento\, a través de ejercicios de yoga\, pilates\, estiramiento y fuerza con el peso corporal. Sólo necesitas una colchoneta y elementos como sillas etc.. 		\n		1 formación inicial En este primer encuentro\, contextualizaremos el entorno actual\, el propósito de la formación y cómo sacarle partido a la misma. Viernes 27 Septiembre. 12.00 a 13.00 horas. 1 reunión de seguimiento Resolveremos dudas relacionadas con los entrenamientos\, analizaremos los avances hasta la fecha\, y objetivos para las siguientes semanas. Miércoles 9 Octubre. 12.00 a 13.00 horas. 1 formación final \nSesión de cierre y análisis con las últimas claves\, repaso de todo lo aprendido y conseguido\, y visión de futuro para una mantenimiento sostenible y saludable. \nViernes 25 Octubre. Horario 12.00 a 13.00 horas. 		\n		¿Quieres saber más? El reto se desarrolla del viernes 27 de septiembre al viernes 25 de octubre. Es gratuito para miembros de PRL Innovación. Máximo 2 personas por organización asociada a BeOn*. 30 plazas. Únete al webinar de presentación del Viernes 27 Septiembre (de 12.00 a 13.00 hs) y ¡cuida tu cuerpo de forma activa y saludable! 		\n			\n									REGISTRO – WEBINAR INFORMATIVO (27 SEPT)\n					\n			 		\n			\n									REGISTRO – RETO 28 DÍAS
URL:https://beon.red/evento/reto-de-28-dias-para-un-estilo-de-vida-activo-y-saludable/
CATEGORIES:Webinars
ATTACH;FMTTYPE=image/webp:https://beon.red/wp-content/uploads/2026/02/Reto-28-dias-estilo-de-vida-activo-saludable.webp
END:VEVENT
END:VCALENDAR