BEGIN:VCALENDAR
VERSION:2.0
PRODID:-//Beon - ECPv6.15.17.1//NONSGML v1.0//EN
CALSCALE:GREGORIAN
METHOD:PUBLISH
X-ORIGINAL-URL:https://beon.red
X-WR-CALDESC:Eventos para Beon
REFRESH-INTERVAL;VALUE=DURATION:PT1H
X-Robots-Tag:noindex
X-PUBLISHED-TTL:PT1H
BEGIN:VTIMEZONE
TZID:Europe/Madrid
BEGIN:DAYLIGHT
TZOFFSETFROM:+0100
TZOFFSETTO:+0200
TZNAME:CEST
DTSTART:20230326T010000
END:DAYLIGHT
BEGIN:STANDARD
TZOFFSETFROM:+0200
TZOFFSETTO:+0100
TZNAME:CET
DTSTART:20231029T010000
END:STANDARD
BEGIN:DAYLIGHT
TZOFFSETFROM:+0100
TZOFFSETTO:+0200
TZNAME:CEST
DTSTART:20240331T010000
END:DAYLIGHT
BEGIN:STANDARD
TZOFFSETFROM:+0200
TZOFFSETTO:+0100
TZNAME:CET
DTSTART:20241027T010000
END:STANDARD
BEGIN:DAYLIGHT
TZOFFSETFROM:+0100
TZOFFSETTO:+0200
TZNAME:CEST
DTSTART:20250330T010000
END:DAYLIGHT
BEGIN:STANDARD
TZOFFSETFROM:+0200
TZOFFSETTO:+0100
TZNAME:CET
DTSTART:20251026T010000
END:STANDARD
END:VTIMEZONE
BEGIN:VEVENT
DTSTART;TZID=Europe/Madrid:20241121T090000
DTEND;TZID=Europe/Madrid:20241121T133000
DTSTAMP:20260423T051959
CREATED:20260202T162233Z
LAST-MODIFIED:20260323T111611Z
UID:2277-1732179600-1732195800@beon.red
SUMMARY:2º Encuentro Saludable | Talleres y Experiencias para fomentar la Cultura del Bienestar
DESCRIPTION:21 de noviembre de 2024\, de 09:00 a 13:30 horas  Alcobendas\, Madrid. Desde BeOn* te invitamos a esta jornada con Saludando para demostrar\, desde la práctica vivencial\, que una cultura empresarial más saludable es posible\, con actividades tanto para vuestro día a día como para fechas y campañas especiales. Saludando es una empresa de entrenadores\, nutricionistas\, fisioterapeutas\, psicólogos\, profesores de yoga\, etc. que generan programas y experiencias saludables que impactan en el bienestar y el estilo de vida de las personas. Actividades muy novedosas y prácticas que permiten tanto sensibilizar como acompañar a las personas de tu organización a cuidarse. Podrás conocer en primera persona algunos de sus talleres\, así como experiencias reales de quienes ya han implementado cambios saludables en sus organizaciones. Una oportunidad única para inspirarte y llevarte herramientas prácticas que transformarán positivamente el bienestar y la vitalidad de tu empresa.Un espacio donde construir y experimentar la salud particular y organizacional.¡Ven y descubre el poder de los pequeños cambios! 100% PRESENCIAL – Aforo limitado. 		\n					\n									SOLICITUD DE PLAZA\n					\n		Queremos que disfrutes ¡al más puro estilo Saludando! Trae ropa cómoda. Unos vaqueros elásticos y una camiseta pueden funcionar perfectamente. No se sudará y no será necesario cambiarse a posteriori en los talleres físicos\, pero sí habrá que descalzarse en algunos momentos y hacer algún ejercicio de unos 30 segundos. Así fue la 1ª edición: 		\n		PROGRAMA  09:00 H Bienvenida. 09:10 H Presentación de Jornada.Antonio López\, director de Saludando Empresas. 09:25 H CASOS DE ÉXITO EN PROGRAMAS DE EMPRESA SALUDABLE.09:25 H Consultoría para la mejora de  la alimentación del personal en Ilunion Hotels: un cambio de filosofía.José Alberto Gallego\, Jefe de Seguridad\, Salud y Bienestar en Ilunion Hotels.María Victoria Rodríguez\, Responsable de Alimentación y Bebidas en Ilunion Hotels.09:45 H Uniendo acciones Saludables y Solidarias con la AECC.María Laviña\, Responsable de Sostenibilidad Económica en la Asociación Española Contra el Cáncer AECC Madrid.10:05 H Los mensajes accesibles y la  comunicación recurrente en el cambio de cultura organizacional.Helena Bravo\, Responsable de Comunicación\, Formación y Eventos en Saludando.10:20 H Incorporación progresiva de acciones saludables y deportivas a nivel nacional.Arnau Martínez\, Responsable de Bienestar en Allianz España.10:40 H Promoción de la actividad física saludable con implantación en territorio nacional.Lidia Alonso\, Responsable del departamento de Salud y Bienestar de MAPFRE. 11.00 – 11.20. MESA REDONDA CON PONENTES Y ASISTENTES.Moderada por Saludando. 11.20 – 11.50 Café Networking.Desayuno Saludable. Snacks nutritivos y Snacks de Movimiento.11.50 – 13:25 MICROTALLERES PRÁCTICOS DE 20 MIN.Rotación por grupos en turnos: 11:50 – 12:15 – 12:40 – 13:05.1. Autotratamiento de molestias de cuello y espalda.2. Enriquecimiento del entorno para las mejoras de Trastornos Músculo Esqueléticos.3. Minfuleating y regulación de la atención.4. Taller de Tupper Saludable. 13.25 – 13.30 Agradecimientos y Cierre de jornada.
URL:https://beon.red/evento/2o-encuentro-saludable-talleres-y-experiencias-para-fomentar-la-cultura-del-bienestar/
CATEGORIES:Jornadas
ATTACH;FMTTYPE=image/webp:https://beon.red/wp-content/uploads/2026/02/talleres-saludables-saludando-1.webp
END:VEVENT
END:VCALENDAR