BEGIN:VCALENDAR
VERSION:2.0
PRODID:-//Beon - ECPv6.15.17.1//NONSGML v1.0//EN
CALSCALE:GREGORIAN
METHOD:PUBLISH
X-ORIGINAL-URL:https://beon.red
X-WR-CALDESC:Eventos para Beon
REFRESH-INTERVAL;VALUE=DURATION:PT1H
X-Robots-Tag:noindex
X-PUBLISHED-TTL:PT1H
BEGIN:VTIMEZONE
TZID:Europe/Madrid
BEGIN:DAYLIGHT
TZOFFSETFROM:+0100
TZOFFSETTO:+0200
TZNAME:CEST
DTSTART:20240331T010000
END:DAYLIGHT
BEGIN:STANDARD
TZOFFSETFROM:+0200
TZOFFSETTO:+0100
TZNAME:CET
DTSTART:20241027T010000
END:STANDARD
BEGIN:DAYLIGHT
TZOFFSETFROM:+0100
TZOFFSETTO:+0200
TZNAME:CEST
DTSTART:20250330T010000
END:DAYLIGHT
BEGIN:STANDARD
TZOFFSETFROM:+0200
TZOFFSETTO:+0100
TZNAME:CET
DTSTART:20251026T010000
END:STANDARD
BEGIN:DAYLIGHT
TZOFFSETFROM:+0100
TZOFFSETTO:+0200
TZNAME:CEST
DTSTART:20260329T010000
END:DAYLIGHT
BEGIN:STANDARD
TZOFFSETFROM:+0200
TZOFFSETTO:+0100
TZNAME:CET
DTSTART:20261025T010000
END:STANDARD
END:VTIMEZONE
BEGIN:VEVENT
DTSTART;TZID=Europe/Madrid:20250620T120000
DTEND;TZID=Europe/Madrid:20250620T130000
DTSTAMP:20260422T183104
CREATED:20260202T162307Z
LAST-MODIFIED:20260320T113542Z
UID:2314-1750420800-1750424400@beon.red
SUMMARY:Webinar | Formación saludable: alimentación y estilo de vida en la menopausia
DESCRIPTION:20 junio de 2025\, de 12:00 a 13:00 horas \n*Grabación y recursos posteriores sólo disponibles para asociados/as de BeOn*. +información 917692410 prlinnovacion@prlinnovación.com  \n					\n									SOLICITUD DE PLAZA\n					 \nLa menopausia es una etapa que con frecuencia viene acompañada de cambios físicos y hormonales que pueden dificultar el mantenimiento del peso y el bienestar general. En esta formación abordaremos desde una mirada práctica y realista  cómo cuidarse en esta fase vital\, sin caer en dietas restrictivas ni soluciones milagrosas. \nEn la sesión\, abordaremos qué alimentos pueden ayudarnos a aliviar síntomas propios de esta etapa\, cómo estructurar mejor las comidas\, y cómo adoptar un estilo de vida más activo con acciones sencillas pero efectivas. Una oportunidad para adquirir herramientas concretas que te ayudarán a sentirte más ligera\, vital y en equilibrio\, adaptando el cuidado personal a esta nueva etapa de la vida. \nNo te pierdas esta oportunidad de llevarte consejos aplicables y prácticos para cuidarte sin complicaciones. ¡Te esperamos!
URL:https://beon.red/evento/webinar-formacion-saludable-alimentacion-y-estilo-de-vida-en-la-menopausia/
CATEGORIES:Webinars
ATTACH;FMTTYPE=image/webp:https://beon.red/wp-content/uploads/2026/02/alimentacion-estilo-vida-menopausia.webp
END:VEVENT
END:VCALENDAR