BEGIN:VCALENDAR
VERSION:2.0
PRODID:-//Beon - ECPv6.15.17.1//NONSGML v1.0//EN
CALSCALE:GREGORIAN
METHOD:PUBLISH
X-ORIGINAL-URL:https://beon.red
X-WR-CALDESC:Eventos para Beon
REFRESH-INTERVAL;VALUE=DURATION:PT1H
X-Robots-Tag:noindex
X-PUBLISHED-TTL:PT1H
BEGIN:VTIMEZONE
TZID:Europe/Madrid
BEGIN:DAYLIGHT
TZOFFSETFROM:+0100
TZOFFSETTO:+0200
TZNAME:CEST
DTSTART:20250330T010000
END:DAYLIGHT
BEGIN:STANDARD
TZOFFSETFROM:+0200
TZOFFSETTO:+0100
TZNAME:CET
DTSTART:20251026T010000
END:STANDARD
BEGIN:DAYLIGHT
TZOFFSETFROM:+0100
TZOFFSETTO:+0200
TZNAME:CEST
DTSTART:20260329T010000
END:DAYLIGHT
BEGIN:STANDARD
TZOFFSETFROM:+0200
TZOFFSETTO:+0100
TZNAME:CET
DTSTART:20261025T010000
END:STANDARD
BEGIN:DAYLIGHT
TZOFFSETFROM:+0100
TZOFFSETTO:+0200
TZNAME:CEST
DTSTART:20270328T010000
END:DAYLIGHT
BEGIN:STANDARD
TZOFFSETFROM:+0200
TZOFFSETTO:+0100
TZNAME:CET
DTSTART:20271031T010000
END:STANDARD
END:VTIMEZONE
BEGIN:VEVENT
DTSTART;TZID=Europe/Madrid:20260212T093000
DTEND;TZID=Europe/Madrid:20260212T133000
DTSTAMP:20260422T062113
CREATED:20260202T162340Z
LAST-MODIFIED:20260320T143553Z
UID:2342-1770888600-1770903000@beon.red
SUMMARY:Jornada y Talleres | De la Semana de la Salud a la Cultura Saludable en la Empresa
DESCRIPTION:21/04/2026 \n\n\nBienestar 360 | La importancia de los datos para definir estrategias de éxito\n\n\n\n\n\n\n\n\n\n\n\n\n\n09:30 - 13:30 \n\n\n\n\n\n\n\n\n\n\n¿Te gustaría conocer más ideas para inspirar a tu equipo a cuidarse? ¿Quieres organizar una Semana de la Salud que realmente impacte en tu equipo? ¿Te gustaría\, incluso\, que esas acciones pudieran mantenerse en el tiempo y generar una verdadera cultura de bienestar? \n\n\n\nDesde Saludando y BeOn organizamos la Jornada “De la Semana de la Salud a la cultura saludable”\, un encuentro experiencial donde vivirás en primera persona experiencias prácticas\, dinámicas y fácilmente aplicables en cualquier organización. \n\n\n\nA través de propuestas diseñadas para integrarse en el entorno laboral\, descubrirás cómo inspirar a las personas a cuidarse de forma sencilla\, cercana y con impacto\, tanto en el marco de la Semana de la salud como para desarrollar acciones de continuidad que generan cultura saludable en la empresa. \n\n\n\nUn espacio para inspirarte\, experimentar y llevarte ideas concretas que podrás trasladar directamente a tus programas de bienestar corporativo. \n\n\n\n\n\n \n\n\n\n\n\nEste evento ya ha terminado y no es posible registrarse.
URL:https://beon.red/evento/jornada-y-talleres-de-la-semana-de-la-salud-a-la-cultura-saludable-en-la-empresa/
LOCATION:Madrid\, Madrid\, Spain
CATEGORIES:Jornadas
ATTACH;FMTTYPE=image/webp:https://beon.red/wp-content/uploads/2026/03/salud-talleres-jornada-prevencion-bienestar.webp
END:VEVENT
END:VCALENDAR