BEGIN:VCALENDAR
VERSION:2.0
PRODID:-//Beon - ECPv6.15.17.1//NONSGML v1.0//EN
CALSCALE:GREGORIAN
METHOD:PUBLISH
X-WR-CALNAME:Beon
X-ORIGINAL-URL:https://beon.red
X-WR-CALDESC:Eventos para Beon
REFRESH-INTERVAL;VALUE=DURATION:PT1H
X-Robots-Tag:noindex
X-PUBLISHED-TTL:PT1H
BEGIN:VTIMEZONE
TZID:Europe/Madrid
BEGIN:DAYLIGHT
TZOFFSETFROM:+0100
TZOFFSETTO:+0200
TZNAME:CEST
DTSTART:20230326T010000
END:DAYLIGHT
BEGIN:STANDARD
TZOFFSETFROM:+0200
TZOFFSETTO:+0100
TZNAME:CET
DTSTART:20231029T010000
END:STANDARD
BEGIN:DAYLIGHT
TZOFFSETFROM:+0100
TZOFFSETTO:+0200
TZNAME:CEST
DTSTART:20240331T010000
END:DAYLIGHT
BEGIN:STANDARD
TZOFFSETFROM:+0200
TZOFFSETTO:+0100
TZNAME:CET
DTSTART:20241027T010000
END:STANDARD
BEGIN:DAYLIGHT
TZOFFSETFROM:+0100
TZOFFSETTO:+0200
TZNAME:CEST
DTSTART:20250330T010000
END:DAYLIGHT
BEGIN:STANDARD
TZOFFSETFROM:+0200
TZOFFSETTO:+0100
TZNAME:CET
DTSTART:20251026T010000
END:STANDARD
END:VTIMEZONE
BEGIN:VEVENT
DTSTART;TZID=Europe/Madrid:20241011T120000
DTEND;TZID=Europe/Madrid:20241011T130000
DTSTAMP:20260423T082650
CREATED:20260202T162228Z
LAST-MODIFIED:20260323T124323Z
UID:2274-1728648000-1728651600@beon.red
SUMMARY:Webinar Doble | Retos de Género ante el Bienestar Psicológico y la Salud Mental\, y ante el Retorno al Trabajo
DESCRIPTION:Incorporar la perspectiva de género en la gestión de los riesgos y condiciones de trabajo permite crear puestos seguros y saludables para todas las personas. Un imprescindible para las organizaciones que quieran ir más allá de la normativa y las evaluaciones\, y utilizar todos los recursos disponibles para trabajar en la mejora continua de su entorno. \nCon este objetivo nace DIGEN\, una sencilla herramienta de autodiagnóstico con la que cada organización puede identificar diferencias de género en los riesgos laborales para valorar el estado de integración de la perspectiva de género en su gestión preventiva. Un recurso que puede ayudarnos internamente a decidir dónde intervenir para que podamos priorizar acciones de mejora. \nEl proyecto\, financiado por el Instituto Andaluz de Prevención de Riesgos Laborales (IAPRL) de la Junta de Andalucía\, y desarrollado por el equipo de investigación del Laboratorio-Observatorio de Salud Laboral desde la Perspectiva de Género (LAOGEN) de la Universidad de Sevilla\, tiene hasta 9 escalas de diagnóstico diferentes\, divididos por distintas temáticas. \nDentro del programa de sensibilización de la perspectiva de género llevado a cabo con la colaboración del IAPRL\, LAOGEN y BeOn*\, el 11 de octubre celebraremos una sesión doble para abordar dos de los temas y escalas de DIGEN: \n\nde 12:00 a 12:30 h\, Francisco J. Medina y el Dr. Ignacio Ramos-Vidal tratarán la escala de Bienestar Psicológico y la Salud Mental\,\nde 12:30 a 13:00 h\, la Dra. Sara Corlett tratará la escala sobre Retorno al Trabajo.\n\nSOLICITUD DE PLAZA \n 
URL:https://beon.red/evento/webinar-doble-retos-de-genero-ante-el-bienestar-psicologico-y-la-salud-mental-y-ante-el-retorno-al-trabajo/
CATEGORIES:Webinars
ATTACH;FMTTYPE=image/webp:https://beon.red/wp-content/uploads/2026/02/webinar-reto-genero-salud-mental-retorno-1.webp
END:VEVENT
END:VCALENDAR