BEGIN:VCALENDAR
VERSION:2.0
PRODID:-//Beon - ECPv6.15.17.1//NONSGML v1.0//EN
CALSCALE:GREGORIAN
METHOD:PUBLISH
X-ORIGINAL-URL:https://beon.red
X-WR-CALDESC:Eventos para Beon
REFRESH-INTERVAL;VALUE=DURATION:PT1H
X-Robots-Tag:noindex
X-PUBLISHED-TTL:PT1H
BEGIN:VTIMEZONE
TZID:Europe/Madrid
BEGIN:DAYLIGHT
TZOFFSETFROM:+0100
TZOFFSETTO:+0200
TZNAME:CEST
DTSTART:20230326T010000
END:DAYLIGHT
BEGIN:STANDARD
TZOFFSETFROM:+0200
TZOFFSETTO:+0100
TZNAME:CET
DTSTART:20231029T010000
END:STANDARD
BEGIN:DAYLIGHT
TZOFFSETFROM:+0100
TZOFFSETTO:+0200
TZNAME:CEST
DTSTART:20240331T010000
END:DAYLIGHT
BEGIN:STANDARD
TZOFFSETFROM:+0200
TZOFFSETTO:+0100
TZNAME:CET
DTSTART:20241027T010000
END:STANDARD
BEGIN:DAYLIGHT
TZOFFSETFROM:+0100
TZOFFSETTO:+0200
TZNAME:CEST
DTSTART:20250330T010000
END:DAYLIGHT
BEGIN:STANDARD
TZOFFSETFROM:+0200
TZOFFSETTO:+0100
TZNAME:CET
DTSTART:20251026T010000
END:STANDARD
END:VTIMEZONE
BEGIN:VEVENT
DTSTART;TZID=Europe/Madrid:20240916T093000
DTEND;TZID=Europe/Madrid:20240917T173000
DTSTAMP:20260423T060319
CREATED:20260202T162216Z
LAST-MODIFIED:20260323T111647Z
UID:2265-1726479000-1726594200@beon.red
SUMMARY:Curso 'Gestión de Conflictos y Acoso Laboral'. VII Edición
DESCRIPTION:🧩 Programa interactivo ⬇️ 		\n			Your browser does not support the video tag.		\n			\n									REGISTRO\n					\n		Tarifas \nNo asociados a BeOn*: 545€ + IVA / plaza \nAsociados a BeOn*: 339€ + IVA / plaza Objetivos Un taller de 12 horas presenciales -bonificables- para profesionales de la prevención\, desarrollado en colaboración con AfforHealth y en el que aprender con expertos docentes a: Identificar el acoso laboral y distinguirlo del mero conflicto y de otras figuras afines\, adquiriendo los conocimientos necesarios para la implantación y aplicación de mecanismos de respuesta para la prevención y tratamiento del acoso laboral y para la gestión de los conflictos.Conocer las medidas preventivas que pueden implantarse en la empresa para evitar que se produzcan este tipo de conductas y darles a cada una de ellas un adecuado tratamiento\, una vez que las mismas se han producido.Adquirir los conocimientos necesarios para la correcta aplicación de los protocolos de acoso y de gestión de conflictos en la empresa.Lunes 16 Septiembre MODULO 1 VIOLENCIA LABORAL Y ACOSO LABORAL: DEFINICIÓN\, DIFERENCIAS CON OTRAS FIGURAS Y TIPOSViolencia laboral: definición y tiposAcoso laboral: definición\, tipos y diferencias con otras figuras.Fases del acoso y consecuencias del acoso.Casos prácticos.MODULO 3. GESTIÓN DE CONFLICTOS EN EL ÁMBITO DE LAS RELACIONES LABORALES: La mediación como principal herramienta.Introducción a la mediación: El conflicto (definición y tipos). La mediación (definición y principios básicos).El Protocolo de resolución de conflictos.Fases del proceso de mediación y rol del mediador.Los documentos del proceso de mediación: acta constitutiva\, acta de sesión y acta final.El acuerdo de mediación.MODULO 4. LA FIGURA DEL MEDIADOR. TÉCNICAS Y HABILIDADESCaracterísticas de la figura del mediador.Técnicas y habilidades de negociación\, comunicación y mediación.Estrategias para la mediación.Casos prácticos: vías de reclamación por acoso. Debate.Martes 17 Septiembre MODULO 2. BUENAS PRÁCTICAS EMPRESARIALES. PROTOCOLOSBuenas prácticas empresariales: El Protocolo de acoso: características del procedimiento interno.El protocolo conjunto de gestión de conflictos y Violencia laboral: principales ventajasMODULO 5. TÉCNICAS DE INVESTIGACIÓN E INTERVENCIÓN EN EL PROCEDIMIENTO INTERNO.Punto de partida: Apertura de procedimiento.Fuentes de información.La entrevista.Principio de confidencialidad.El informe de conclusionesCasos prácticos procedimiento interno acoso. Como realizar un buen informe de conclusiones. Debate
URL:https://beon.red/evento/curso-gestion-de-conflictos-y-acoso-laboral-vii-edicion/
CATEGORIES:Formación
ATTACH;FMTTYPE=image/webp:https://beon.red/wp-content/uploads/2026/02/curso-mediacion-conflictos-acoso-trabajo-laboral.webp
END:VEVENT
END:VCALENDAR