BEGIN:VCALENDAR
VERSION:2.0
PRODID:-//Beon - ECPv6.15.17.1//NONSGML v1.0//EN
CALSCALE:GREGORIAN
METHOD:PUBLISH
X-WR-CALNAME:Beon
X-ORIGINAL-URL:https://beon.red
X-WR-CALDESC:Eventos para Beon
REFRESH-INTERVAL;VALUE=DURATION:PT1H
X-Robots-Tag:noindex
X-PUBLISHED-TTL:PT1H
BEGIN:VTIMEZONE
TZID:Europe/Madrid
BEGIN:DAYLIGHT
TZOFFSETFROM:+0100
TZOFFSETTO:+0200
TZNAME:CEST
DTSTART:20240331T010000
END:DAYLIGHT
BEGIN:STANDARD
TZOFFSETFROM:+0200
TZOFFSETTO:+0100
TZNAME:CET
DTSTART:20241027T010000
END:STANDARD
BEGIN:DAYLIGHT
TZOFFSETFROM:+0100
TZOFFSETTO:+0200
TZNAME:CEST
DTSTART:20250330T010000
END:DAYLIGHT
BEGIN:STANDARD
TZOFFSETFROM:+0200
TZOFFSETTO:+0100
TZNAME:CET
DTSTART:20251026T010000
END:STANDARD
BEGIN:DAYLIGHT
TZOFFSETFROM:+0100
TZOFFSETTO:+0200
TZNAME:CEST
DTSTART:20260329T010000
END:DAYLIGHT
BEGIN:STANDARD
TZOFFSETFROM:+0200
TZOFFSETTO:+0100
TZNAME:CET
DTSTART:20261025T010000
END:STANDARD
END:VTIMEZONE
BEGIN:VEVENT
DTSTART;TZID=Europe/Madrid:20251203T170000
DTEND;TZID=Europe/Madrid:20251203T180000
DTSTAMP:20260420T143814
CREATED:20260202T162324Z
LAST-MODIFIED:20260320T112050Z
UID:2331-1764781200-1764784800@beon.red
SUMMARY:Webinar | Tendencias y retos en salud mental para este 2026
DESCRIPTION:SOLICITA TU PLAZA\n					\n				\n																\n															\n		¿Está tu estrategia de salud mental preparada para afrontar todos los cambios que trae el próximo año? Nuestro partner AfforHealth organiza el webinar Tendencias y retos en salud mental para este 2026 \nContará con 3 invitados de primer nivel que ofrecerán una visión amplia y multidisciplinar para analizar los próximos retos y desafíos:✅ Jorge Tubío Estrabón Tubío (CEO en MentallyLab & BeOn*)✅ Daniela Campos Schwarze (Jefa Técnica de Riesgos Psicosociales ACHS)✅ Jose Terol Muñoz Terol (Country Mánager España de Affor Health)No te quedes atrás y anticípate al 2026 en gestión psicosocial.
URL:https://beon.red/evento/webinar-tendencias-y-retos-en-salud-mental-para-este-2026/
CATEGORIES:Webinars
ATTACH;FMTTYPE=image/webp:https://beon.red/wp-content/uploads/2026/02/salud-mental-webinar-affor.webp
END:VEVENT
END:VCALENDAR