BEGIN:VCALENDAR
VERSION:2.0
PRODID:-//Beon - ECPv6.15.17.1//NONSGML v1.0//EN
CALSCALE:GREGORIAN
METHOD:PUBLISH
X-ORIGINAL-URL:https://beon.red
X-WR-CALDESC:Eventos para Beon
REFRESH-INTERVAL;VALUE=DURATION:PT1H
X-Robots-Tag:noindex
X-PUBLISHED-TTL:PT1H
BEGIN:VTIMEZONE
TZID:Europe/Madrid
BEGIN:DAYLIGHT
TZOFFSETFROM:+0100
TZOFFSETTO:+0200
TZNAME:CEST
DTSTART:20250330T010000
END:DAYLIGHT
BEGIN:STANDARD
TZOFFSETFROM:+0200
TZOFFSETTO:+0100
TZNAME:CET
DTSTART:20251026T010000
END:STANDARD
BEGIN:DAYLIGHT
TZOFFSETFROM:+0100
TZOFFSETTO:+0200
TZNAME:CEST
DTSTART:20260329T010000
END:DAYLIGHT
BEGIN:STANDARD
TZOFFSETFROM:+0200
TZOFFSETTO:+0100
TZNAME:CET
DTSTART:20261025T010000
END:STANDARD
BEGIN:DAYLIGHT
TZOFFSETFROM:+0100
TZOFFSETTO:+0200
TZNAME:CEST
DTSTART:20270328T010000
END:DAYLIGHT
BEGIN:STANDARD
TZOFFSETFROM:+0200
TZOFFSETTO:+0100
TZNAME:CET
DTSTART:20271031T010000
END:STANDARD
END:VTIMEZONE
BEGIN:VEVENT
DTSTART;TZID=Europe/Madrid:20260128T100000
DTEND;TZID=Europe/Madrid:20260128T120000
DTSTAMP:20260422T053200
CREATED:20260202T162334Z
LAST-MODIFIED:20260320T143629Z
UID:2336-1769594400-1769601600@beon.red
SUMMARY:Taller presencial y práctico | Programas de Primeros Auxilios para la Salud Mental
DESCRIPTION:13/05/2026 \n\n\nWebinar | Percepción del Riesgo: qué nos Frena y qué nos Impulsa a Actuar con Seguridad\n\n\n\n\n\n\n\n\n\n\n\n\n\n12:00 - 12:30 \n\n\n\n\n\n\nMentally Champions \n\n\n\nFormación práctica para profesionales de la SST. Conocimientos básicos sobre Salud Mental. Incluye pautas básicas de actuación temprana y desarrollo de habilidades emocionales y de comunicación. \n\n\n\nMentally Leaders\n\n\n\nTodas las organizaciones tienen líderes formales e informales que influyen en su cultura y día a día. Esta formación proporciona herramientas para que ellos puedan apoyar a sus equipos a través de habilidades de acompañamiento y autocuidado emocional. \n\n\n\nMentally Awareness\n\n\n\nEl objetivo principal de esta formación teórico-práctica es sensibilizar sobre la importancia del cuidado de la salud mental\, su afrontamiento\, así como la prevención y mitigación de posibles desencadenantes. \n\n\n \n\n\n\n\n\n¿Te animas a vivirlo en primera persona?\n\n\n\n\nRegístrate
URL:https://beon.red/evento/taller-presencial-y-practico-programas-de-primeros-auxilios-para-la-salud-mental/
LOCATION:Madrid\, Madrid\, Spain
CATEGORIES:Jornadas
ATTACH;FMTTYPE=image/webp:https://beon.red/wp-content/uploads/2026/02/taller-programas-mentally-salud-mental-gimnasio.webp
END:VEVENT
END:VCALENDAR