BEGIN:VCALENDAR
VERSION:2.0
PRODID:-//Beon - ECPv6.15.17.1//NONSGML v1.0//EN
CALSCALE:GREGORIAN
METHOD:PUBLISH
X-WR-CALNAME:Beon
X-ORIGINAL-URL:https://beon.red
X-WR-CALDESC:Eventos para Beon
REFRESH-INTERVAL;VALUE=DURATION:PT1H
X-Robots-Tag:noindex
X-PUBLISHED-TTL:PT1H
BEGIN:VTIMEZONE
TZID:Europe/Madrid
BEGIN:DAYLIGHT
TZOFFSETFROM:+0100
TZOFFSETTO:+0200
TZNAME:CEST
DTSTART:20250330T010000
END:DAYLIGHT
BEGIN:STANDARD
TZOFFSETFROM:+0200
TZOFFSETTO:+0100
TZNAME:CET
DTSTART:20251026T010000
END:STANDARD
BEGIN:DAYLIGHT
TZOFFSETFROM:+0100
TZOFFSETTO:+0200
TZNAME:CEST
DTSTART:20260329T010000
END:DAYLIGHT
BEGIN:STANDARD
TZOFFSETFROM:+0200
TZOFFSETTO:+0100
TZNAME:CET
DTSTART:20261025T010000
END:STANDARD
BEGIN:DAYLIGHT
TZOFFSETFROM:+0100
TZOFFSETTO:+0200
TZNAME:CEST
DTSTART:20270328T010000
END:DAYLIGHT
BEGIN:STANDARD
TZOFFSETFROM:+0200
TZOFFSETTO:+0100
TZNAME:CET
DTSTART:20271031T010000
END:STANDARD
END:VTIMEZONE
BEGIN:VEVENT
DTSTART;TZID=Europe/Madrid:20260408T100000
DTEND;TZID=Europe/Madrid:20260408T140000
DTSTAMP:20260421T173513
CREATED:20260316T121211Z
LAST-MODIFIED:20260320T125834Z
UID:4651-1775642400-1775656800@beon.red
SUMMARY:Jornada ISO 45003 | Claves Normativas para Integrar la Gestión Psicosocial en la Seguridad y Salud Laboral
DESCRIPTION:13/05/2026 \n\n\nWebinar | Percepción del Riesgo: qué nos Frena y qué nos Impulsa a Actuar con Seguridad\n\n\n\n\n\n\n\n\n\n\n\n\n\nCampus de Alcobendas. Universidad Europea. Madrid \n\n\n\n\n\n\n\n\n\n12:00 - 12:30 \n\n\n\n\n\n\n\n\nLa gestión psicosocial incluye numerosas acciones como realizar Evaluaciones de Riesgo\, aplicar medidas preventivas\, diseñar protocolos de actuación. Pero… \n\n\n\n¿cómo aterrizamos su gestión de forma integrada\, técnica y auditable? \n\n\n\nEl 8 de abril\, nuestro partner Full Audit nos mostrará cómo utilizar y aplicar la norma ISO 45003\, para seguir las directrices que aporta a la hora de incluir la gestión psicosocial en los sistemas de gestión de Seguridad y Salud. \n\n\n\n\n\n\n\n\n\n\nFundamentos teóricos \n\n\n\nAbordaremos el espíritu de la norma\, y por qué es el complemento perfecto para la ISO 45001. \n\n\n\n\n\n\n\n\n\n\n\nTaller práctico \n\n\n\nTrabajaremos aspectos concretos de la norma para identificar\, gestionar e intervenir los riesgos psicosociales. \n\n\n\n\n\n\n\n\n\n\n\nLa visión de las empresas \n\n\n\nAdemás\, contaremos con la visión de nuestra Línea de Trabajo liderada por Asier Arriaga\, y la experiencia práctica de Inetum contada por Sonia Muñoz\, Health & Diversity Manager de la compañía. \n\n\n\n\n\n\nPrograma\n\n\n\n\n\n\n\n\n\n\n10:00 h Aspectos generales de la gestión de los riesgos psicosociales y línea de trabajo. \n\n\n\n\nAsier Arriaga. Responsable de Salud Laboral en Uría Menéndez.\n\n\n\n\n\n\n\n\n\n\n\n\n10:30 h Aspectos teóricos de la Norma y su implantación. Proceso de verificación y gestión de los riesgos psicosociales. \n\n\n\n\nMónica Saiz. OHSE Lead Auditor en Full Audit.\n\n\n\n\n\n\n\n\n\n\n\n\n11:00 h Pausa \n\n\n\n\nCafé networking\n\n\n\n\n\n\n\n\n\n\n\n\n11:30 h La experiencia práctica de Inetum.  \n\n\n\n\nSonia Muñoz. Health & Diversity Manager en Inetum.\n\n\n\n\n\n\n\n\n\n\n\n\n12:00 Taller práctico: cómo trabajar y aplicar los aspectos propuestos en la Norma. \n\n\n\n\nDaniel Tapial. Business Development Director en Full Audit.\n\n\n\nMónica Saiz. OHSE Lead Auditor en Full Audit.\n\n\n\nAsier Arriaga. Responsable de Salud Laboral en Uría Menéndez.\n\n\n\n\n\n\n\n\n\n\n\n\n14:00 Fin de la jornada. \n\n\n\n\n\n \n\n\n\n\n\n¡Ven y aprende a crear tu hoja de ruta integrada!\n\n\n\nRegístrate en la lista de espera. Aforo limitado. Plazas prioritarias para socios de BeOn. \n\n\n\n\nRegístrate\n\n\n\n\n\n\n\n\n\n\n\n\n\n\nDefinir fecha y hora
URL:https://beon.red/evento/jornada-iso-45003-normativa-integrar-gestion-psicosocial-seguridad-salud-laboral/
LOCATION:Madrid\, Madrid\, Spain
CATEGORIES:Jornadas
ATTACH;FMTTYPE=image/webp:https://beon.red/wp-content/uploads/2026/03/iso-45003-psicosocial-salud-laboral-trabajo.webp
END:VEVENT
BEGIN:VEVENT
DTSTART;TZID=Europe/Madrid:20260414T100000
DTEND;TZID=Europe/Madrid:20260414T133000
DTSTAMP:20260421T173513
CREATED:20260316T120331Z
LAST-MODIFIED:20260409T072633Z
UID:4648-1776160800-1776173400@beon.red
SUMMARY:Taller presencial y práctico | Programas de Primeros Auxilios para la Salud Mental
DESCRIPTION:13/05/2026 \n\n\nWebinar | Percepción del Riesgo: qué nos Frena y qué nos Impulsa a Actuar con Seguridad\n\n\n\n\n\n\n\n\n\n\n\n\n\nMadrid \n\n\n\n\n\n\n\n\n\n12:00 - 12:30 \n\n\n\n\n\n\n\n\n\nImpartido por Rosana Calvo\, Psicóloga Sanitaria y Entrenadora emocional en Gimnasio Emocional. \n\n\n\n\n\n\n\n\nMentally Champions\n\n\n\nFormación práctica para profesionales de la SST. Conocimientos básicos sobre Salud Mental. Incluye pautas básicas de actuación temprana y desarrollo de habilidades emocionales y de comunicación. \n\n\n\nMentally Leaders\n\n\n\nTodas las organizaciones tienen líderes formales e informales que influyen en su cultura y día a día. Esta formación proporciona herramientas para que ellos puedan apoyar a sus equipos a través de habilidades de acompañamiento y autocuidado emocional. \n\n\n\nMentally Awareness\n\n\n\nEl objetivo principal de esta formación teórico-práctica es sensibilizar sobre la importancia del cuidado de la salud mental\, su afrontamiento\, así como la prevención y mitigación de posibles desencadenantes. \n\n\n \n\n\n\n\n\n¿Te animas a vivirlo en primera persona?\n\n\n\n\nRegístrate\n\n\n\n\n\n\n\n\n\n\n\n\n\n\nDefinir fecha y hora
URL:https://beon.red/evento/taller-presencial-y-practico-programas-de-primeros-auxilios-para-la-salud-mental-2/
LOCATION:Madrid\, Madrid\, Spain
CATEGORIES:Jornadas
ATTACH;FMTTYPE=image/webp:https://beon.red/wp-content/uploads/2026/03/salud-mental-mentally-taller-programa-primeros-auxilios.webp
END:VEVENT
BEGIN:VEVENT
DTSTART;TZID=Europe/Madrid:20260416T120000
DTEND;TZID=Europe/Madrid:20260416T130000
DTSTAMP:20260421T173513
CREATED:20260316T115354Z
LAST-MODIFIED:20260417T065512Z
UID:4641-1776340800-1776344400@beon.red
SUMMARY:Webinar | Claves Normativas para integrar la ISO 45003 en la Gestión Psicosocial
DESCRIPTION:13/05/2026 \n\n\nWebinar | Percepción del Riesgo: qué nos Frena y qué nos Impulsa a Actuar con Seguridad\n\n\n\n\n\n\n\n\n\n\n\n\n\n\n\n\n\n\nLa jornada y taller previstos para el 8 de abril sobre la ISO 45003 de Gestión Psicosocial han alcanzado su aforo completo rápidamente\, por lo que hemos tenido que abrir lista de espera. \n\n\n\n¿Te has quedado plaza? No te preocupes\, hemos organizado un webinar el jueves 16 de abril a las 12:00 h con nuestro partner Full Audit para que puedas conocer algunas de las claves que veremos durante su intervención\, y conocer: \n\n\n\n\n\n\n\n\n\nFundamentos teóricos y por qué es el complemento perfecto para la ISO 45001 \n\n\n\n\n\n\n\n\n\nDirectrices de la norma para integrar la gestión psicosocial en los sistemas SST \n\n\n\n\n\n\n\n\n\nCómo aterrizar su gestión de forma práctica\, técnica y auditable \n\n\n\n\n\n¡Ven y aprende a crear tu hoja de ruta integrada! \n\n\n \n\n\n\n\n\n¿Te animas a vivirlo en primera persona?\n\n\n\n\nRegístrate\n\n\n\n\n\n\n\n\n\n\n\n\n\n\n\n\nDefinir fecha y hora
URL:https://beon.red/evento/webinar-claves-normativas-para-integrar-la-iso-45003-en-la-gestion-psicosocial/
CATEGORIES:Webinars
ATTACH;FMTTYPE=image/webp:https://beon.red/wp-content/uploads/2026/03/webinar-iso-45003-psicosocial.webp
END:VEVENT
BEGIN:VEVENT
DTSTART;TZID=Europe/Madrid:20260421T093000
DTEND;TZID=Europe/Madrid:20260421T133000
DTSTAMP:20260421T173513
CREATED:20260330T102606Z
LAST-MODIFIED:20260416T133245Z
UID:5475-1776763800-1776778200@beon.red
SUMMARY:Bienestar 360 | La importancia de los datos para definir estrategias de éxito
DESCRIPTION:13/05/2026 \n\n\nWebinar | Percepción del Riesgo: qué nos Frena y qué nos Impulsa a Actuar con Seguridad\n\n\n\n\n\n\n\n\n\n\n\n\n\nTorre Mapfre de Barcelona \n\n\n\n\n\n\n\n\n\n12:00 - 12:30 \n\n\n\n\n\n\n\n\n\n\nConocer la realidad -medible- del Bienestar y Salud en nuestra organización nos ayudará a 🎯 definir estrategias globales que amplifiquen el impacto de nuestras acciones. Pero\, ¿de qué datos cualitativos y cuantitativos podemos disponer? ¿Qué fuentes sirven a cada propósito y cómo combinarlas?El próximo 21 de abril\, nos reunimos presencialmente en la Torre Mapfre de Barcelona para dejar atrás las suposiciones y poner el foco en el único lenguaje que garantiza el éxito a largo plazo: los datos. \n\n\n\n\nHoja de ruta de los líderes ✅ Contaremos con la experiencia directa de tres empresas\, Ferrer\, PreZero España y CaixaBank\, quienes compartirán los aciertos (y los retos) de sus programas de Bienestar.\n\n\n\nEvidencia y Tendencias 📊 Nuestros partners Savia y Quirónprevención presentarán los insights de sus informes y desglosarán los macro-datos que están redefiniendo el sector.\n\n\n\nMetodología de Medición 💡 Nuestra Línea de Trabajo nos contará qué focos y objetivos se definido para desarrollar una herramienta de medición 360 en bienestar físico\, mental y social.\n\n\n\nDebate Crítico 🎤 Finalizaremos con una mesa de debate con las tres empresas y moderada por nuestro partner Full Audit\, para comentar sus hojas de ruta y cómo redefinir los modelos actuales.\n\n\n\nAdemás\, sólo ese día y en exclusiva\, después del evento podremos 🎟️ visitar el centro Centro KBr de la Fundación Mapfre ¡de forma 100% gratuita!\n\n\n\n \n\n\n\n\n\n­Ven y lidera el Bienestar integral de las Personas.\n\n\n\n\nRegístrate\n\n\n\n\n\n\n\n \n\n\n\nPrograma \n\n\n\n\n09:30 Acreditación y registro\n\n\n\n10:00 El impacto del Bienestar: datos y tendencias\n\n10:00 Alfredo Hernández. Director de Desarrollo de Negocio de Savia.\n\n\n\n10:30 David de Juan. Responsable de Proyectos Especiales y Data Analytics de Quironprevención.\n\n\n\n\n\n11:00 Pausa Café Networking.\n\n\n\n11:30 Bienestar físico\, mental y social: medición 360 en la Línea de Trabajo ‘Bienestar’ de BeOn.\n\nJoaquín Cabrera. Environmental\, Health & Safety Manager de John Deere.\n\n\n\nMónica Fiori. Health\, Safety & Wellbeing Director de Ferrer.\n\n\n\n\n\n11:45 Casos de éxito y programas de Bienestar\n\n11:45 Mónica Fiori. Health\, Safety & Wellbeing Director de Ferrer.\n\n\n\n12:10 José V. Navarro\, Jefe de Seguridad y Salud\, y Carmen Mª Esquinas\, Manager Atracción de Talento y Bienestar\, de Prezero.\n\n\n\n12:35 Javier Rojas. Director de Bienestar y PRL de Caixabank.\n\n\n\n13:00 Mesa Debate. Moderada por Daniel Tapial\, Business Development Director de Full Audit.\n\n\n\n\n\n13:30 Visita Gratuita a la Exposición de la Fundación Mapfre\, KBR Barcelona.\n\n\n\n\n\n\n\n\n\n\n\nDefinir fecha y hora
URL:https://beon.red/evento/bienestar-360-la-importancia-de-los-datos-para-definir-estrategias-de-exito/
LOCATION:Barcelona\, Barcelona\, Spain
CATEGORIES:Jornadas
ATTACH;FMTTYPE=image/webp:https://beon.red/wp-content/uploads/2026/04/Bienestar-Barcelona-Abril-2026.webp
END:VEVENT
BEGIN:VEVENT
DTSTART;TZID=Europe/Madrid:20260424T120000
DTEND;TZID=Europe/Madrid:20260424T130000
DTSTAMP:20260421T173513
CREATED:20260408T073902Z
LAST-MODIFIED:20260408T073902Z
UID:5525-1777032000-1777035600@beon.red
SUMMARY:3er Webinar Sostenible | Acelerar la Transición Energética a una Movilidad Sostenible e Inteligente
DESCRIPTION:13/05/2026 \n\n\nWebinar | Percepción del Riesgo: qué nos Frena y qué nos Impulsa a Actuar con Seguridad\n\n\n\n\n\n\n\n\n\n\n\n\n\n\nLa movilidad sostenible es el resultado de tres décadas de decisiones políticas\, avances tecnológicos y compromisos climáticos\, que afectan tanto a particulares y administración\, como a empresas y a toda su cadena de valor. \n\n\n\nEl 24 de abril\, de 12:00 a 13:00 horas\, celebramos el 3er Webinar Sostenible de la Línea de Trabajo BeOn. \n\n\n\n¿Qué analizamos en esta sesión? \n\n\n\n\n\n\n\n\n\nMarco normativo: nuestro compañero Rafael Ayuso abordará el origen de la estrategia europea\, así como los planes y estrategias españolas derivadas de la normativa comunitaria. \n\n\n\n\n\n\n\n\n\nRequisitos para las empresas: Elena Castro y Full Audit desgranarán la Ley 7/2021 de cambio climático y transición energética\, y la Ley 9/2025 de Movilidad Sostenible\, y cómo encaja el aspecto de transporte sostenible en CSRD y VSME. \n\n\n\n\n\n\n\n\n\nEjemplo práctico: contaremos con la experiencia de Maribel Villafranca y la empresa Zunder\, para conocer las barreras -cada vez menores- que hay para integrar la movilidad sostenible\, soluciones\, casos de éxito…   \n\n\n\n\n \n\n\n\n\n\n¡Transforma la normativa en una oportunidad para tu empresa!\n\n\n\n\nRegístrate\n\n\n\n\n\n\n\n\n\n\n\n\n\n\nDefinir fecha y hora
URL:https://beon.red/evento/3er-webinar-sostenible-acelerar-la-transicion-energetica-a-una-movilidad-sostenible-e-inteligente/
CATEGORIES:Webinars
ATTACH;FMTTYPE=image/webp:https://beon.red/wp-content/uploads/2026/04/webinar-movilidad-sostenible.webp
END:VEVENT
BEGIN:VEVENT
DTSTART;TZID=Europe/Madrid:20260506T100000
DTEND;TZID=Europe/Madrid:20260506T140000
DTSTAMP:20260421T173513
CREATED:20260409T070510Z
LAST-MODIFIED:20260409T070510Z
UID:5541-1778061600-1778076000@beon.red
SUMMARY:Visita a Idilia Foods. Cultura Lean e Integración Preventiva
DESCRIPTION:13/05/2026 \n\n\nWebinar | Percepción del Riesgo: qué nos Frena y qué nos Impulsa a Actuar con Seguridad\n\n\n\n\n\n\n\n\n\n\nIdilia. Carretera Nacional C-17\, Km 16.138\, 08150 Parets del Vallès\, Barcelona. maps \n\n\n\n\n\nEl 6 de mayo\, visitaremos en exclusiva la fábrica de nuestro socio Idilia en Paret del Vallés (Barcelona). Mercè Serra\, HSE Manager de la compañía y su equipo\, nos guiarán en un Plant Tour de 2 horas enfocado a la integración de la cultura Lean en la gestión de la Seguridad y Salud. \n\n\n\nA lo largo del recorrido\, conoceremos de primera mano diferentes iniciativas de Lean Safety implantadas en sus operaciones\, como las SOT’s (Safety Observation Tours) y el espacio Safety Corner\, diseñados para fomentar la participación activa y la mejora continua.  \n\n\n\nVeremos en directo las rutinas de gestión y seguimiento\, como las reuniones estructuradas en entorno SPQVDC\, donde se integran los indicadores de seguridad dentro del sistema diario de gestión\, facilitando la toma de decisiones ágil y basada en datos. \n\n\n\nAdemás\, contaremos con la experiencia y recomendaciones de Salvador Carmona\, Director de Imastres y Director del Área de Consultoría de PrevenControl. \n\n\n\nUna mañana repleta de herramientas y estrategias\, para saber cómo impulsar un modelo preventivo proactivo que nos permita implicar a personas de todas las áreas\, e integrar la seguridad en la operativa diaria. \n\n\n \n\n\n\n\n\n¡Ven y forma parte de esta jornada exclusiva!\n\n\n\nAforo limitado. Plazas prioritarias para socios de BeOn. \n\n\n\n\nRegístrate\n\n\n\n\n\n\n\n\n\n\n\n\n\n\nDefinir fecha y hora
URL:https://beon.red/evento/visita-a-idilia-foods-cultura-lean-e-integracion-preventiva/
LOCATION:Barcelona\, Barcelona\, Spain
CATEGORIES:Visitas
ATTACH;FMTTYPE=image/webp:https://beon.red/wp-content/uploads/2026/04/visita-idilia-barcelona-prevencion-cultura-lean-safety.webp
END:VEVENT
BEGIN:VEVENT
DTSTART;TZID=Europe/Madrid:20260513T120000
DTEND;TZID=Europe/Madrid:20260513T123000
DTSTAMP:20260421T173513
CREATED:20260414T101756Z
LAST-MODIFIED:20260415T062434Z
UID:5604-1778673600-1778675400@beon.red
SUMMARY:Webinar | Percepción del Riesgo: qué nos Frena y qué nos Impulsa a Actuar con Seguridad
DESCRIPTION:13/05/2026 \n\n\nWebinar | Percepción del Riesgo: qué nos Frena y qué nos Impulsa a Actuar con Seguridad\n\n\n\n\n\n\n\n\n\n\n\n\n\n12:00 - 12:30 \n\n\n\n\n\n\n¿Por qué profesionales con años de experiencia toman a veces decisiones arriesgadas\, aunque conozcan perfectamente el peligro? La respuesta puede tener más  que ver con nuestra propia naturaleza\, nuestras capacidades y limitaciones\, que con la falta de formación. \n\n\n\nEl 13 de mayo\, nuestra Línea de Trabajo en Cultura Preventiva comienza una serie de 🖥️ webinars dedicados a la Percepción del Riesgo\, para abordar los factores\, barreras y soluciones prácticas que rodean a este concepto. Ese día\, de 12:00 a 12:30h\, nos conectaremos en directo con Salvador Carmona\, Director de nuestro partner Imastres\, para comenzar por las bases y hablar sobre: \n\n\n\n\n💡 qué es realmente la percepción del riesgo\,\n\n\n\n🚥 de qué factores depende\,\n\n\n\n🚫 y por qué nuestra naturaleza nos lleva\, en muchas ocasiones\, a minimizarlo.\n\n\n\n\nPero hay algo más: percibir el riesgo no garantiza actuar de forma segura. \n\n\n\nAnalizaremos la diferencia entre percepción y actitud ante el riesgo\, y por qué la motivación por la seguridad es la pieza que a menudo falta en nuestras intervenciones. \n\n\n\n\n\n¡Únete forma parte del cambio!\n\n\n\n\nRegístrate\n\n\n\n\n\n\n\n\n\n\n\nDefinir fecha y hora
URL:https://beon.red/evento/webinar-percepcion-riesgo-frena-impulsa-actuar-seguridad/
CATEGORIES:Webinars
ATTACH;FMTTYPE=image/webp:https://beon.red/wp-content/uploads/2026/04/persepcion-riesgo-seguridad.webp
END:VEVENT
END:VCALENDAR