BEGIN:VCALENDAR
VERSION:2.0
PRODID:-//Beon - ECPv6.15.17.1//NONSGML v1.0//EN
CALSCALE:GREGORIAN
METHOD:PUBLISH
X-WR-CALNAME:Beon
X-ORIGINAL-URL:https://beon.red
X-WR-CALDESC:Eventos para Beon
REFRESH-INTERVAL;VALUE=DURATION:PT1H
X-Robots-Tag:noindex
X-PUBLISHED-TTL:PT1H
BEGIN:VTIMEZONE
TZID:Europe/Madrid
BEGIN:DAYLIGHT
TZOFFSETFROM:+0100
TZOFFSETTO:+0200
TZNAME:CEST
DTSTART:20240331T010000
END:DAYLIGHT
BEGIN:STANDARD
TZOFFSETFROM:+0200
TZOFFSETTO:+0100
TZNAME:CET
DTSTART:20241027T010000
END:STANDARD
BEGIN:DAYLIGHT
TZOFFSETFROM:+0100
TZOFFSETTO:+0200
TZNAME:CEST
DTSTART:20250330T010000
END:DAYLIGHT
BEGIN:STANDARD
TZOFFSETFROM:+0200
TZOFFSETTO:+0100
TZNAME:CET
DTSTART:20251026T010000
END:STANDARD
BEGIN:DAYLIGHT
TZOFFSETFROM:+0100
TZOFFSETTO:+0200
TZNAME:CEST
DTSTART:20260329T010000
END:DAYLIGHT
BEGIN:STANDARD
TZOFFSETFROM:+0200
TZOFFSETTO:+0100
TZNAME:CET
DTSTART:20261025T010000
END:STANDARD
END:VTIMEZONE
BEGIN:VEVENT
DTSTART;TZID=Europe/Madrid:20250403T100000
DTEND;TZID=Europe/Madrid:20250403T133000
DTSTAMP:20260421T212128
CREATED:20260202T162245Z
LAST-MODIFIED:20260323T101659Z
UID:2296-1743674400-1743687000@beon.red
SUMMARY:Taller Práctico: Gestión del cambio en seguridad: metodologías y herramientas para el éxito
DESCRIPTION: 3 abril 2025\, de 10:00 a 13:30 horas. Universidad Europea. Avda Fernando Alonso\, 8. Alcobendas. Madrid \nEn este taller práctico\, exploraremos cómo aplicar la metodología Change Certification de John Kotter para impulsar cambios efectivos y sostenibles en seguridad y salud laboral. A través de un enfoque estructurado y dinámico\, aprenderás a: \n✅ Identificar los impulsores del cambio y superar resistencias. \n✅ Aplicar las 8 etapas del cambio de Kotter en entornos de seguridad. \n✅ Utilizar herramientas prácticas para liderar la transformación cultural. \n✅ Fomentar el compromiso y la participación activa de los equipos. \nA lo largo de la sesión\, trabajaremos con casos prácticos y dinámicas colaborativas para que puedas implementar estrategias de cambio con éxito en tu organización. \nSOLICITUD DE PLAZA
URL:https://beon.red/evento/taller-practico-gestion-del-cambio-en-seguridad-metodologias-y-herramientas-para-el-exito/
LOCATION:Madrid\, Madrid\, Spain
CATEGORIES:Jornadas
END:VEVENT
BEGIN:VEVENT
DTSTART;TZID=Europe/Madrid:20250409T100000
DTEND;TZID=Europe/Madrid:20250409T133000
DTSTAMP:20260421T212129
CREATED:20260202T162243Z
LAST-MODIFIED:20260323T101619Z
UID:2291-1744192800-1744205400@beon.red
SUMMARY:Cultura Preventiva | Cómo Mejorar la Conciencia y la Percepción del Riesgo en Seguridad y Salud
DESCRIPTION:09 de abril de 2025\, de 10:00 a 13:30 horas. \n Foment del Treball Nacional. Via Laietana\, 32. 08003 Barcelona \nSOLICITUD DE PLAZA \n¿Eres asociado/a y te perdiste las últimas jornadas de Cultura Preventiva? \nAccede a la intranet de recursos con grabaciones y documentación de los eventos (si aún no tienes usuario\, puedes crearte uno aquí). \n\n10:00 h Objetivos y hoja de ruta. El camino recorrido por la Línea de Trabajo.\n\nCo-Coordinador de Cultura Preventiva en BeOn*.\n\n\n10:15 h Percepción del riesgo\, ¿De qué estamos hablando? Análisis de factores para mejorar la percepción y la motivación.\n\nSalvador Carmona. Director de i+3.\n\n\n10:45 h Experiencia Práctica de Estrella Galicia. Formación Operativa en Seguridad.\n\nCristina Dosil\, Responsable de Seguridad y Salud Laboral en Hijos de Rivera.\n\n\n11:15 h Café networking.\n11:45 h Experiencia Práctica de GBfoods. ‘Cazador’ de Riesgos.\n\nRubén Rodríguez\, Health & Safety Manager Europe en GBfoods.\n\n\n12:15 h Experiencia Práctica de John Deere. eProject y Safety Leader Passport. \n\nIsabel Cirujano\, EHS Professional en John Deere.\n\n\n12:45 Mesa redonda y debate.\n\nModerada por xxx\, Co-Coordinador de Cultura Preventiva en BeOn*.\nSalvador Carmona. Director de i+3.\nCristina Dosil\, Responsable de Seguridad y Salud Laboral en Hijos de Rivera.\nRubén Rodríguez\, Health & Safety Manager Europe en GBfoods.\nIsabel Cirujano\, EHS Professional en John Deere.\n\n\n13.20 h Cierre y conclusiones.\n\nCo-Coordinador de Cultura Preventiva en BeOn*.\n\n\n13:30 h Fin de la jornada.
URL:https://beon.red/evento/cultura-preventiva-como-mejorar-la-conciencia-y-la-percepcion-del-riesgo-en-seguridad-y-salud-2/
LOCATION:Barcelona\, Barcelona\, Spain
CATEGORIES:Jornadas
END:VEVENT
BEGIN:VEVENT
DTSTART;TZID=Europe/Madrid:20250409T100000
DTEND;TZID=Europe/Madrid:20250409T133000
DTSTAMP:20260421T212129
CREATED:20260202T162245Z
LAST-MODIFIED:20260323T101518Z
UID:2294-1744192800-1744205400@beon.red
SUMMARY:(Barcelona) Cultura Preventiva | Cómo Mejorar la Percepción del Riesgo en Seguridad
DESCRIPTION:9 abril 2025\, de 10:00 a 13:30 horas. \n📍 Foment del Trebal Nacional. Via Laietana. Barcelona \nSOLICITUD DE PLAZA \n\n10.00 h Bienvenida y apertura\n\n\n\nCésar Sánchez\, Director de la Oficina de Prevención de Riesgos Laborales de Foment del Treball.\nSara Maroto\, Responsable de Comunicación de BeOn*.\n\n\n\n\n 10:05 h Objetivos y hoja de ruta. El camino recorrido por la Línea de Trabajo.\n\n\n\nSalvador Carmona\, Director de i+3 y partner la LT Cultura Preventiva de BeOn*.\n\n\n\n\n 10:15 h Percepción del riesgo\, ¿de qué estamos hablando? Análisis de factores para mejorar la percepción y la motivación.\n\n\n\nSalvador Carmona\, Director de i+3 y partner la LT Cultura Preventiva de BeOn*.\n\n\n\n\n 10:45 h Experiencia Práctica de Estrella Galicia. Formación Operativa en Seguridad.\n\n\n\nCristina Dosil\, Responsable de Seguridad y Salud Laboral en Hijos de Rivera.\n\n\n\n\n 11:15 h Café networking.\n 11:45 h Experiencia Práctica de GBfoods. ‘Cazador’ de Riesgos.\n\n\n\nRubén Rodríguez\, Health & Safety Manager Europe en GBfoods.\n\n\n\n\n 12:15 h Experiencia Práctica de TKE. Safety Transformation Programme. \n\n\n\nCarolina Díaz. Técnico de Prevención en TKE\n\n\n\n\n 12:45 Mesa redonda y debate.\n 13.20 h Cierre y conclusiones.\n 13:30 h Fin de la jornada.
URL:https://beon.red/evento/barcelona-cultura-preventiva-como-mejorar-la-percepcion-del-riesgo-en-seguridad/
LOCATION:Barcelona\, Barcelona\, Spain
CATEGORIES:Jornadas
ATTACH;FMTTYPE=image/webp:https://beon.red/wp-content/uploads/2026/02/cultura-preventiva-percepcion-riesgo-barcelona-1.webp
END:VEVENT
BEGIN:VEVENT
DTSTART;TZID=Europe/Madrid:20250410T000000
DTEND;TZID=Europe/Madrid:20250411T235900
DTSTAMP:20260421T212129
CREATED:20260202T162300Z
LAST-MODIFIED:20260323T101330Z
UID:2302-1744243200-1744415940@beon.red
SUMMARY:Curso sobre CAE efectiva
DESCRIPTION:📅 Fecha: 10 y 11 de abril de 2025⏰ Horario: 09:00 – 14:00 h📍 Lugar: Aula del IRSST – c/Ventura Rodríguez\, 7\, 3ª planta (Metro Plaza España)💻 Modalidad: Presencial \n\n\n\nEl propósito de este curso es entender las figuras legales de las empresas relativas a la CAE y proporcionar conocimientos teóricos sólidos sobre las Directrices para una eficaz Coordinación de Actividades Empresariales. Además\, se identifican las posibles barreras y desarrollan\, mediante casos prácticos\, un diagnóstico analizando los aspectos esenciales\, la documentación y el posible impacto en las actividades de la empresa \n\n\n\nInscripción: \n\n\n\nSi desea participar\, puede inscribirse a través del siguiente enlace: \n\n\n\n\n🔗 https://forms.office.com/e/bFvqWSXeiG\n\n\n\n\nNormas de asistencia y certificación: \n\n\n\n✅ Asistencia presencial: Requiere confirmación previa debido al aforo limitado por ello se les enviará un requerimiento de interés al que tendrá que contestar. A posteriori le enviaremos confirmación de plaza por riguroso orden de entrada de solicitud. Es imprescindible presentar la confirmación de plaza para acceder al evento. \n\n\n\n📜 Certificación: Para obtener el certificado de aprovechamiento\, es necesario haber participado en al menos el 80% de la jornada.
URL:https://beon.red/evento/curso-sobre-cae-efectiva/
LOCATION:Madrid\, Madrid\, Spain
CATEGORIES:Formación
ATTACH;FMTTYPE=image/webp:https://beon.red/wp-content/uploads/2026/02/cae-efectiva-2025.webp
END:VEVENT
BEGIN:VEVENT
DTSTART;TZID=Europe/Madrid:20250429T091500
DTEND;TZID=Europe/Madrid:20250429T133000
DTSTAMP:20260421T212129
CREATED:20260202T162300Z
LAST-MODIFIED:20260323T101238Z
UID:2304-1745918100-1745933400@beon.red
SUMMARY:(Palma) El impacto de la gestión psicosocial. Instrumentos de evaluación y casos prácticos
DESCRIPTION:
URL:https://beon.red/evento/palma-el-impacto-de-la-gestion-psicosocial-instrumentos-de-evaluacion-y-casos-practicos/
LOCATION:Palma\, Palma\, Spain
CATEGORIES:Jornadas
ATTACH;FMTTYPE=image/webp:https://beon.red/wp-content/uploads/2026/02/20250429-GESTION-PSICOSOCIALES-CAEB.webp
END:VEVENT
END:VCALENDAR