BEGIN:VCALENDAR
VERSION:2.0
PRODID:-//Beon - ECPv6.15.17.1//NONSGML v1.0//EN
CALSCALE:GREGORIAN
METHOD:PUBLISH
X-ORIGINAL-URL:https://beon.red
X-WR-CALDESC:Eventos para Beon
REFRESH-INTERVAL;VALUE=DURATION:PT1H
X-Robots-Tag:noindex
X-PUBLISHED-TTL:PT1H
BEGIN:VTIMEZONE
TZID:Europe/Madrid
BEGIN:DAYLIGHT
TZOFFSETFROM:+0100
TZOFFSETTO:+0200
TZNAME:CEST
DTSTART:20240331T010000
END:DAYLIGHT
BEGIN:STANDARD
TZOFFSETFROM:+0200
TZOFFSETTO:+0100
TZNAME:CET
DTSTART:20241027T010000
END:STANDARD
BEGIN:DAYLIGHT
TZOFFSETFROM:+0100
TZOFFSETTO:+0200
TZNAME:CEST
DTSTART:20250330T010000
END:DAYLIGHT
BEGIN:STANDARD
TZOFFSETFROM:+0200
TZOFFSETTO:+0100
TZNAME:CET
DTSTART:20251026T010000
END:STANDARD
BEGIN:DAYLIGHT
TZOFFSETFROM:+0100
TZOFFSETTO:+0200
TZNAME:CEST
DTSTART:20260329T010000
END:DAYLIGHT
BEGIN:STANDARD
TZOFFSETFROM:+0200
TZOFFSETTO:+0100
TZNAME:CET
DTSTART:20261025T010000
END:STANDARD
END:VTIMEZONE
BEGIN:VEVENT
DTSTART;TZID=Europe/Madrid:20250602T093000
DTEND;TZID=Europe/Madrid:20250603T173000
DTSTAMP:20260422T032724
CREATED:20260202T162300Z
LAST-MODIFIED:20260323T100812Z
UID:2305-1748856600-1748971800@beon.red
SUMMARY:Curso 'Gestión de Conflictos y Acoso Laboral'. IX Edición
DESCRIPTION:🧩 Programa interactivo ⬇️ \n\n\n\nREGISTRO \n\n\n\nTarifas \n\n\n\nNo asociados a BeOn*: 545€ + IVA / plaza \n\n\n\nAsociados a BeOn*: 339€ + IVA / plaza \n\n\n\nObjetivos \n\n\n\nUn taller de 16 horas presenciales – 12 bonificables- para profesionales de la prevención\, desarrollado en colaboración con AfforHealth y en el que aprender con expertos docentes a: \n\n\n\n\nIdentificar el acoso laboral y distinguirlo del mero conflicto y de otras figuras afines\, adquiriendo los conocimientos necesarios para la implantación y aplicación de mecanismos de respuesta para la prevención y tratamiento del acoso laboral y para la gestión de los conflictos.\n\n\n\nConocer las medidas preventivas que pueden implantarse en la empresa para evitar que se produzcan este tipo de conductas y darles a cada una de ellas un adecuado tratamiento\, una vez que las mismas se han producido.\n\n\n\nAdquirir los conocimientos necesarios para la correcta aplicación de los protocolos de acoso y de gestión de conflictos en la empresa.\n\n\n\n\nLunes 2 junio 2025 \n\n\n\n\nMODULO 1 VIOLENCIA LABORAL Y ACOSO LABORAL: DEFINICIÓN\, DIFERENCIAS CON OTRAS FIGURAS Y TIPOS\n\nViolencia laboral: definición y tipos\n\n\n\nAcoso laboral: definición\, tipos y diferencias con otras figuras.\n\n\n\nFases del acoso y consecuencias del acoso.\n\n\n\nCasos prácticos.\n\n\n\n\n\nMODULO 3. GESTIÓN DE CONFLICTOS EN EL ÁMBITO DE LAS RELACIONES LABORALES: La mediación como principal herramienta.\n\nIntroducción a la mediación: El conflicto (definición y tipos). La mediación (definición y principios básicos).\n\n\n\nEl Protocolo de resolución de conflictos.\n\n\n\nFases del proceso de mediación y rol del mediador.\n\n\n\nLos documentos del proceso de mediación: acta constitutiva\, acta de sesión y acta final.\n\n\n\nEl acuerdo de mediación.\n\n\n\n\n\nMODULO 4. LA FIGURA DEL MEDIADOR. TÉCNICAS Y HABILIDADES\n\nCaracterísticas de la figura del mediador.\n\n\n\nTécnicas y habilidades de negociación\, comunicación y mediación.\n\n\n\nEstrategias para la mediación.\n\n\n\n\n\nCasos prácticos: vías de reclamación por acoso. Debate.\n\n\n\n\nMartes 3 junio 2025 \n\n\n\n\nMODULO 2. BUENAS PRÁCTICAS EMPRESARIALES. PROTOCOLOS\n\nBuenas prácticas empresariales: El Protocolo de acoso: características del procedimiento interno.\n\n\n\nEl protocolo conjunto de gestión de conflictos y Violencia laboral: principales ventajas\n\n\n\n\n\nMODULO 5. TÉCNICAS DE INVESTIGACIÓN E INTERVENCIÓN EN EL PROCEDIMIENTO INTERNO.\n\nPunto de partida: Apertura de procedimiento.\n\n\n\nFuentes de información.\n\n\n\nLa entrevista.\n\n\n\nPrincipio de confidencialidad.\n\n\n\nEl informe de conclusiones\n\n\n\n\n\nCasos prácticos procedimiento interno acoso. Como realizar un buen informe de conclusiones. Debate
URL:https://beon.red/evento/curso-gestion-de-conflictos-y-acoso-laboral-ix-edicion/
LOCATION:Madrid\, Madrid\, Spain
CATEGORIES:Formación
ATTACH;FMTTYPE=image/webp:https://beon.red/wp-content/uploads/2026/02/curso-acoso-mediacion-conflictos.webp
END:VEVENT
BEGIN:VEVENT
DTSTART;TZID=Europe/Madrid:20250604T091500
DTEND;TZID=Europe/Madrid:20250604T133000
DTSTAMP:20260422T032724
CREATED:20260202T162302Z
LAST-MODIFIED:20260323T095717Z
UID:2310-1749028500-1749043800@beon.red
SUMMARY:(Palma) Absentismo Laboral | Impacto\, retos y soluciones
DESCRIPTION:20250604 ABSENTISMO LABORAL
URL:https://beon.red/evento/palma-absentismo-laboral-impacto-retos-y-soluciones/
CATEGORIES:Jornadas
END:VEVENT
BEGIN:VEVENT
DTSTART;TZID=Europe/Madrid:20250610T100000
DTEND;TZID=Europe/Madrid:20250610T133000
DTSTAMP:20260422T032724
CREATED:20260202T162302Z
LAST-MODIFIED:20260320T113630Z
UID:2309-1749549600-1749562200@beon.red
SUMMARY:(Madrid) Taller Presencial | 2ª Edición. Gestión del cambio en seguridad: metodologías y herramientas para el éxito
DESCRIPTION:10 junio 2025\, de 10:00 a 13:30 horas. \n Madrid \nEn este taller práctico\, exploraremos cómo aplicar la metodología Change Certification de John Kotter para impulsar cambios efectivos y sostenibles en seguridad y salud laboral. A través de un enfoque estructurado y dinámico\, aprenderás a: \n✅ Identificar los impulsores del cambio y superar resistencias. \n✅ Aplicar las 8 etapas del cambio de Kotter en entornos de seguridad. \n✅ Utilizar herramientas prácticas para liderar la transformación cultural. \n✅ Fomentar el compromiso y la participación activa de los equipos. \nA lo largo de la sesión\, trabajaremos con casos prácticos y dinámicas colaborativas para que puedas implementar estrategias de cambio con éxito en tu organización. \n					\n									SOLICITUD DE PLAZA\n					 \nAsí fueron las ediciones anteriores. \n\n            \n                 \n\nEl taller sobre Gestión del Cambio en Seguridad viaja a Barcelona\n\n07/05/2025 Hoy estamos en la sede de nuestro partner PrevenControl… \nLeer más\n    \n\n            \n                 \n\nUn taller práctico sobre Gestión del Cambio para descubrir la Metodología Kotter y herramientas de liderazgo\n\n04/04/2025 Ayer jueves 3 de abril\, organizamos un taller con… \nLeer más
URL:https://beon.red/evento/madrid-taller-presencial-2a-edicion-gestion-del-cambio-en-seguridad-metodologias-y-herramientas-para-el-exito/
CATEGORIES:Jornadas
ATTACH;FMTTYPE=image/webp:https://beon.red/wp-content/uploads/2026/02/2025-06-10-taller-prevencontrol.webp
END:VEVENT
BEGIN:VEVENT
DTSTART;TZID=Europe/Madrid:20250611T120000
DTEND;TZID=Europe/Madrid:20250611T130000
DTSTAMP:20260422T032724
CREATED:20260202T162307Z
LAST-MODIFIED:20260320T113600Z
UID:2312-1749643200-1749646800@beon.red
SUMMARY:Webinar | Mediciones de Gas Radón: dónde y por qué es obligatorio hacerlas
DESCRIPTION:11 junio de 2025\, de 12:00 a 13:00 horas \n*Grabación y recursos posteriores sólo disponibles para asociados/as de BeOn*. +información 917692410 prlinnovacion@prlinnovación.com  \n					\n									SOLICITUD DE PLAZA\n					 \nLa reciente publicación en el BOE de la Instrucción IS-47\, de 9 de abril de 2025\, del Consejo de Seguridad Nuclear\, es 📌 un marco técnico y legal de gran relevancia\, ya que establece el listado de términos municipales de actuación prioritaria frente al gas radón y fija las directrices para realizar mediciones de radón en el aire interior de los centros de trabajo. \nCon la entrada en vigor de la IS-47\, los titulares de actividades laborales ubicadas en esos municipios deberán realizar mediciones de radón y\, en caso de superarse los valores de referencia\,💡 tomar las medidas correctoras oportunas. \n📅 El 11 de junio\, celebramos un webinar en el que nuestro partner SGS Tecnos analizará las principales obligaciones que establece la normativa vigente frente al Gas Radón (RD 1029/2022; RD 1217/2024; IS-47)\, así como ✅ la estrategia y metodología para llevar a cabo estas mediciones que permitan cumplir con las obligaciones.
URL:https://beon.red/evento/webinar-mediciones-de-gas-radon-donde-y-por-que-es-obligatorio-hacerlas/
CATEGORIES:Webinars
ATTACH;FMTTYPE=image/webp:https://beon.red/wp-content/uploads/2026/02/2025-06-11-webinar-radon-sgs.webp
END:VEVENT
BEGIN:VEVENT
DTSTART;TZID=Europe/Madrid:20250617T154500
DTEND;TZID=Europe/Madrid:20250617T180000
DTSTAMP:20260422T032724
CREATED:20260202T162302Z
LAST-MODIFIED:20260209T143610Z
UID:2308-1750175100-1750183200@beon.red
SUMMARY:Asamblea General Ordinaria 2025
DESCRIPTION:
URL:https://beon.red/evento/asamblea-general-ordinaria-2025/
ATTACH;FMTTYPE=image/webp:https://beon.red/wp-content/uploads/2026/02/logoPRLInnovacion.webp
END:VEVENT
BEGIN:VEVENT
DTSTART;TZID=Europe/Madrid:20250620T120000
DTEND;TZID=Europe/Madrid:20250620T130000
DTSTAMP:20260422T032724
CREATED:20260202T162307Z
LAST-MODIFIED:20260320T113542Z
UID:2314-1750420800-1750424400@beon.red
SUMMARY:Webinar | Formación saludable: alimentación y estilo de vida en la menopausia
DESCRIPTION:20 junio de 2025\, de 12:00 a 13:00 horas \n*Grabación y recursos posteriores sólo disponibles para asociados/as de BeOn*. +información 917692410 prlinnovacion@prlinnovación.com  \n					\n									SOLICITUD DE PLAZA\n					 \nLa menopausia es una etapa que con frecuencia viene acompañada de cambios físicos y hormonales que pueden dificultar el mantenimiento del peso y el bienestar general. En esta formación abordaremos desde una mirada práctica y realista  cómo cuidarse en esta fase vital\, sin caer en dietas restrictivas ni soluciones milagrosas. \nEn la sesión\, abordaremos qué alimentos pueden ayudarnos a aliviar síntomas propios de esta etapa\, cómo estructurar mejor las comidas\, y cómo adoptar un estilo de vida más activo con acciones sencillas pero efectivas. Una oportunidad para adquirir herramientas concretas que te ayudarán a sentirte más ligera\, vital y en equilibrio\, adaptando el cuidado personal a esta nueva etapa de la vida. \nNo te pierdas esta oportunidad de llevarte consejos aplicables y prácticos para cuidarte sin complicaciones. ¡Te esperamos!
URL:https://beon.red/evento/webinar-formacion-saludable-alimentacion-y-estilo-de-vida-en-la-menopausia/
CATEGORIES:Webinars
ATTACH;FMTTYPE=image/webp:https://beon.red/wp-content/uploads/2026/02/alimentacion-estilo-vida-menopausia.webp
END:VEVENT
BEGIN:VEVENT
DTSTART;TZID=Europe/Madrid:20250624T100000
DTEND;TZID=Europe/Madrid:20250624T133000
DTSTAMP:20260422T032724
CREATED:20260202T162307Z
LAST-MODIFIED:20260320T113530Z
UID:2313-1750759200-1750771800@beon.red
SUMMARY:Taller Presencial | E-Styles®: el modelo de estilos emocionales aplicado al entorno laboral
DESCRIPTION:24 junio 2025\, de 10:00 a 13:30 horas. \n Madrid \n					\n									SOLICITUD DE PLAZA\n					 \nTe invitamos a esta experiencia práctica en la que conocerás E-Styles®\, un modelo visual\, accesible y transformador que identifica los 4 Estilos emocionales predominantes y que tiene aplicación directa para el liderazgo saludable\, la seguridad psicológica de los equipos y el bienestar emocional en el trabajo. \nLos Estilos emocionales son patrones relativamente estables en la forma en que una persona experimenta\, interpreta y responde emocionalmente a distintas situaciones. Cada persona tienes su Estilo emocional propio\, pero existen 4 arquetipos emocionales predominantes: Hielo\, Fuego\, Bosque y Sol. \nDescifrar\, comprender y adaptar la gestión propia en función del Estilo emocional es esencial para realizar una regulación emocional efectiva con uno mismo/a y con los demás. \n✅ Dirigido a\, Responsables de Recursos Humanos\, Salud y Bienestar\, y Líderes de equipos en entornos corporativos que necesitan herramientas y metodología para: \n\n· Dotar de herramientas para crear un Liderazgo saludable\n· Mejorar la salud relacional y la seguridad psicológica en equipos\n· Aumentar el bienestar emocional con técnicas adaptadas a cada persona\n· Pautas para apoyar el desarrollo emocional de las personas de los equipos según su Estilo emocional\n· Prevenir conflictos emocionales y gestionar el estrés laboral\n· Diseñar entornos emocionalmente seguros y productivos.\n· Incorporar y gestionar el componente emocional en la cultura de la empresa.\n\n💡 ¿Qué haremos? \n\n· Conocerás los 4 Estilos emocionales de E-Styles®: Hielo\, Fuego\, Bosque y Sol\n· Realizarás una breve autoexploración de tu Estilo emocional\n· Verás cómo el modelo se conecta con DISC\, Insights\, MBTI y otras herramientas utilizadas habitualmente en empresa\n· Aplicarás el modelo a casos reales de liderazgo\, equipos y bienestar organizacional\n· Llevarás ideas prácticas para activar el bienestar emocional en tu empresa\n\n					\n									SOLICITUD DE PLAZA
URL:https://beon.red/evento/taller-presencial-e-styles-el-modelo-de-estilos-emocionales-aplicado-al-entorno-laboral/
CATEGORIES:Jornadas
ATTACH;FMTTYPE=image/webp:https://beon.red/wp-content/uploads/2026/02/estyles-taller-gimnasio-emocional.webp
END:VEVENT
END:VCALENDAR