BEGIN:VCALENDAR
VERSION:2.0
PRODID:-//Beon - ECPv6.15.17.1//NONSGML v1.0//EN
CALSCALE:GREGORIAN
METHOD:PUBLISH
X-ORIGINAL-URL:https://beon.red
X-WR-CALDESC:Eventos para Beon
REFRESH-INTERVAL;VALUE=DURATION:PT1H
X-Robots-Tag:noindex
X-PUBLISHED-TTL:PT1H
BEGIN:VTIMEZONE
TZID:Europe/Madrid
BEGIN:DAYLIGHT
TZOFFSETFROM:+0100
TZOFFSETTO:+0200
TZNAME:CEST
DTSTART:20240331T010000
END:DAYLIGHT
BEGIN:STANDARD
TZOFFSETFROM:+0200
TZOFFSETTO:+0100
TZNAME:CET
DTSTART:20241027T010000
END:STANDARD
BEGIN:DAYLIGHT
TZOFFSETFROM:+0100
TZOFFSETTO:+0200
TZNAME:CEST
DTSTART:20250330T010000
END:DAYLIGHT
BEGIN:STANDARD
TZOFFSETFROM:+0200
TZOFFSETTO:+0100
TZNAME:CET
DTSTART:20251026T010000
END:STANDARD
BEGIN:DAYLIGHT
TZOFFSETFROM:+0100
TZOFFSETTO:+0200
TZNAME:CEST
DTSTART:20260329T010000
END:DAYLIGHT
BEGIN:STANDARD
TZOFFSETFROM:+0200
TZOFFSETTO:+0100
TZNAME:CET
DTSTART:20261025T010000
END:STANDARD
END:VTIMEZONE
BEGIN:VEVENT
DTSTART;TZID=Europe/Madrid:20250703T000000
DTEND;TZID=Europe/Madrid:20250704T235900
DTSTAMP:20260422T020136
CREATED:20260202T162319Z
LAST-MODIFIED:20260320T113519Z
UID:2322-1751500800-1751673540@beon.red
SUMMARY:2ª edición. Curso sobre CAE efectiva
DESCRIPTION:📅 Fecha: 10 y 11 de abril de 2025⏰ Horario: 09:00 – 14:00 h📍 Lugar: Aula del IRSST – c/Ventura Rodríguez\, 7\, 3ª planta (Metro Plaza España)💻 Modalidad: Presencial \nEl propósito de este curso es entender las figuras legales de las empresas relativas a la CAE y proporcionar conocimientos teóricos sólidos sobre las Directrices para una eficaz Coordinación de Actividades Empresariales. Además\, se identifican las posibles barreras y desarrollan\, mediante casos prácticos\, un diagnóstico analizando los aspectos esenciales\, la documentación y el posible impacto en las actividades de la empresa \nInscripción: \nSi desea participar\, puede inscribirse a través del siguiente enlace: \n\n🔗 https://forms.office.com/e/bFvqWSXeiG\n\n  \nNormas de asistencia y certificación: \n✅ Asistencia presencial: Requiere confirmación previa debido al aforo limitado por ello se les enviará un requerimiento de interés al que tendrá que contestar. A posteriori le enviaremos confirmación de plaza por riguroso orden de entrada de solicitud. Es imprescindible presentar la confirmación de plaza para acceder al evento. \n📜 Certificación: Para obtener el certificado de aprovechamiento\, es necesario haber participado en al menos el 80% de la jornada.
URL:https://beon.red/evento/2a-edicion-curso-sobre-cae-efectiva/
CATEGORIES:Formación,Jornadas
ATTACH;FMTTYPE=image/webp:https://beon.red/wp-content/uploads/2026/02/curso-formacion-cae-efectiva-prevencion.webp
END:VEVENT
BEGIN:VEVENT
DTSTART;TZID=Europe/Madrid:20250707T103000
DTEND;TZID=Europe/Madrid:20250707T120000
DTSTAMP:20260422T020136
CREATED:20260202T162307Z
LAST-MODIFIED:20260320T113509Z
UID:2315-1751884200-1751889600@beon.red
SUMMARY:Webinar | FMA Fenómenos Meteorológicos Adversos: Guía de actuación\, herramientas y buenas prácticas
DESCRIPTION:7 julio de 2025\, de 10:30 a 12:00 horas \nLa Inspección de Trabajo y Seguridad Social ha publicado la Guía de actuación inspectora sobre Fenómenos Meteorológicos Adversos\, para facilitar a las empresas la comprobación de la gestión preventiva de los riesgos asociados a los FMA. \nEl 7 de julio\, la inspectora de Trabajo Ana Ercoreca nos contará en directo los detalles de la guía\, desde la evaluación de los riesgos hasta el análisis específico de los factores individuales. Además\, conoceremos buenas prácticas y consejos de dos empresas asociadas para gestionar estos riesgos y velar por la seguridad y salud de las personas trabajadoras. \n\n10:30 h Presentación de la Guía de actuación inspectora sobre FMA.\n\nAna Ercoreca. Secretaria General de Asociación Internacional de la Inspección de Trabajo IALI. Presidenta de FEDECA. Presidenta del Sindicato de Inspectores de Trabajo y Seguridad Social.\n\n\n11:00 h Gestión preventiva de condiciones climatológicas adversas por altas temperaturas.\n\n\n\nAntonio Navarro\, HSE Manager y Titular del SPP de Vestas Eólica SAU.\n\n\n\n\n11:30 h Automatización de alertas de la AEMET.\n\n\n\nSergio Fernández. Manager Seguridad\, Salud y Bienestar en Vodafone España.\n\n\n\n\n\n\n \n\n					\n									SOLICITUD DE PLAZA
URL:https://beon.red/evento/webinar-fma-fenomenos-meteorologicos-adversos-guia-de-actuacion-herramientas-y-buenas-practicas/
CATEGORIES:Webinars
ATTACH;FMTTYPE=image/webp:https://beon.red/wp-content/uploads/2026/02/webinar-riesgos-fenomenos-meteorologicos-adversos-fma.webp
END:VEVENT
END:VCALENDAR