BEGIN:VCALENDAR
VERSION:2.0
PRODID:-//Beon - ECPv6.15.17.1//NONSGML v1.0//EN
CALSCALE:GREGORIAN
METHOD:PUBLISH
X-ORIGINAL-URL:https://beon.red
X-WR-CALDESC:Eventos para Beon
REFRESH-INTERVAL;VALUE=DURATION:PT1H
X-Robots-Tag:noindex
X-PUBLISHED-TTL:PT1H
BEGIN:VTIMEZONE
TZID:Europe/Madrid
BEGIN:DAYLIGHT
TZOFFSETFROM:+0100
TZOFFSETTO:+0200
TZNAME:CEST
DTSTART:20240331T010000
END:DAYLIGHT
BEGIN:STANDARD
TZOFFSETFROM:+0200
TZOFFSETTO:+0100
TZNAME:CET
DTSTART:20241027T010000
END:STANDARD
BEGIN:DAYLIGHT
TZOFFSETFROM:+0100
TZOFFSETTO:+0200
TZNAME:CEST
DTSTART:20250330T010000
END:DAYLIGHT
BEGIN:STANDARD
TZOFFSETFROM:+0200
TZOFFSETTO:+0100
TZNAME:CET
DTSTART:20251026T010000
END:STANDARD
BEGIN:DAYLIGHT
TZOFFSETFROM:+0100
TZOFFSETTO:+0200
TZNAME:CEST
DTSTART:20260329T010000
END:DAYLIGHT
BEGIN:STANDARD
TZOFFSETFROM:+0200
TZOFFSETTO:+0100
TZNAME:CET
DTSTART:20261025T010000
END:STANDARD
END:VTIMEZONE
BEGIN:VEVENT
DTSTART;TZID=Europe/Madrid:20251111T090000
DTEND;TZID=Europe/Madrid:20251111T113000
DTSTAMP:20260421T205750
CREATED:20260202T162324Z
LAST-MODIFIED:20260320T113339Z
UID:2328-1762851600-1762860600@beon.red
SUMMARY:Cultura Preventiva | Cómo Mejorar la Conciencia y la Percepción del Riesgo en Seguridad y Salud
DESCRIPTION:09.00h Presentación de la mesa\n09.05h Experiencia 1: TK ELEVATOR Ponentes Itziar Bengoa\n09.45h Experiencia 2: GB FOODS Ponentes Alberto Nicolás\n10.30h Cultura preventiva: i+3 Ponentes Salvador Carmona\n11.00h Dinámica participativa\n11.25h Conclusiones\n11.30 Finalización\n\n					\n									Más información
URL:https://beon.red/evento/cultura-preventiva-como-mejorar-la-conciencia-y-la-percepcion-del-riesgo-en-seguridad-y-salud-3/
CATEGORIES:Jornadas
END:VEVENT
BEGIN:VEVENT
DTSTART;TZID=Europe/Madrid:20251112T090000
DTEND;TZID=Europe/Madrid:20251112T120000
DTSTAMP:20260421T205750
CREATED:20260202T162319Z
LAST-MODIFIED:20260320T113328Z
UID:2324-1762938000-1762948800@beon.red
SUMMARY:Jornada 30º Aniversario de la Ley PRL
DESCRIPTION:SOLICITA TU PLAZA\n					\n				\n																														\n		12 noviembre 2025 – 09:00 a 12:00 H \n  \n\n09:00 – 09:30. Recepción de asistentes.\n\n \n\n09:30 – 10:00. Presentación de la jornada.\n\nMario Barros. Responsable de Grupo de Coordinación de Laboral. Uría Menéndez.\n\n\n\n \n\n10:00 – 10:50. Mesa redonda “La reforma de la Ley de Prevención de Riesgos Laborales: qué querríamos tener y qué podemos esperar”.\n\nModera: Raúl Boo. Socio del Departamento Laboral. Uría Menéndez.\nMartha Pulido. Secretaria General del IRSST. Comunidad de Madrid.\nVicente Sánchez. Asesor del Área de PRL. CEOE.\nCarlos Arranz. Inspector de Trabajo. ITSS.\n\n\n\n \n\n10:50 – 11:40. Mesa redonda “Áreas de mejora\, retos y asuntos pendientes en la seguridad y la salud laboral”.\n\nModera: Asier Arriaga. Responsable de Salud Laboral. Uría Menéndez.\nGuillermo Murciano. HR Business Direrctor en DHL Express Spain. Presidente de BeOn*.\nPascual Capmany. Director de Salud y Bienestar en Aqualia. Junta Directiva de BeOn*.\nLuis Mazón. Jefe de Servicio PRL. Hospital Universitario Puerta de Hierro.\n\n\n\n \n\n11:40 – 11:50. Cierre jornada.
URL:https://beon.red/evento/jornada-30o-aniversario-de-la-ley-prl/
CATEGORIES:Jornadas
END:VEVENT
BEGIN:VEVENT
DTSTART;TZID=Europe/Madrid:20251126T120000
DTEND;TZID=Europe/Madrid:20251126T130000
DTSTAMP:20260421T205750
CREATED:20260202T162324Z
LAST-MODIFIED:20260320T113312Z
UID:2329-1764158400-1764162000@beon.red
SUMMARY:Webinar | Ergonomía\, Fisioterapia y Condición Física: prevención musculoesquelética en trabajos de alta demanda física
DESCRIPTION:SOLICITA TU PLAZA
URL:https://beon.red/evento/webinar-ergonomia-fisioterapia-y-condicion-fisica-prevencion-musculoesqueletica-en-trabajos-de-alta-demanda-fisica/
CATEGORIES:Webinars
ATTACH;FMTTYPE=image/webp:https://beon.red/wp-content/uploads/2026/02/webinar-saludando-ergonomia-fisioterapia-musculoesqueletico-tme-2.webp
END:VEVENT
BEGIN:VEVENT
DTSTART;TZID=Europe/Madrid:20251127T100000
DTEND;TZID=Europe/Madrid:20251127T133000
DTSTAMP:20260421T205750
CREATED:20260202T162319Z
LAST-MODIFIED:20260320T113258Z
UID:2323-1764237600-1764250200@beon.red
SUMMARY:Desarrollo Profesional | Presente y futuro de la Seguridad y Salud
DESCRIPTION:SOLICITA TU PLAZA
URL:https://beon.red/evento/desarrollo-profesional-presente-y-futuro-de-la-seguridad-y-salud/
CATEGORIES:Jornadas
ATTACH;FMTTYPE=image/webp:https://beon.red/wp-content/uploads/2026/02/20251127-desarrollo-profesional-seguridad-salud-bienestar-1.webp
END:VEVENT
BEGIN:VEVENT
DTSTART;TZID=Europe/Madrid:20251128T090000
DTEND;TZID=Europe/Madrid:20251128T140000
DTSTAMP:20260421T205750
CREATED:20260202T162324Z
LAST-MODIFIED:20260320T113219Z
UID:2327-1764320400-1764338400@beon.red
SUMMARY:Certificación Mentally Senior Professional
DESCRIPTION:La certificación Mentally Senior Professional tiene como objetivo proporcionar conocimientos sólidos en estadística\, psicometría\, el uso del instrumento Mentallypro\, herramientas digitales relacionadas\, fundamentos legles y la estandarización en su administración\, garantizando la entrega de evaluaciones de alta calidad en cada entidad. \n					\n									SABER MÁS\n					\n					\n									SOLICITA TU PLAZA
URL:https://beon.red/evento/certificacion-mentally-senior-professional-5/
CATEGORIES:Jornadas
ATTACH;FMTTYPE=image/webp:https://beon.red/wp-content/uploads/2026/02/mentallypro-logo-2-scaled.webp
END:VEVENT
END:VCALENDAR