BEGIN:VCALENDAR
VERSION:2.0
PRODID:-//Beon - ECPv6.15.17.1//NONSGML v1.0//EN
CALSCALE:GREGORIAN
METHOD:PUBLISH
X-ORIGINAL-URL:https://beon.red
X-WR-CALDESC:Eventos para Beon
REFRESH-INTERVAL;VALUE=DURATION:PT1H
X-Robots-Tag:noindex
X-PUBLISHED-TTL:PT1H
BEGIN:VTIMEZONE
TZID:Europe/Madrid
BEGIN:DAYLIGHT
TZOFFSETFROM:+0100
TZOFFSETTO:+0200
TZNAME:CEST
DTSTART:20250330T010000
END:DAYLIGHT
BEGIN:STANDARD
TZOFFSETFROM:+0200
TZOFFSETTO:+0100
TZNAME:CET
DTSTART:20251026T010000
END:STANDARD
BEGIN:DAYLIGHT
TZOFFSETFROM:+0100
TZOFFSETTO:+0200
TZNAME:CEST
DTSTART:20260329T010000
END:DAYLIGHT
BEGIN:STANDARD
TZOFFSETFROM:+0200
TZOFFSETTO:+0100
TZNAME:CET
DTSTART:20261025T010000
END:STANDARD
BEGIN:DAYLIGHT
TZOFFSETFROM:+0100
TZOFFSETTO:+0200
TZNAME:CEST
DTSTART:20270328T010000
END:DAYLIGHT
BEGIN:STANDARD
TZOFFSETFROM:+0200
TZOFFSETTO:+0100
TZNAME:CET
DTSTART:20271031T010000
END:STANDARD
END:VTIMEZONE
BEGIN:VEVENT
DTSTART;TZID=Europe/Madrid:20260201T091500
DTEND;TZID=Europe/Madrid:20260201T133000
DTSTAMP:20260421T163029
CREATED:20260202T162336Z
LAST-MODIFIED:20260320T144321Z
UID:2339-1769937300-1769952600@beon.red
SUMMARY:Hacer efectiva la Coordinación de Actividades Empresariales en PRL
DESCRIPTION:13/05/2026 \n\n\nWebinar | Percepción del Riesgo: qué nos Frena y qué nos Impulsa a Actuar con Seguridad\n\n\n\n\n\n\n\n\n\n\n\n\n\n12:00 - 12:30 \n\n\n\n\n\n\n	\n\n\n\nGrabación y presentaciones sólo visibles para asociados.\n\n\n\n\n¿YA ERES SOCIO?LOGÉATE\n\n\n\n¿Quieres saber más? escríbenos\n\n\n\n\n\n \n\n\n\n\n \n\n\n\n\n\nSolicita tu plaza.\n\n\n\n\nRegístrate
URL:https://beon.red/evento/hacer-efectiva-la-coordinacion-de-actividades-empresariales-en-prl/
LOCATION:Palma\, Palma\, Spain
CATEGORIES:Jornadas
ATTACH;FMTTYPE=image/webp:https://beon.red/wp-content/uploads/2026/02/01-28-cae-palma.webp
END:VEVENT
BEGIN:VEVENT
DTSTART;TZID=Europe/Madrid:20260212T093000
DTEND;TZID=Europe/Madrid:20260212T133000
DTSTAMP:20260421T163029
CREATED:20260202T162340Z
LAST-MODIFIED:20260320T143553Z
UID:2342-1770888600-1770903000@beon.red
SUMMARY:Jornada y Talleres | De la Semana de la Salud a la Cultura Saludable en la Empresa
DESCRIPTION:13/05/2026 \n\n\nWebinar | Percepción del Riesgo: qué nos Frena y qué nos Impulsa a Actuar con Seguridad\n\n\n\n\n\n\n\n\n\n\n\n\n\n12:00 - 12:30 \n\n\n\n\n\n\n\n\n\n\n¿Te gustaría conocer más ideas para inspirar a tu equipo a cuidarse? ¿Quieres organizar una Semana de la Salud que realmente impacte en tu equipo? ¿Te gustaría\, incluso\, que esas acciones pudieran mantenerse en el tiempo y generar una verdadera cultura de bienestar? \n\n\n\nDesde Saludando y BeOn organizamos la Jornada “De la Semana de la Salud a la cultura saludable”\, un encuentro experiencial donde vivirás en primera persona experiencias prácticas\, dinámicas y fácilmente aplicables en cualquier organización. \n\n\n\nA través de propuestas diseñadas para integrarse en el entorno laboral\, descubrirás cómo inspirar a las personas a cuidarse de forma sencilla\, cercana y con impacto\, tanto en el marco de la Semana de la salud como para desarrollar acciones de continuidad que generan cultura saludable en la empresa. \n\n\n\nUn espacio para inspirarte\, experimentar y llevarte ideas concretas que podrás trasladar directamente a tus programas de bienestar corporativo. \n\n\n \n\n\n\n\n\n¿Te animas a vivirlo en primera persona?\n\n\n\nPlazas prioritarias para asociados de BeOn. \n\n\n\n\nRegístrate
URL:https://beon.red/evento/jornada-y-talleres-de-la-semana-de-la-salud-a-la-cultura-saludable-en-la-empresa/
LOCATION:Madrid\, Madrid\, Spain
CATEGORIES:Jornadas
ATTACH;FMTTYPE=image/webp:https://beon.red/wp-content/uploads/2026/03/salud-talleres-jornada-prevencion-bienestar.webp
END:VEVENT
BEGIN:VEVENT
DTSTART;TZID=Europe/Madrid:20260219T093000
DTEND;TZID=Europe/Madrid:20260219T140000
DTSTAMP:20260421T163029
CREATED:20260316T095859Z
LAST-MODIFIED:20260320T143307Z
UID:4633-1771493400-1771509600@beon.red
SUMMARY:Savia 2026: salud\, personas y propósito
DESCRIPTION:13/05/2026 \n\n\nWebinar | Percepción del Riesgo: qué nos Frena y qué nos Impulsa a Actuar con Seguridad\n\n\n\n\n\n\n\n\n\n\n\n\n\nOficinas de Mapfre Madrid \n\n\n\n\n\n\n\n\n\n12:00 - 12:30 \n\n\n\n\n\n\nEl 19 de febrero\, nuestro equipo de Gestión Emocional participa en esta jornada organizada por nuestro partner Savia. \n\n\n\nHablaremos de salud digital\, bienestar corporativo y futuro del trabajo\, desde una mirada real y práctica: casos\, experiencias\, retos compartidos y dos talleres prácticos. \n\n\n\nHorario y actividades:\n\n\n\n\n\n\n\n\n\n\n10:00 a 10:30 Savia: la salud digital al servicio de las personas y las empresas \n\n\n\n\n Pedro Diaz Yuste – CEO de Savia Salud Digital Mapfre\n\n\n\n\n\n\n\n\n\n\n\n\n10:30 a 11:00 Mesa Redonda – ¿Cómo conviven cinco generaciones en una misma empresa? \n\n\n\n\nRubén García Bernal – Vicepresidente de Valorian\n\n\n\nJavier Benavente Barrón – Presidente de Vivofacil\n\n\n\nArmando Gómez – Resp. Bienestar y Salud Laboral de FNAC\n\n\n\nOrlando Pérez – CEO & Socio Fundador de Wellwo\n\n\n\n\n\n\n\n\n\n\n\n\n11:00 a 11:30 Taller práctico sobre la  atención\, la comunicación y la importancia de los distintos roles dentro de la empresa Con EIBO \n\n\n\n\n\n\n\n\n\n\n\n11:30 a 12:00 Coffee Break \n\n\n\n\n\n\n\n\n\n\n\n12:00 a 12:30 La actuación de la inspección en los riesgos psicosociales \n\n\n\n\nPaloma Urgorri – Inspectora de trabajo.\n\n\n\n\n\n\n\n\n\n\n\n\n12:30 a 13:00 Mesa redonda – Bienestar Psicosocial en el Entorno Laboral: De la Estrategia a la Acción \n\n\n\n\nAsier Arriaga Magunacelaya – Resp. Salud Laboral de Uría Menéndez\n\n\n\nCristina Francisco – Health and Safety Manager en Syneos Health\n\n\n\nCristina Calderón – Dir. Prevención\, Calidad y MA\, Grupo Arpada\n\n\n\n\n\n\n\n\n\n\n\n\n13:00 a 13:30 Mesa final – “El futuro del bienestar corporativo” \n\n\n\n\nOLGA ZOGRAFOU – Regional People & CSR Director at Edenred\n\n\n\n\n\n\n\n\n\n\n\n\n13:30 a 14:00 Taller práctico de Bienestar emocional”\, con Gimnasio emocional® \n\n\n\n\nIván Gago – Directo de Gimnasio emocional®\n\n\n\nRosana Calvo – Directora ténica de Gimnasio emocional®\n\n\n\n\n\n\n\n\n\n\n\n\n14:00 a 14:30 Cierre – Savia \n\n\n\n\nAlfredo Hernández Pimienta – Director de Desarrollo de Neogocio\n\n\n\n\n\n\n \n\n\n\n\n\n¿Te animas a vivirlo en primera persona?\n\n\n\n\nRegístrate\n\n\n\n\n\n\n\n\n\n\n\n\n\n\nDefinir fecha y hora
URL:https://beon.red/evento/savia-2026-salud-personas-y-proposito/
LOCATION:Madrid\, Madrid\, Spain
CATEGORIES:Jornadas
ATTACH;FMTTYPE=image/webp:https://beon.red/wp-content/uploads/2026/03/Savia-2026-salud-personas-y-proposito.webp
END:VEVENT
BEGIN:VEVENT
DTSTART;TZID=Europe/Madrid:20260226T093000
DTEND;TZID=Europe/Madrid:20260226T133000
DTSTAMP:20260421T163029
CREATED:20260202T162340Z
LAST-MODIFIED:20260415T065345Z
UID:2345-1772098200-1772112600@beon.red
SUMMARY:Barcelona | De la ERP a la generación de insights clave para la mejora de la salud mental en el entorno laboral
DESCRIPTION:13/05/2026 \n\n\nWebinar | Percepción del Riesgo: qué nos Frena y qué nos Impulsa a Actuar con Seguridad\n\n\n\n\n\n\n\n\n\n\n\n\n\nTorre Mapfre de Barcelona \n\n\n\n\n\n\n\n\n\n12:00 - 12:30 \n\n\n\n\n\n\nDurante años\, la Evaluación de Riesgos Psicosociales fue vista como un simple requisito legal. Hoy\, las organizaciones más avanzadas la utilizan como una fuente estratégica de insights para tomar mejores decisiones\, anticipar riesgos y mejorar el bienestar y la productividad. \n\n\n\nEl próximo 26 de febrero\, en la exclusiva Torre Mapfre de Barcelona\, te invitamos a descubrir cómo las organizaciones líderes ya están transformando sus datos en ventaja competitiva. \n\n\n\nEn el corazón de la jornada estarán tres organizaciones referentes que compartirán cómo han evolucionado desde la evaluación hasta una gestión estratégica del bienestar: Aigües de Barcelona\, Cajamar y Grupo Arpada. \n\n\n\nContaremos también con el conocimiento técnico de tres partners clave en España: Quirónprevención\, Savia y Affor Health \n\n\n\nVen y descubre cómo convertir los datos en valor real para personas y empresas. \n\n\n\nPrograma\n\n\n\n\n\n\n\n\n\n\n9:30 h Invertir en bienestar mejora la productividad. \n\n\n\n\nAlfredo Hernández\, director de desarrollo de negocio de Savia.\n\n\n\n\n\n\n\n\n\n\n\n\n10:00 h De los riesgos psicosociales a la gestión de la salud mental en las empresas. \n\n\n\n\nJuan Carlos Fernández\, Responsable de Psicosociología. Quirónprevención.\n\n\n\n\n\n\n\n\n\n\n\n\n10:30 h 15 Años de Liderazgo Psicosocial: De la Evaluación de Riesgos a la Resiliencia Organizacional. \n\n\n\n\nLaura Cid. Médico especialista en Medicina del Trabajo\, Responsable del Área de Bienestar y Salud en Aigües de Barcelona.\n\n\n\n\n\n\n\n\n\n\n\n\n11:00 h Café networking \n\n\n\n\n\n\n\n\n\n\n\n11:30 h La experiencia de Cajamar. De la evaluación al plan de acción. \n\n\n\n\nJuan José Mesa. Gerente de Prevención de Riesgos Laborales. Grupo Cajamar.\n\n\n\nRosa María Montaner. Técnico PRL y especialista en psicosociología. Grupo Cajamar.\n\n\n\n\n\n\n\n\n\n\n\n\n12:00 h Descubre Hoja de ruta. Salud mental y experiencia del empleado. \n\n\n\n\nCamille Gil. Corporate Wellbeing Consultant & Mental Health Initiatives Facilitator. Affor Health.Rosa María Montaner. Técnico PRL y especialista en psicosociología. Grupo Cajamar.\n\n\n\n\n\n\n\n\n\n\n\n\n12:30 h De la evaluación de riesgos psicosociales a la gestión del ciclo de vida del empleado: una experiencia práctica de colaboración PRL-RRHH en Grupo Arpada \n\n\n\n\nLaura Martín. Directora Dpto. Personas\, Cultura y Talento\, Grupo Arpada.\n\n\n\nCristina Calderón\, Directora Área Prevención\, Calidad y Medio Ambiente\, Grupo Arpada.\n\n\n\nRafael Ayuso\, Consultor de transformación y cultura. BeOn y Mentallylab.\n\n\n\n\n\n\n\n\n\n\n\n\n13:30 Fin del evento. \n\n\n\n\n\n \n\n\n\n\n\n¡Ven y aprende a crear tu hoja de ruta integrada!\n\n\n\n\nRegístrate\n\n\n\n\n\n\n\n\n\n\n\n\n\n\nDefinir fecha y hora
URL:https://beon.red/evento/barcelona-de-la-erp-a-la-generacion-de-insights-clave-para-la-mejora-de-la-salud-mental-en-el-entorno-laboral/
LOCATION:Barcelona\, Barcelona\, Spain
CATEGORIES:Jornadas
ATTACH;FMTTYPE=image/webp:https://beon.red/wp-content/uploads/2026/02/salud-mental-evaluacion-riesgos-barcelona.webp
END:VEVENT
BEGIN:VEVENT
DTSTART;TZID=Europe/Madrid:20260226T100000
DTEND;TZID=Europe/Madrid:20260226T133000
DTSTAMP:20260421T163029
CREATED:20260202T162340Z
LAST-MODIFIED:20260320T143158Z
UID:2344-1772100000-1772112600@beon.red
SUMMARY:Jornada y Taller | Técnicas para lograr una CAE efectiva y gestionar el intercambio documental
DESCRIPTION:13/05/2026 \n\n\nWebinar | Percepción del Riesgo: qué nos Frena y qué nos Impulsa a Actuar con Seguridad\n\n\n\n\n\n\n\n\n\n\n\n\n\n12:00 - 12:30 \n\n\n\n\n\n\nLa burocracia como ciclo interminable. \n\n\n\nEl intercambio infinito de documentos sin impacto.  \n\n\n\nLa carga administrativa que consume tiempo y recursos… \n\n\n\nEl modelo tradicional ha llenado nuestras bandejas de entrada de requerimientos\, pero no ha vaciado todas nuestras zonas de riesgo. \n\n\n\n¿Y si convertimos la CAE en un activo REAL de seguridad?  \n\n\n\nEl 26 de febrero conoceremos cómo Nationale Nederlanden y Neinver\, dos empresas que han transformado sus procesos\, han conseguido pasar de “cumplimentar formularios” a lograr una “gestión de riesgos compartida” y cuáles son los beneficios que han alcanzado. \n\n\n\nDel dicho al hecho: nos pondremos manos a la obra  \n\n\n\nAdemás\, trabajaremos en equipo a través de un taller práctico que nos retará a superar escollos y encontrar soluciones\, dándonos pistas sobre cómo diseñar flujos de trabajo optimizados. \n\n\n\nTodo ello de la mano de expertos de PrevenControl y BeOn que nos guiarán a través de las 4 fases de la CAE Efectiva. \n\n\n\nLa seguridad no se documenta\, se gestiona. \n\n\n\nVen y descubre cómo transformar tu CAE en una herramienta de protección real. \n\n\n \n\n\n\n\n\n¿Te animas a vivirlo en primera persona?\n\n\n\n\nRegístrate
URL:https://beon.red/evento/jornada-y-taller-tecnicas-para-lograr-una-cae-efectiva-y-gestionar-el-intercambio-documental/
LOCATION:Madrid\, Madrid\, Spain
CATEGORIES:Jornadas
ATTACH;FMTTYPE=image/webp:https://beon.red/wp-content/uploads/2026/03/cae-taller.webp
END:VEVENT
END:VCALENDAR