BEGIN:VCALENDAR
VERSION:2.0
PRODID:-//Beon - ECPv6.15.17.1//NONSGML v1.0//EN
CALSCALE:GREGORIAN
METHOD:PUBLISH
X-WR-CALNAME:Beon
X-ORIGINAL-URL:https://beon.red
X-WR-CALDESC:Eventos para Beon
REFRESH-INTERVAL;VALUE=DURATION:PT1H
X-Robots-Tag:noindex
X-PUBLISHED-TTL:PT1H
BEGIN:VTIMEZONE
TZID:Europe/Madrid
BEGIN:DAYLIGHT
TZOFFSETFROM:+0100
TZOFFSETTO:+0200
TZNAME:CEST
DTSTART:20250330T010000
END:DAYLIGHT
BEGIN:STANDARD
TZOFFSETFROM:+0200
TZOFFSETTO:+0100
TZNAME:CET
DTSTART:20251026T010000
END:STANDARD
BEGIN:DAYLIGHT
TZOFFSETFROM:+0100
TZOFFSETTO:+0200
TZNAME:CEST
DTSTART:20260329T010000
END:DAYLIGHT
BEGIN:STANDARD
TZOFFSETFROM:+0200
TZOFFSETTO:+0100
TZNAME:CET
DTSTART:20261025T010000
END:STANDARD
BEGIN:DAYLIGHT
TZOFFSETFROM:+0100
TZOFFSETTO:+0200
TZNAME:CEST
DTSTART:20270328T010000
END:DAYLIGHT
BEGIN:STANDARD
TZOFFSETFROM:+0200
TZOFFSETTO:+0100
TZNAME:CET
DTSTART:20271031T010000
END:STANDARD
END:VTIMEZONE
BEGIN:VEVENT
DTSTART;TZID=Europe/Madrid:20260310T090000
DTEND;TZID=Europe/Madrid:20260310T140000
DTSTAMP:20260420T170057
CREATED:20260202T162340Z
LAST-MODIFIED:20260320T142605Z
UID:2346-1773133200-1773151200@beon.red
SUMMARY:Barcelona | Talleres de Trabajos en altura\, Lucha contra incendios y Soporte Vital
DESCRIPTION:13/05/2026 \n\n\nWebinar | Percepción del Riesgo: qué nos Frena y qué nos Impulsa a Actuar con Seguridad\n\n\n\n\n\n\n\n\n\n\n\n\n\nPaseo de los Ferrocarriles Catalanes 136\, 08940 Cornellá de Llobregat \n\n\n\n\n\n\n\n\n\n12:00 - 12:30 \n\n\n\n\n\n\nLa formación práctica en Seguridad y Salud es la clave para transformar la teoría en una respuesta eficaz ante situaciones críticas. \n\n\n\nEl 10 de marzo\, nuestro partner SGS nos abre las puertas de su Escuela de Seguridad en Cornellá de Llobregat (Barcelona)\, para ofrecernos workshops gratuitos y 100% prácticos de 3 de sus formaciones estrella:  \n\n\n\nTrabajo en altura\n\n\n\n\n\n\n\n\n\nSistemas de protección de andamios \n\n\n\n\n\n\n\n\n\nEquipos de protección necesarios \n\n\n\n\n\n\n\n\n\nElementos de una línea de seguridad \n\n\n\n\n\n\n\n\n\nDetectar fallos en sistemas anticaída \n\n\n\n\n\n\n\n\n\nEquipos de protección individual \n\n\n\n\n\nLucha contra incendios\n\n\n\n\n\n\n\n\n\nMedios de la instalación \n\n\n\n\n\n\n\n\n\nPlan de Autoprotección/Emergencia \n\n\n\n\n\n\n\n\n\nFunciones y responsabilidades \n\n\n\n\n\n\n\n\n\nRiesgos principales y actuaciones \n\n\n\n\n\n\n\n\n\nElementos de Evacuación \n\n\n\n\n\nSoporte Vital Básico\n\n\n\n \n\n\n\n\n\n\n\n\n\nCadena de supervivencia \n\n\n\n\n\n\n\n\n\nPautas en caso de emergencia (PAS) \n\n\n\n\n\n\n\n\n\nReanimación Cardiopulmonar (RCP) básica e instrumentalizada \n\n\n\n\n\n\n\n\n\nDesfibriladores externos (DESA) \n\n\n\n \n\n\n\n\n \n\n\n\n\n\n¿Te animas a vivirlo en primera persona?\n\n\n\n100% PRESENCIAL. Aforo limitado. \n\n\n\n\nRegístrate\n\n\n\n\n\n\n\n\n\n\n\n\n\n\nDefinir fecha y hora
URL:https://beon.red/evento/barcelona-talleres-de-trabajos-en-altura-lucha-contra-incendios-y-soporte-vital/
LOCATION:Barcelona\, Barcelona\, Spain
CATEGORIES:Jornadas
ATTACH;FMTTYPE=image/webp:https://beon.red/wp-content/uploads/2026/02/formacion-taller-seguridad-sgs.webp
END:VEVENT
BEGIN:VEVENT
DTSTART;TZID=Europe/Madrid:20260305T120000
DTEND;TZID=Europe/Madrid:20260305T130000
DTSTAMP:20260420T170058
CREATED:20260316T092755Z
LAST-MODIFIED:20260409T070103Z
UID:4618-1772712000-1772715600@beon.red
SUMMARY:Webinar | Emergencias del siglo XXI: Nuevo Riesgos\, Nuevas Soluciones
DESCRIPTION:13/05/2026 \n\n\nWebinar | Percepción del Riesgo: qué nos Frena y qué nos Impulsa a Actuar con Seguridad\n\n\n\n\n\n\n\n\n\n\n\n\n\n12:00 - 12:30 \n\n\n\n\n\n\nLluvias torrenciales\, apagones\, incendios en baterías de litio\, en instalaciones fotovoltaicas en cubierta\, en parkings con vehículos eléctricos… \n\n\n\n¿Están preparadas tus instalaciones para los riesgos del cambio climático y la transición energética? \n\n\n\nEl 05/03/2026\, nuestro partner experto SGS nos explicará cómo optimizar el diseño de tus instalaciones para protegerte frente a riesgos emergentes. \n\n\n\nDe la mano de Roberto Vaccari\, veremos cómo reducir el riesgo de pérdida catastrófica a través de: \n\n\n\n\n\n\n\n\n\nDiferentes métodos para el análisis de vulnerabilidad \n\n\n\n\n\n\n\n\n\nDiseño de instalaciones con criterios coste-beneficio \n\n\n\n\n\n\n\n\n\nPlanes de autoprotección y de contingencia \n\n\n\n\n\nCon un enfoque práctico\, técnico y orientado a soluciones\, veremos cómo diseñar una estrategia integral de prevención y respuesta anticipada\, adaptada a tu sector y tipo de instalación. \n\n\n\nSi gestionas grandes superficies\, instalaciones logísticas\, instalaciones críticas o espacios industriales… conéctate y descubre cómo afrontar los riesgos de hoy. \n\n\n \n\n\n\n\n\n¿Te animas a vivirlo en primera persona?\n\n\n\n\nRegístrate\n\n\n\n\n\n\n\n\n\n\n	\n\n\n\nGrabación y presentaciones sólo visibles para asociados.\n\n\n\n\n¿YA ERES SOCIO?LOGÉATE\n\n\n\n¿Quieres saber más? escríbenos\n\n\n\n\n\n\n\n\n\n\n\nDefinir fecha y hora
URL:https://beon.red/evento/webinar-emergencias-del-siglo-xxi-nuevo-riesgos-nuevas-soluciones/
CATEGORIES:Webinars
ATTACH;FMTTYPE=image/webp:https://beon.red/wp-content/uploads/2026/03/webinar-emergencias-riesgos-trabajo-soluciones.webp
END:VEVENT
BEGIN:VEVENT
DTSTART;TZID=Europe/Madrid:20260312T120000
DTEND;TZID=Europe/Madrid:20260312T130000
DTSTAMP:20260420T170058
CREATED:20260316T115617Z
LAST-MODIFIED:20260409T065612Z
UID:4644-1773316800-1773320400@beon.red
SUMMARY:2º Webinar Sostenible | Navegando el Pacto Verde: Estándares y KPIs para la Transición Energética
DESCRIPTION:13/05/2026 \n\n\nWebinar | Percepción del Riesgo: qué nos Frena y qué nos Impulsa a Actuar con Seguridad\n\n\n\n\n\n\n\n\n\n\n\n\n\n12:00 - 12:30 \n\n\n\n\n\n\n\n\n\n\nSi el primer paso fue entender la normativa\, el segundo es dominar el motor del cambio: la transición energética. Tras nuestro primer webinar sobre el Pacto Verde\, el 12 de marzo profundizamos en los pilares técnicos y legales que definirán la estrategia de las organizaciones para la transición energética\, de la mano de nuestra Línea de Trabajo en Sostenibilidad y nuestro partner Full Audit. \n\n\n\n¿Qué analizamos en esta sesión? \n\n\n\n\n\n\n\n\n\nEl marco estratégico: Del compromiso global del Acuerdo de París a la aplicación práctica de la Ley de Cambio Climático y Transición Energética. \n\n\n\n\n\n\n\n\n\nLa lupa de la CSRD/ESRS: Cómo reportar correctamente la transición energética bajo los nuevos estándares europeos y qué KPIs son los que realmente importan hoy. \n\n\n\n\n\n\n\n\n\nPymes: cómo comunicar la transición energética y sus KPIs\, con el estándar voluntario VSME. \n\n\n\n\n\n\n\n\n\ny por supuesto\, un ejemplo práctico y real con Cristina Gómez\, Directora HSE de Finlight. \n\n\n\n\n\n¡Transforma la normativa en una oportunidad para tu empresa! \n\n\n \n\n\n\n\n\n¿Te animas a vivirlo en primera persona?\n\n\n\n\nRegístrate\n\n\n\n\n\n\n\n\n\n\n	\n\n\n\nGrabación y presentaciones sólo visibles para asociados.\n\n\n\n\n¿YA ERES SOCIO?LOGÉATE\n\n\n\n¿Quieres saber más? escríbenos\n\n\n\n\n\n\n\n\n\n\n\nDefinir fecha y hora
URL:https://beon.red/evento/webinar-sostenible-pacto-verde-transicion-energetica/
CATEGORIES:Webinars
ATTACH;FMTTYPE=image/webp:https://beon.red/wp-content/uploads/2026/03/webinar-sostenibilidad-transicion-energetica.webp
END:VEVENT
BEGIN:VEVENT
DTSTART;TZID=Europe/Madrid:20260320T120000
DTEND;TZID=Europe/Madrid:20260320T124500
DTSTAMP:20260420T170058
CREATED:20260316T114854Z
LAST-MODIFIED:20260409T070145Z
UID:4635-1774008000-1774010700@beon.red
SUMMARY:Webinar | Carreras profesionales en Seguridad y Salud. Cómo Evitar los Pasos en Falso o Errores de Carrera que SÍ Tienen Marcha Atrás
DESCRIPTION:13/05/2026 \n\n\nWebinar | Percepción del Riesgo: qué nos Frena y qué nos Impulsa a Actuar con Seguridad\n\n\n\n\n\n\n\n\n\n\n\n\n\n12:00 - 12:30 \n\n\n\n\n\n\n“¿Y si me muevo y sale mal?” Cambiar de rol\, de empresa o de sector es una decisión profesional que puede provocar dudas incertidumbre\, tanto por las barreas del entorno\, como por la percepción que tenemos de nosotros mismos. Pero el mayor error no es equivocarse\, es la parálisis. \n\n\n\nHugo Tovar y Rosa Jiménez\, headhunters en HS3 Talent\, han visto cientos de trayectorias. La diferencia entre quienes alcanzan posiciones de liderazgo y quienes se queman en el camino no es la suerte: es tener una estrategia. \n\n\n\nEl 20 de marzo\, conectaremos en directo con ellos para saber cómo tomar las riendas de nuestra carrera a través de: \n\n\n\n\n\n\n\n\n\nEstrategias para identificar barreras y tomar decisiones \n\n\n\n\n\n\n\n\n\nDinámicas participativas y adaptadas a la realidad \n\n\n\n\n\n\n\n\n\nUna “Guía de carrera” estructurada\, práctica y descargable \n\n\n\n\n\nNo es una charla teórica. Es un espacio de estrategia para quienes cuidan de todos\, pero a veces olvidan cuidar su futuro. \n\n\n\nDescubre cómo pasar de ser sólo el “bombero” de tu empresa\, y ¡conviértete en el arquitecto de tu carrera! \n\n\n \n\n\n\n\n\n¿Te animas a vivirlo en primera persona?\n\n\n\n\nRegístrate\n\n\n\n\n\n\n\n\n\n\n	\n\n\n\nGrabación y presentaciones sólo visibles para asociados.\n\n\n\n\n¿YA ERES SOCIO?LOGÉATE\n\n\n\n¿Quieres saber más? escríbenos\n\n\n\n\n\n\n\n\n\n\n\nDefinir fecha y hora
URL:https://beon.red/evento/webinar-carrera-profesional-seguridad-salud-evitar-errores-carrera/
CATEGORIES:Webinars
ATTACH;FMTTYPE=image/webp:https://beon.red/wp-content/uploads/2026/03/webinar-carrera-profesion-seguridad-salud-1.webp
END:VEVENT
BEGIN:VEVENT
DTSTART;TZID=Europe/Madrid:20260323T120000
DTEND;TZID=Europe/Madrid:20260323T130000
DTSTAMP:20260420T170058
CREATED:20260316T115129Z
LAST-MODIFIED:20260409T070435Z
UID:4638-1774267200-1774270800@beon.red
SUMMARY:Webinar | Norma ISO 45004. Cómo Medir\, Analizar y dar un Seguimiento Eficaz al Desempeño de la Seguridad y Salud en el Trabajo
DESCRIPTION:13/05/2026 \n\n\nWebinar | Percepción del Riesgo: qué nos Frena y qué nos Impulsa a Actuar con Seguridad\n\n\n\n\n\n\n\n\n\n\n\n\n\n12:00 - 12:30 \n\n\n\n\n\n\n¿Tu sistema de gestión en Seguridad y Salud te aporta la información que realmente necesitas\, o sólo es un método más de acumular datos y papeles?  \n\n\n\nYa sabemos que “lo que no se mide\, no existe y no se puede mejorar”… pero medir mal es tan peligroso como no medir nada. \n\n\n\nEl 23 de marzo\, nuestro partner Full Audit desgranará la norma ISO 45004:2024 para saber cómo utilizarla a nuestro favor y generar metodologías que nos permitan: \n\n\n\n\n\n\n\n\n\nSeleccionar y aplicar indicadores útiles \n\n\n\n\n\n\n\n\n\nResolver consecuencias no previstas \n\n\n\n\n\n\n\n\n\nGestionar limitaciones y distorsión de datos \n\n\n\n\n\nAdemás\, conoceremos diferentes herramientas que nos permitan determinar si realmente estamos logrando los resultados previstos\, para desarrollar una estrategia propia y tomar decisiones acorde a nuestras necesidades. \n\n\n\n¡Conéctate y descubre cómo optimizar tus recursos en SST! \n\n\n \n\n\n\n\n\n¿Te animas a vivirlo en primera persona?\n\n\n\n\nRegístrate\n\n\n\n\n\n\n\n\n\n\n	\n\n\n\nGrabación y presentaciones sólo visibles para asociados.\n\n\n\n\n¿YA ERES SOCIO?LOGÉATE\n\n\n\n¿Quieres saber más? escríbenos\n\n\n\n\n\n\n\n\n\n\n\nDefinir fecha y hora
URL:https://beon.red/evento/webinar-norma-iso-45004-desempeno-seguridad-salud-trabajo/
CATEGORIES:Webinars
ATTACH;FMTTYPE=image/webp:https://beon.red/wp-content/uploads/2026/03/webinar-iso-45004-desempeno-seguridad-salud.webp
END:VEVENT
BEGIN:VEVENT
DTSTART;TZID=Europe/Madrid:20260326T093000
DTEND;TZID=Europe/Madrid:20260326T140000
DTSTAMP:20260420T170058
CREATED:20260316T122226Z
LAST-MODIFIED:20260323T130815Z
UID:4656-1774517400-1774533600@beon.red
SUMMARY:Jornada IRSST | Summit Absentismo. Impacto\, retos y soliciones
DESCRIPTION:13/05/2026 \n\n\nWebinar | Percepción del Riesgo: qué nos Frena y qué nos Impulsa a Actuar con Seguridad\n\n\n\n\n\n\n\n\n\n\n\n\n\n3ª planta. Salón de Actos. IRSST. C/Ventura Rodríguez\, 7\, Moncloa – Aravaca\, 28008 Madrid \n\n\n\n\n\n\n\n\n\n12:00 - 12:30 \n\n\n\n\n\n\nEl próximo 26 de marzo el IRSST de la Comunidad de Madrid celebrará el evento “Summit Absentismo. Impactos\, retos y soluciones”\, que tendrá lugar en el Salón de Actos de la 3ª planta de su sede (Calle de Ventura Rodríguez\, 7. Moncloa – Aravaca\, 28008\, Madrid). \n\n\n\nEn la primera mesa redonda\, Alsea\, Fremap\, Fraternidad Muprespa y Umivale Activa debatirán sobre el análisis cuantitativo y perspectivas reales del absentismo en la actualidad. \n\n\n\nDespués\, el propio IRSST liderará una conversación con Prezero\, Carrefour y Avanta para abordar\, desde un enfoque multifactorial\, las palancas que se pueden activar desde Recursos Humanos\, negociación colectiva\, cultura y bienestar para gestionar el absentismo. \n\n\n\nPor su parte\, Affor Health y la Escuela Nacional de Medicina del Trabajo pondrán el foco en la salud mental y el trabajo\, desde las fases de prevención e intervención\, hasta el retorno e incorporación progresivos. \n\n\n\nPor último\, en un espacio moderado por BeOn y MentallyLab se expondrán las experiencias de Melía Hotel Internacional\, Eulen y Quirónprevención\, y cómo elevar la estrategia en la gestión del absentismo hacia la práctica real. \n\n\n\n\nDescargar programa \n\n\n\n\n\n\n\n\n\n\n\n\n\n\n\n\n\n\n\n\n\n\n\n\n\n\n\n\n\n\n\n\n\n\n\n\n\n\n\n\n\n\n\n\n\n\n\n\n\n\n\n\n\n\n\n\n\n\n\n\n\n\n\n\n\n\n\n\nAforo completo\n\n\n\nRegístrate en la lista de espera. \n\n\n\n\nRegístrate\n\n\n\n\n\n\n\n\n\n\n\n\n\n\nDefinir fecha y hora
URL:https://beon.red/evento/jornada-irsst-summit-absentismo-impacto-retos-y-soliciones/
LOCATION:Madrid\, Madrid\, Spain
CATEGORIES:Jornadas
ATTACH;FMTTYPE=image/webp:https://beon.red/wp-content/uploads/2026/03/Save-the-Date-Summit-Absentimo-IRSST.webp
END:VEVENT
END:VCALENDAR