BEGIN:VCALENDAR
PRODID:-//Google Inc//Google Calendar 70.9054//EN
VERSION:2.0
CALSCALE:GREGORIAN
METHOD:REQUEST
BEGIN:VTIMEZONE
TZID:Europe/Madrid
X-LIC-LOCATION:Europe/Madrid
BEGIN:DAYLIGHT
TZOFFSETFROM:+0100
TZOFFSETTO:+0200
TZNAME:CEST
DTSTART:19700329T020000
RRULE:FREQ=YEARLY;BYMONTH=3;BYDAY=-1SU
END:DAYLIGHT
BEGIN:STANDARD
TZOFFSETFROM:+0200
TZOFFSETTO:+0100
TZNAME:CET
DTSTART:19701025T030000
RRULE:FREQ=YEARLY;BYMONTH=10;BYDAY=-1SU
END:STANDARD
END:VTIMEZONE
BEGIN:VEVENT
DTSTART;TZID=Europe/Madrid:20230921T100000
DTEND;TZID=Europe/Madrid:20230921T130000
DTSTAMP:20230721T081842Z
ORGANIZER;CN=sara@prlinnovacion.com:mailto:sara@prlinnovacion.com
UID:6tv3g5ulvgna8mu9hqb7q8d7ih@google.com
ATTENDEE;CUTYPE=INDIVIDUAL;ROLE=REQ-PARTICIPANT;PARTSTAT=NEEDS-ACTION;RSVP=
 TRUE;CN=prlinnovacion@prlinnovacion.com;X-NUM-GUESTS=0:mailto:prlinnovacion
 @prlinnovacion.com
X-MICROSOFT-CDO-OWNERAPPTID:-559179900
CREATED:20230718T084213Z
DESCRIPTION:
LAST-MODIFIED:20230721T081840Z
LOCATION:
SEQUENCE:0
STATUS:CONFIRMED
SUMMARY:Internacionalización | Esquema ISO 31030 y Taller sobre Gestión de 
 Personas Desplazadas en el Extranjero
TRANSP:OPAQUE
END:VEVENT
END:VCALENDAR
