BEGIN:VCALENDAR
PRODID:-//Google Inc//Google Calendar 70.9054//EN
VERSION:2.0
CALSCALE:GREGORIAN
METHOD:REQUEST
BEGIN:VTIMEZONE
TZID:Europe/Madrid
X-LIC-LOCATION:Europe/Madrid
BEGIN:DAYLIGHT
TZOFFSETFROM:+0100
TZOFFSETTO:+0200
TZNAME:CEST
DTSTART:19700329T020000
RRULE:FREQ=YEARLY;BYMONTH=3;BYDAY=-1SU
END:DAYLIGHT
BEGIN:STANDARD
TZOFFSETFROM:+0200
TZOFFSETTO:+0100
TZNAME:CET
DTSTART:19701025T030000
RRULE:FREQ=YEARLY;BYMONTH=10;BYDAY=-1SU
END:STANDARD
END:VTIMEZONE
BEGIN:VEVENT
DTSTART;TZID=Europe/Madrid:20230927T100000
DTEND;TZID=Europe/Madrid:20230927T130000
DTSTAMP:20230714T105020Z
ORGANIZER;CN=sara@prlinnovacion.com:mailto:sara@prlinnovacion.com
UID:61sact9ahgp1ojnvgpl9r5a8li@google.com
ATTENDEE;CUTYPE=INDIVIDUAL;ROLE=REQ-PARTICIPANT;PARTSTAT=NEEDS-ACTION;RSVP=
 TRUE;CN=prlinnovacion@prlinnovacion.com;X-NUM-GUESTS=0:mailto:prlinnovacion
 @prlinnovacion.com
X-MICROSOFT-CDO-OWNERAPPTID:-1340726896
CREATED:20230714T072923Z
DESCRIPTION:
LAST-MODIFIED:20230714T105019Z
LOCATION:Universidad Europea de Madrid (Campus de Alcobendas)\, Av. de Fern
 ando Alonso\, 8\, 28108 Alcobendas\, Madrid\, España
SEQUENCE:1
STATUS:CONFIRMED
SUMMARY:Taller | Las claves de la salud relacional de los equipos
TRANSP:OPAQUE
END:VEVENT
END:VCALENDAR
