BEGIN:VCALENDAR
PRODID:-//Google Inc//Google Calendar 70.9054//EN
VERSION:2.0
CALSCALE:GREGORIAN
METHOD:REQUEST
BEGIN:VTIMEZONE
TZID:Europe/Madrid
X-LIC-LOCATION:Europe/Madrid
BEGIN:DAYLIGHT
TZOFFSETFROM:+0100
TZOFFSETTO:+0200
TZNAME:CEST
DTSTART:19700329T020000
RRULE:FREQ=YEARLY;BYMONTH=3;BYDAY=-1SU
END:DAYLIGHT
BEGIN:STANDARD
TZOFFSETFROM:+0200
TZOFFSETTO:+0100
TZNAME:CET
DTSTART:19701025T030000
RRULE:FREQ=YEARLY;BYMONTH=10;BYDAY=-1SU
END:STANDARD
END:VTIMEZONE
BEGIN:VEVENT
DTSTART;TZID=Europe/Madrid:20231020T120000
DTEND;TZID=Europe/Madrid:20231020T130000
DTSTAMP:20230830T101127Z
ORGANIZER;CN=sara@prlinnovacion.com:mailto:sara@prlinnovacion.com
UID:7reugdcss0u6ebs28o9fhvi29s@google.com
ATTENDEE;CUTYPE=INDIVIDUAL;ROLE=REQ-PARTICIPANT;PARTSTAT=NEEDS-ACTION;RSVP=
 TRUE;CN=prlinnovacion@prlinnovacion.com;X-NUM-GUESTS=0:mailto:prlinnovacion
 @prlinnovacion.com
X-MICROSOFT-CDO-OWNERAPPTID:435527061
CREATED:20230830T101112Z
DESCRIPTION:
LAST-MODIFIED:20230830T101126Z
LOCATION:
SEQUENCE:0
STATUS:CONFIRMED
SUMMARY:Webinar | Equipos descansados\, equipos motivados: cómo vivir mejor
  y prevenir bajas laborales
TRANSP:OPAQUE
END:VEVENT
END:VCALENDAR
